BEGIN:VCALENDAR
VERSION:2.0
PRODID:-//Mercados Medievales - ECPv6.15.20//NONSGML v1.0//EN
CALSCALE:GREGORIAN
METHOD:PUBLISH
X-WR-CALNAME:Mercados Medievales
X-ORIGINAL-URL:https://demercadosmedievales.info
X-WR-CALDESC:Eventos para Mercados Medievales
REFRESH-INTERVAL;VALUE=DURATION:PT1H
X-Robots-Tag:noindex
X-PUBLISHED-TTL:PT1H
BEGIN:VTIMEZONE
TZID:Europe/Madrid
BEGIN:DAYLIGHT
TZOFFSETFROM:+0100
TZOFFSETTO:+0200
TZNAME:CEST
DTSTART:20230326T010000
END:DAYLIGHT
BEGIN:STANDARD
TZOFFSETFROM:+0200
TZOFFSETTO:+0100
TZNAME:CET
DTSTART:20231029T010000
END:STANDARD
BEGIN:DAYLIGHT
TZOFFSETFROM:+0100
TZOFFSETTO:+0200
TZNAME:CEST
DTSTART:20240331T010000
END:DAYLIGHT
BEGIN:STANDARD
TZOFFSETFROM:+0200
TZOFFSETTO:+0100
TZNAME:CET
DTSTART:20241027T010000
END:STANDARD
BEGIN:DAYLIGHT
TZOFFSETFROM:+0100
TZOFFSETTO:+0200
TZNAME:CEST
DTSTART:20250330T010000
END:DAYLIGHT
BEGIN:STANDARD
TZOFFSETFROM:+0200
TZOFFSETTO:+0100
TZNAME:CET
DTSTART:20251026T010000
END:STANDARD
END:VTIMEZONE
BEGIN:VEVENT
DTSTART;TZID=Europe/Madrid:20241026T160000
DTEND;TZID=Europe/Madrid:20241026T220000
DTSTAMP:20260420T113721
CREATED:20241022T072545Z
LAST-MODIFIED:20241022T072949Z
UID:10001852-1729958400-1729980000@demercadosmedievales.info
SUMMARY:MERCADO GRATUITO Mercado Artesanal de Fraga (Huesca) 2024
DESCRIPTION:Solicitar una parada para mostrar y vender productos artesanos de fabricación propia en el III Mercado Artesanal de Fraga.  \n\n\n\n\n\n\nCómo Solicitar una parada\nInscripción en el Mercado de Artesanos\n \nSolicitar una parada para mostrar y vender productos artesanos de fabricación propia en el III Mercado Artesanal de Fraga\, llama al Telefono 654.889.103 \n Este Mercado está organizado por el Excmo. Ayuntamiento de Fraga y con el apoyo de Linares & Gòdia Producciones.   \nEste mercado esta enclavado dentro de la programación de la III fiesta del Coc de Fraga  \nInformación del Organizador\nLa empresa organizadora es  LINARES GODIA PRODUCCIONES \nInformación e Inscripciones: mercados@linaresgodiaproducciones.comTeléfono : 654.889.103 \nOtros eventosConsulta Aquí otras ferias y mercados que organizará la empresa  Linares Godia Producciones \nOtros mercados temáticos y FeriasSi quieres conocer cuando se realizan más ferias y mercados\, puedes consultarlos visitando nuestro  Calendario de Eventos \n  \n\n\n\n\n\n\n\nOrganizador\n\n\n\n\n\nLocalización\n\n\n\nFraga es un municipio y ciudad española del sureste de la provincia de Huesca\, en la comunidad autónoma de Aragón. Ubicada en el último tramo del valle del río Cinca\, es cabeza de partido judicial y capital de la comarca del Bajo Cinca. El término municipal cuenta con 15 250 habitantes.
URL:https://demercadosmedievales.info/mercadomedieval/mercado-gratuito-mercado-artesanal-de-fraga-huesca-2024/
LOCATION:Fraga (Huesca) (***)\, Fraga\, Huesca\, 22520\, España
CATEGORIES:Huesca,Mercado Artesanal
ATTACH;FMTTYPE=image/jpeg:https://demercadosmedievales.info/wp-content/uploads/2024/10/Mercado_artesanal_de_Fraga.jpg
ORGANIZER;CN="Linares Godia Producciones":MAILTO:mercados@linaresgodiaproducciones.com
GEO:41.5234875;0.3404468
END:VEVENT
END:VCALENDAR