BEGIN:VCALENDAR
VERSION:2.0
PRODID:-//Mercados Medievales - ECPv6.15.20//NONSGML v1.0//EN
CALSCALE:GREGORIAN
METHOD:PUBLISH
X-ORIGINAL-URL:https://demercadosmedievales.info
X-WR-CALDESC:Eventos para Mercados Medievales
REFRESH-INTERVAL;VALUE=DURATION:PT1H
X-Robots-Tag:noindex
X-PUBLISHED-TTL:PT1H
BEGIN:VTIMEZONE
TZID:Europe/Madrid
BEGIN:DAYLIGHT
TZOFFSETFROM:+0100
TZOFFSETTO:+0200
TZNAME:CEST
DTSTART:20250330T010000
END:DAYLIGHT
BEGIN:STANDARD
TZOFFSETFROM:+0200
TZOFFSETTO:+0100
TZNAME:CET
DTSTART:20251026T010000
END:STANDARD
BEGIN:DAYLIGHT
TZOFFSETFROM:+0100
TZOFFSETTO:+0200
TZNAME:CEST
DTSTART:20260329T010000
END:DAYLIGHT
BEGIN:STANDARD
TZOFFSETFROM:+0200
TZOFFSETTO:+0100
TZNAME:CET
DTSTART:20261025T010000
END:STANDARD
BEGIN:DAYLIGHT
TZOFFSETFROM:+0100
TZOFFSETTO:+0200
TZNAME:CEST
DTSTART:20270328T010000
END:DAYLIGHT
BEGIN:STANDARD
TZOFFSETFROM:+0200
TZOFFSETTO:+0100
TZNAME:CET
DTSTART:20271031T010000
END:STANDARD
END:VTIMEZONE
BEGIN:VEVENT
DTSTART;TZID=Europe/Madrid:20260523T000000
DTEND;TZID=Europe/Madrid:20260523T235959
DTSTAMP:20260425T230750
CREATED:20260201T104656Z
LAST-MODIFIED:20260201T104657Z
UID:10003120-1779494400-1779580799@demercadosmedievales.info
SUMMARY:Nuevo: Fiesta de la Historia de Torija 2026 Mercado Medieval
DESCRIPTION:La Fiesta de la Historia de Torija se celebra el 23 de mayo de 2026 con recreación histórica\, mercado medieval y música. \n\n\n\n\n\n\n\n \n\n\n\n \n\n\n\nFiesta de la Historia de Torija 2026 con Mercado Medieval\n\n\n\nÍndice Fiesta de la Historia de Torija 2026 con Mercado MedievalInformación de la Fiesta de la Historia de TorijaFiesta de la Historia de TorijaTorija\, historia viva a los pies de su castilloMercados Medievales 2026: Fechas y Localidades ConfirmadasPara más información puedes consultar :Si quieres seguirnos en las Redes Sociales\, aquí te dejamos los enlaces :En Resumen…\n\n\n\n \n\n\n\nInformación de la Fiesta de la Historia de Torija \n\n\n\n\nEvento :  Mercado Medieval\n\n\n\nFecha: 23 de Mayo de  2026 \n\n\n\nPlazo de inscripción : Hasta completar el numero de plazas\n\n\n\nLugar: en el centro de la población\n\n\n\nPoblación:  Torija ( GUADALAJARA ) Torija es un municipio y localidad española de la provincia de Guadalajara\, en la comunidad autónoma de Castilla-La Mancha.\n\n\n\nPeriodicidad: Anual\n\n\n\nOferta a exponer:  Alimentación\, Gastronomía\, Artesanía y complementos.\n\n\n\nServicios que proporcionara el organizador: Agua\, Luz y Vigilancia Nocturna. Animación.\n\n\n\nEntidad organizadora:  Michel (Professional History)\n\nContacto : phartesanos@gmail.com\n\n\n\n\n\nPrecio : Gratuito\n\n\n\n\n\n\n\n\n \n\n\n\nFiesta de la Historia de Torija\n\n\n\nPor las calles de la villa volverá a pasear la memoria de los nobles y señores que hicieron grande a su castillo y a su iglesia; junto a sus piedras se oirá de nuevo el quehacer diario de los artesanos\, comerciantes y campesinos que con su trabajo hicieron prósperas estas tierras. \n\n\n\nY todo ello porque durante un día entero\, vecinos y visitantes vestirán trajes de época y engalanarán sus casas para dar la bienvenida a mesoneros\, bufones\, juglares\, artesanos\, músicos\, cerrajeros\, bailarinas\, artistas\, magos y meigas. \n\n\n\nEntre las actividades posibles: mercado medieval\, exposiciones\,  tiendas de caballero\, talleres artesanos interactivos\, talleres infantiles\, exposición de rapaces\, animaciones musicales\, visitas guiadas\, etc. web del ayuntamiento \n\n\n\n\n\n\n\n \n\n\n\nTorija\, historia viva a los pies de su castillo\n\n\n\nTorija es un municipio de la provincia de Guadalajara\, conocido por su imponente castillo medieval y su destacado patrimonio histórico. Su vinculación con la historia y la cultura lo convierten en un enclave ideal para la celebración de eventos de recreación histórica y mercados medievales. \n\n\n\n\n\n \n\n\n\n \n\n\n\nMercados Medievales 2026: Fechas y Localidades Confirmadas\n\n\n\n\n\n\n\nEspaña cuenta con una de las agendas de ferias temáticas más ricas del mundo\, combinando gastronomía tradicional\, artesanía de autor y espectáculos en vivo. Si buscas un plan diferente para el fin de semana o quieres conocer el patrimonio de una forma única\, esta es tu guía definitiva. Leer más \n\n\n\nPara más información puedes consultar :\n\n\n\n\nPuedes Consultar en esté enlace las Ferias y Mercados en España\n\n\n\nHaz clic en ESTE enlace :  Conoce los Organizadores de Mercados y Ferias\n\n\n\n\nSi quieres seguirnos en las Redes Sociales\, aquí te dejamos los enlaces :\n\n\n\n\nTelegram\n\n\n\nNewsletter\n\n\n\nWhatsApp\n\n\n\nInstagram\n\n\n\nPor supuesto en Facebook\n\n\n\n\nEn Resumen…
URL:https://demercadosmedievales.info/mercadomedieval/fiesta-de-la-historia-en-torija-2026-mercado-medieval/
LOCATION:Torija (Guadalajara) (***)\, en el centro histórico\, Torija\, Guadalajara\, España
CATEGORIES:Castilla La Mancha,Guadalajara,Mercado Medieval
ATTACH;FMTTYPE=image/jpeg:https://demercadosmedievales.info/wp-content/uploads/2026/01/fiesta_historial_torija_fb.jpg
ORGANIZER;CN="Michel - Recreaciones hist%C3%B3ricas eventos y espect%C3%A1culos":MAILTO:phartesanos@gmail.com
GEO:40.7433158;-3.0313342
X-APPLE-STRUCTURED-LOCATION;VALUE=URI;X-ADDRESS=Torija (Guadalajara) (***) en el centro histórico Torija Guadalajara España;X-APPLE-RADIUS=500;X-TITLE=en el centro histórico:geo:-3.0313342,40.7433158
END:VEVENT
END:VCALENDAR