BEGIN:VCALENDAR
VERSION:2.0
PRODID:-//Mercados Medievales - ECPv6.15.20//NONSGML v1.0//EN
CALSCALE:GREGORIAN
METHOD:PUBLISH
X-ORIGINAL-URL:https://demercadosmedievales.info
X-WR-CALDESC:Eventos para Mercados Medievales
REFRESH-INTERVAL;VALUE=DURATION:PT1H
X-Robots-Tag:noindex
X-PUBLISHED-TTL:PT1H
BEGIN:VTIMEZONE
TZID:Europe/Madrid
BEGIN:DAYLIGHT
TZOFFSETFROM:+0100
TZOFFSETTO:+0200
TZNAME:CEST
DTSTART:20230326T010000
END:DAYLIGHT
BEGIN:STANDARD
TZOFFSETFROM:+0200
TZOFFSETTO:+0100
TZNAME:CET
DTSTART:20231029T010000
END:STANDARD
BEGIN:DAYLIGHT
TZOFFSETFROM:+0100
TZOFFSETTO:+0200
TZNAME:CEST
DTSTART:20240331T010000
END:DAYLIGHT
BEGIN:STANDARD
TZOFFSETFROM:+0200
TZOFFSETTO:+0100
TZNAME:CET
DTSTART:20241027T010000
END:STANDARD
BEGIN:DAYLIGHT
TZOFFSETFROM:+0100
TZOFFSETTO:+0200
TZNAME:CEST
DTSTART:20250330T010000
END:DAYLIGHT
BEGIN:STANDARD
TZOFFSETFROM:+0200
TZOFFSETTO:+0100
TZNAME:CET
DTSTART:20251026T010000
END:STANDARD
END:VTIMEZONE
BEGIN:VEVENT
DTSTART;TZID=Europe/Madrid:20240830T000000
DTEND;TZID=Europe/Madrid:20240901T235959
DTSTAMP:20260422T220803
CREATED:20240704T111036Z
LAST-MODIFIED:20240829T103452Z
UID:10001527-1724976000-1725235199@demercadosmedievales.info
SUMMARY:Festa da Istoria Mercado medieval de Ribadavia -Ourense 2024
DESCRIPTION:Festa da Istoria\,  es el Mercado medieval de la villa de Ribadavia\, en Ourense (Galicia)\, que se celebra del 30 de  agosto al 01 de septiembre. \n \nFesta da Istoria\nLa concurrencia de artesanos especializados en los diferentes saberes y oficios forma parte esencial en el paisaje de la Festa da Istoria\, pues la recuperación de tradiciones perdidas es uno de los objetivos buscados por los organizadores de la Istoria: recuperar y combatir el olvido de estas actividades por parte de las nuevas generaciones. \nTags:  Feria Medieval\,Convocatoria\,organizador\,montaje\,inscripciones\,cuando\,donde\,localización\,2024\,España \nCartel\n \nProgramación \n \nInformación básica del Mercado\nRecreación medieval donde están representadas las diferentes culturas\, religiones\, oficios y clases sociales de aquella época.Cursos\, talleres artesanales\, recuperación de juegos populares\, exposiciones\, etc. \nFecha de celebración Los dias 30 de agosto al 01 de septiembre del  2024 \nDonde se realizaEn la localidad de Ribadavia  que pertenece a la provincia de  OURENSE \nInformación del Organizador\nTEMPUS AEVUS es la empresa encargada de la organización y gestión de paradas/puestos de venta.Encargada de la organización y gestión de paradas/puestos de venta\, además de la decoración romana así como también de  la ambientación. \nComo participar\nPara inscribirte y participar en este debes escribir un a email a tempusaevus@gmail.com con los siguientes datos : \nMERCADO-S QUE ME INTERESAN:NOMBRE:APELLIDOS:DIRECCION COMPLETA:DNI O CIF:N.º MOVILCORREO ELECTRONICO:ARTICULO A LA VENTA:METROS DEL PUESTO (INCLUIR FONDO):POTENCIA DE LUZ QUE NECESITA:MATRICULA VEHICULOOBSERVACIONES:Teléfono para información\, consulta e inscripciones : +34 622712382 \nMás fechas de La CoruñaPuedes conocer mas ferias y mercados en está provincia\, consultando nuestra sección de Eventos en Ourense \nOtros eventosConsulta Aquí otras ferias y mercados que organizará la empresa Tempus Aevus \nOtros mercados temáticos y FeriasSi quieres conocer cuando se realizan más ferias y mercados\, puedes consultarlos visitando nuestro  Calendario de Eventos \nFESTA DA ISTORIA\nLa Festa da Istoria se celebra año tras año desde 1989 cuando la Escola Obradoiro de Santo André decidió rescatar una antigua celebración que antecedía a las fiestas mayores de la Virgen del Portal. \nAquella celebración\, denominada Pantomima da Istoria según los eruditos locales Leopoldo Meruéndano y Samuel Eiján\, representaba  “un hecho de la historia del pueblo hebreo”  (Meruéndano) o  “un hecho histórico elegido de antemano consistente por lo general en una batalla entre unas u otras tropas” (S. Eiján). \nRecuperar la fue un esfuerzo del pueblo\, y el pueblo sigue representándola todos los años\, contando para ello con más de quinientos voluntarios agrupados desde la desaparición de la Escola Taller de Santo André en una organización vecinal desde el año 1991\, que pasó a denominarse Coordinadora da Festa da Istoria\, legalmente constituida como Asociación en el año 1996\, para constituir la Fundación Festa da Istoria en el año 1998. \nEste esfuerzo anual\, no se queda solo representado en el último sábado de agosto\, si no que durante todo el año diferentes actividades se llevan a cabo por la organización en cursos\, concursos\, talleres\, presentaciones\, etc.\, posibilitando que durante todo el año el evento cultural tenga vida y esté presente entre nosotros. \nSon varios los reconocimientos por este evento festivo: en 1997 es declarada de Interés Turístico Nacional por el Gobierno Central y el premio del Canal de Historia en el año 2000. Miembro fundador de la Federación Española de Fiestas y Recreaciones Históricas\, perteneciendo en la actualidad también a la Federación Europea de Fiestas Históricas. \nUn marco que legitima el trabajo vecinal\, proporcionando el estímulo necesario para continuar nuestra labor. \nSobre Ribadavia\, Ourense\nRibadavia es un ayuntamiento gallego de la provincia de Ourense y pertenece a la comarca del Ribeiro\, muy famosa por sus vinos. La etimología de su nombre significa “la ribera del río Avia”\, en su versión romana Abobriga o latina Rippa Avie. La Comarca del Ribeiro se encuentra entre las sierras de Faeo y el Suido\, donde conflúyen los valles del Miño\, Avia\, Arnoia y Barbantiño. \nEsa serie de valles entre los cuales se define Ribadavia que contrastan con las tierras circundantes muchas de las cuales son destinadas al viñedo. Rodeada de relieves montañosos y al resguardo de la influencia oceánica\, el cultivo de la vid es la característica dominante del paisaje siendo una tierra regada por una densa red fluvial con un microclima seco y cálido pero con humedad durante el invierno. \nEl área urbana descansa en el lado derecho del río Miño y en el último tramo del río Avia. \nCalendario 2024\nSobre los Mercados Medievales\nLas Ferias y mercados medievales son eventos populares que recrean el ambiente y la atmósfera de la Edad Media. Estos eventos suelen tener lugar en diferentes partes del mundo y atraen a numerosos visitantes que desean sumergirse en la historia y disfrutar de una experiencia única. Las ferias y mercados medievales suelen tener una gran cantidad de visitantes\, ya que ofrecen una oportunidad única de sumergirse en la historia y disfrutar de una experiencia diferente. También son muy populares entre los amantes de la cultura medieval\, los aficionados a la historia y las familias que buscan una actividad divertida y educativa. Consulta nuestro amplio calendario de eventos \n 
URL:https://demercadosmedievales.info/mercadomedieval/festa-da-istoria-mercado-medieval-de-ribadavia-ourense-2024/
LOCATION:Ribadavia (Ourense) (***)\, Ribadavia\, Province of Ourense
CATEGORIES:Cartel,Mercado Medieval,Ourense,Programación
ATTACH;FMTTYPE=image/jpeg:https://demercadosmedievales.info/wp-content/uploads/2024/07/festa_da_istoria_f.jpg
ORGANIZER;CN="Tempus Aevus":MAILTO:tempusaevus@gmail.com
GEO:42.288847;-8.1420491
END:VEVENT
END:VCALENDAR