BEGIN:VCALENDAR
VERSION:2.0
PRODID:-//Mercados Medievales - ECPv6.15.20//NONSGML v1.0//EN
CALSCALE:GREGORIAN
METHOD:PUBLISH
X-ORIGINAL-URL:https://demercadosmedievales.info
X-WR-CALDESC:Eventos para Mercados Medievales
REFRESH-INTERVAL;VALUE=DURATION:PT1H
X-Robots-Tag:noindex
X-PUBLISHED-TTL:PT1H
BEGIN:VTIMEZONE
TZID:Europe/Madrid
BEGIN:DAYLIGHT
TZOFFSETFROM:+0100
TZOFFSETTO:+0200
TZNAME:CEST
DTSTART:20240331T010000
END:DAYLIGHT
BEGIN:STANDARD
TZOFFSETFROM:+0200
TZOFFSETTO:+0100
TZNAME:CET
DTSTART:20241027T010000
END:STANDARD
BEGIN:DAYLIGHT
TZOFFSETFROM:+0100
TZOFFSETTO:+0200
TZNAME:CEST
DTSTART:20250330T010000
END:DAYLIGHT
BEGIN:STANDARD
TZOFFSETFROM:+0200
TZOFFSETTO:+0100
TZNAME:CET
DTSTART:20251026T010000
END:STANDARD
BEGIN:DAYLIGHT
TZOFFSETFROM:+0100
TZOFFSETTO:+0200
TZNAME:CEST
DTSTART:20260329T010000
END:DAYLIGHT
BEGIN:STANDARD
TZOFFSETFROM:+0200
TZOFFSETTO:+0100
TZNAME:CET
DTSTART:20261025T010000
END:STANDARD
END:VTIMEZONE
BEGIN:VEVENT
DTSTART;TZID=Europe/Madrid:20250125T000000
DTEND;TZID=Europe/Madrid:20250126T235959
DTSTAMP:20260420T012325
CREATED:20250104T083507Z
LAST-MODIFIED:20250119T193121Z
UID:10002073-1737763200-1737935999@demercadosmedievales.info
SUMMARY:459ª Feria de San Vicente de L'Espluga de Francoli 2025 (Tarragona)
DESCRIPTION:Feria de San Vicente – El fuego nuestro origen \n\n\nDescubre la 459ª Feria de San Vicente en L’Espluga de Francolí\, Tarragona\, el 25 y 26 de enero de 2025. Artesanía\, gastronomía y tradición catalana.  \n\n\n\n\n\n\n \n\n\n\nFeria de San Vicente – El fuego nuestro origen 2025\n\n\n\nDel 23 al 26 de enero de 2025\, L’Espluga de Francolí acogerá la 459ª edición de la Feria de San Vicente – El Foc nuestro origen 2025. Esta edición contará con un gran abanico de actividades\, destacando el nuevo espacio vitivinícola y gastronómico “SIN FILTROS” y el homenaje a la estirpe de forjadores de Cal Biel. \n\n\n\nUno de los puntos fuertes de este año será el espacio “SIN FILTROS”\, ubicado en la plaza de la Iglesia durante todo el fin de semana donde se podrán degustar vinos del Gremio de Viñadores Libres de la Conca de Barberà\, cervezas artesanas de la Renaixença y gastronomía de proximidad. Este espacio se presentará el mismo viernes 24 de enero en la Biblioteca Municipal Mossèn Ramon Muntanyola con la proyección del documental «LA CONTRA ETIQUETA\, lo que se ve y lo que se bebe»\, seguida de una mesa redonda con viñadores del Gremio de Viñadores Libres y una cata de vinos. \n\n\n\nOtro de los puntos fuertes de esta 459 edición será el homenaje a la estirpe de forjadores de Cal Biel\, organizado por los Amigos de la Forja con la participación del historiador Antoni Carreras y el profesor honorífico de la UB Pere Molera. Este acto se llevará a cabo el sábado 25 de enero a las 11 de la mañana\, en el Museu Terra. \n\n\n\nUn fin de semana lleno de actividades \n\n\n\nDurante todo el fin de semana\, la plaza de la Iglesia y la calle Lluís Carulla con sus adyacentes serán el recinto ferial con puestos de productos agroalimentarios\, artesanales\, textiles\, y mucho más. El punto informativo de la Fira se encontrará en la plaza de la Iglesia. En concreto\, el sábado\, a 2/4 de 12 de la mañana\, Dª Raquel Sans i Guerra\, vicepresidenta primera del Parlament de Catalunya\, inaugurará oficialmente el recinto ferial con la participación de autoridades y representantes locales. \n\n\n\nPor la tarde\, habrá demostraciones de forja artística y un espectáculo de fuego a cargo de los Diablos Kids y de los Jabalíes de la Aleación de Diablos de la Espluga de Francolí. \n\n\n\nLa música también estará presente con actuaciones y sesiones de DJ durante todo el fin de semana\, incluyendo la Noche Joven de la Feria en el local de Auvënguen el viernes a partir de las 10.30 de la noche. El sábado por la noche será el turno de Noche de música de la Fira en el Pub Xenon. La Asociación de Jubilados y Pensionistas organiza una merienda con chocolate y torta\, amenizada con música en directo de los jóvenes espluguines Bernat Morlans y Gerard Bel. Por el nuevo espacio SIN FILTROS pasarán los disc-jockeys locales\, Club 8 y Mad Go. \n\n\n\nEntre otras actividades\, también habrá el desayuno popular del sábado y domingo con salchichón a la brasa\, caldo y pan tostado\, la presentación de la novela El secreto de la Armonía de Lourdes Olivé Bonet y el concurso de corte con motosierra . \n\n\n\nComo iniciativa inclusiva\, las atracciones de feria ofrecerán una hora sin música para los niños con hipersensibilidad sensorial\, favoreciendo así la participación de todos. \n\n\n\n \n\n\n\n\n\n\n\n\n\n\n\nInformación básica de la Feria\n\n\n\n📅 Fecha de Celebración:Los días 25 y 26 de Enero de 2025 \n\n\n\n📍 Dónde se realiza:En la localidad de L’Espluga de Francolí\, que pertenece a la provincia de TARRAGONA  / L’Espluga de Francolí / Espluga de Francolí​​​ es un municipio español de la provincia de Tarragona\, situado en la comarca catalana de la Cuenca de Barberá. \n\n\n\n🗺️ Ubicación del Evento:Estará ubicado en el centro del municipio. \n\n\n\nOrganizador de la Feria\n\n\n\nEntidad organizadora:  Ajuntament de l’Espluga de FrancolíDirección: Plaça de la Vila\, 1 43440 l’Espluga de FrancolíTeléfono: 977 87 02 27web : Ajuntament EsplugaC/e: ajuntament@esplugadefrancoli.cat  //  fires@esplugadefrancoli.cat \n\n\n\n\nLa convocatoria de este evento se abre en Octubre y se cierra en Noviembre del año anterior \n\n\n\n\nHistoria de la feria\n\n\n\nLa Feria de San Vicente – El fuego nuestro origen\, se convierte desde el año 1565 en un punto de intercambio comercial de carácter agrícola en la Espluga de Francolí. Un evento ferial con más de cuatrocientos cincuenta años de historia\, que desde 2020 cuenta con un relato cultural\, comercial\, y de interés turístico basado en el elemento del fuego\, que singulariza la muestra. \n\n\n\nEste evento cuatricentenario\, que se celebra anualmente en el municipio\, coincidiendo con la festividad de San Vicente\, el día 22 de enero\, siendo la referencia en el calendario el cuarto sábado de enero.  \n\n\n\n\nEsta Feria recoge todavía una oferta comercial multisectorial\, agrícola\, con productos de proximidad y artesanía. \n\n\n\n\nA lo largo de todo el fin de semana\, en la Fira podemos encontrar varios actos. Desde 2020 un municipio o comarca está invitado con una festividad o elemento de la cultura popular relacionado con el fuego. En la primera edición\, en 2020\, fueron las Fallas de los Pirineos\, declaradas Patrimonio Inmaterial de la Humanidad\, la festividad invitada\, con la asistencia de representantes de la Alta Ribagorça y la Asociación de Fallaires del Pirineo. \n\n\n\nTambién podemos encontrar otros actos como los desayunos populares\, dentro del marco de la Fiesta Comarcal del Aceite y el Vino Novel incluida en los actos. Un espacio dedicado a los oficios de arte\, demostración de corte y concurso de motosierra. Además\, el programa de actividades incluye talleres para niños\, exposiciones\, conferencias\, conciertos y actos con la participación de las entidades espluguinas. \n\n\n\n\n\n\n\nFerias y Mercados en la misma Provincia\n\n\n\nExplora otros eventos en tu zona visitando nuestra sección de Eventos de LA PROVINCIA DE TARRAGONA\, donde encontrarás información actualizada sobre ferias\, mercados y actividades para todas las edades. \n\n\n\n \n\n\n\n\n\n\n\nEventos del Organizador\n\n\n\nDescubre las próximas ferias y mercados en la agenda del organizador: Ajuntament de l’Espluga de Francolí👉 Consulta Aquí para acceder al calendario de eventos temáticos. \n\n\n\n  \n\n\n\n\n\n\n\nCalendario de Mercados Temáticos y Ferias\n\n\n\n¿Quieres saber cuándo y dónde se realizarán más ferias y mercados?Visita nuestro Calendario de Eventos para obtener detalles de: \n\n\n\n\nCalendario 2025: Planifica con anticipación y no te pierdas ninguna cita.\n\n\n\n\n\n\n\n\nMercados Medievales\n\n\n\nLas ferias medievales son auténticos viajes en el tiempo. Estos eventos recrean la atmósfera de la Edad Media. Leer más… \n\n\n\n \n\n\n\n\n\n\n\n\nMERCADOS MEDIEVALES Y TEMATICOS \n\n\n\nInformación de los próximos mercados medievales\, temáticos\, de artesanía a nivel nacional además de ofrecer información sobre servicios de alquiler de casetas\, venta de paradas\, cooperativas\, decoración y más. \n\n\n\nwww.mercados medievales.net \n\n\n\n\nInformación practica\n\n\n\n\n\nOrganiza \n\n\n\n\n\nLugar de celebración\n\n\n\nEspluga de Francolí​​​ es un municipio español de la provincia de Tarragona\, situado en la comarca catalana de la Cuenca de Barberá.
URL:https://demercadosmedievales.info/mercadomedieval/459a-feria-de-san-vicente-de-lesplugi-de-francoli-2025-tarragona/
LOCATION:L’Espluga de Francoli (Tarragona)\, L'Espluga de Francoli\, Tarragona\, España
CATEGORIES:Multisectorial,Programación,Tarragona
ATTACH;FMTTYPE=image/jpeg:https://demercadosmedievales.info/wp-content/uploads/2025/01/Programa-Curt-Fira-Sant-Vicenc-25-21_page-0001.jpg
ORGANIZER;CN="Ajuntament L%E2%80%99Espluga de Francoli":MAILTO:fires@esplugadefrancoli.cat
END:VEVENT
END:VCALENDAR