BEGIN:VCALENDAR
VERSION:2.0
PRODID:-//Mercados Medievales - ECPv6.15.20//NONSGML v1.0//EN
CALSCALE:GREGORIAN
METHOD:PUBLISH
X-ORIGINAL-URL:https://demercadosmedievales.info
X-WR-CALDESC:Eventos para Mercados Medievales
REFRESH-INTERVAL;VALUE=DURATION:PT1H
X-Robots-Tag:noindex
X-PUBLISHED-TTL:PT1H
BEGIN:VTIMEZONE
TZID:Europe/Madrid
BEGIN:DAYLIGHT
TZOFFSETFROM:+0100
TZOFFSETTO:+0200
TZNAME:CEST
DTSTART:20230326T010000
END:DAYLIGHT
BEGIN:STANDARD
TZOFFSETFROM:+0200
TZOFFSETTO:+0100
TZNAME:CET
DTSTART:20231029T010000
END:STANDARD
BEGIN:DAYLIGHT
TZOFFSETFROM:+0100
TZOFFSETTO:+0200
TZNAME:CEST
DTSTART:20240331T010000
END:DAYLIGHT
BEGIN:STANDARD
TZOFFSETFROM:+0200
TZOFFSETTO:+0100
TZNAME:CET
DTSTART:20241027T010000
END:STANDARD
BEGIN:DAYLIGHT
TZOFFSETFROM:+0100
TZOFFSETTO:+0200
TZNAME:CEST
DTSTART:20250330T010000
END:DAYLIGHT
BEGIN:STANDARD
TZOFFSETFROM:+0200
TZOFFSETTO:+0100
TZNAME:CET
DTSTART:20251026T010000
END:STANDARD
END:VTIMEZONE
BEGIN:VEVENT
DTSTART;TZID=Europe/Madrid:20241017T000000
DTEND;TZID=Europe/Madrid:20241020T235959
DTSTAMP:20260422T042613
CREATED:20240822T115412Z
LAST-MODIFIED:20240822T120409Z
UID:10001641-1729123200-1729468799@demercadosmedievales.info
SUMMARY:I Feria Micológica Y Gastronómica de Cuenca 2024
DESCRIPTION:1ra edición de la Feria micológica y gastronómica en el Parque San Julián de Cuenca capital\, los días 17 al 20 de octubre del 2024.  \n\n\n\n\n\n\nI Feria Micológica Y Gastronómica\n\n\n\nSolo productos de alimentación y tabernas\n\n\n\n \n\n\n\nCartel\n\n\n\nProximamente \n\n\n\nProgramación \n\n\n\nProximamente \n\n\n\n** Próximamente dispondremos del cartel y del programa con las actividades previstas. \n\n\n\nInformación básica del Mercado\n\n\n\nFecha de celebraciónLos días 17\, 18\, 19 y 20 de octubre del 2024 \n\n\n\nDonde se realiza \n\n\n\nEn el Parque San Julián  de Cuenca capital \n\n\n\nMontaje:Jueves 17 de octubre a las 9 de la mañana. \n\n\n\nInformación del Organizador\n\n\n\nAsociación Don Quijote y Dulcinea \n\n\n\nWhatsApp / Teléfono : 659 12 70 44\, la persona de contacto es Gregorio \n\n\n\nMás fechasPuedes conocer mas ferias y mercados en está provincia\, consultando nuestra sección de Eventos en Cuenca \n\n\n\nOtros eventos del mismo organizadorConsulta Aquí otras ferias y mercados que organizará la Asociación Don Quijote y Dulcinea \n\n\n\notros mercados temáticos y FeriasSi quieres conocer cuando se realizan más ferias y mercados\, puedes consultarlos visitando nuestro  Calendario de Eventos \n\n\n\nAcerca de Cuenca\n\n\n\nCuenca es una ciudad arraigada en las montañas de la zona centro-este de España. Originalmente fundada por los árabes\, sigue conservando el recinto histórico amurallado\, con sus empinadas calles empedradas y sus ruinas de castillos medievales. Sujetas a la pared de roca calcárea\, las famosas y bien conservadas «casas colgadas» están situadas sobre los ríos Júcar y Huécar. Estas construcciones voladizas dan la impresión de estar agarradas a los riscos del desfiladero del Huécar. \n\n\n\nCalendario 2024\n\n\n\nSobre los Mercados Medievales\n\n\n\nLas ferias medievales son eventos que recrean la atmósfera de la Edad Media. Por lo general\, se llevan a cabo en pueblos o ciudades\, y presentan puestos de vendedores que venden artesanías\, alimentos y bebidas. También puede haber entretenimiento\, como justas\, música y baile. \n\n\n\nTags:  Feria micológica y gastronómica\,Cuenca\,Castilla La Mancha\,Feria Medieval\,Convocatoria\,2024\,España  \n  \n\n\n\n\n\n\n\nDetalles del organizador\n\n\n\n\n\nMapa de localización
URL:https://demercadosmedievales.info/mercadomedieval/i-feria-micologica-y-gastronomica-de-cuenca-2024/
LOCATION:Cuenca capital (Parque de San Julián) (***)\, Parque de San Julian\, Cuenca\, Cuenca\, España
CATEGORIES:Cuenca,Feria micológica y gastronómica
ATTACH;FMTTYPE=image/jpeg:https://demercadosmedievales.info/wp-content/uploads/2024/08/micologica_gastronomica_cuenca_f.jpg
GEO:40.0732755;-2.1347081
X-APPLE-STRUCTURED-LOCATION;VALUE=URI;X-ADDRESS=Cuenca capital (Parque de San Julián) (***) Parque de San Julian Cuenca Cuenca España;X-APPLE-RADIUS=500;X-TITLE=Parque de San Julian:geo:-2.1347081,40.0732755
END:VEVENT
END:VCALENDAR