BEGIN:VCALENDAR
VERSION:2.0
PRODID:-//Mercados Medievales - ECPv6.15.20//NONSGML v1.0//EN
CALSCALE:GREGORIAN
METHOD:PUBLISH
X-ORIGINAL-URL:https://demercadosmedievales.info
X-WR-CALDESC:Eventos para Mercados Medievales
REFRESH-INTERVAL;VALUE=DURATION:PT1H
X-Robots-Tag:noindex
X-PUBLISHED-TTL:PT1H
BEGIN:VTIMEZONE
TZID:Europe/Madrid
BEGIN:DAYLIGHT
TZOFFSETFROM:+0100
TZOFFSETTO:+0200
TZNAME:CEST
DTSTART:20240331T010000
END:DAYLIGHT
BEGIN:STANDARD
TZOFFSETFROM:+0200
TZOFFSETTO:+0100
TZNAME:CET
DTSTART:20241027T010000
END:STANDARD
BEGIN:DAYLIGHT
TZOFFSETFROM:+0100
TZOFFSETTO:+0200
TZNAME:CEST
DTSTART:20250330T010000
END:DAYLIGHT
BEGIN:STANDARD
TZOFFSETFROM:+0200
TZOFFSETTO:+0100
TZNAME:CET
DTSTART:20251026T010000
END:STANDARD
BEGIN:DAYLIGHT
TZOFFSETFROM:+0100
TZOFFSETTO:+0200
TZNAME:CEST
DTSTART:20260329T010000
END:DAYLIGHT
BEGIN:STANDARD
TZOFFSETFROM:+0200
TZOFFSETTO:+0100
TZNAME:CET
DTSTART:20261025T010000
END:STANDARD
END:VTIMEZONE
BEGIN:VEVENT
DTSTART;TZID=Europe/Madrid:20250501T000000
DTEND;TZID=Europe/Madrid:20250504T235959
DTSTAMP:20260423T172644
CREATED:20250205T105915Z
LAST-MODIFIED:20250427T142248Z
UID:10002176-1746057600-1746403199@demercadosmedievales.info
SUMMARY:Programación : XXVIII Feria Medieval de El Álamo\, Madrid
DESCRIPTION:Un año más\, El Álamo (Madrid) se convierte en el epicentro de la Edad Media con la celebración de la XXVIII Feria Medieval\, uno de los eventos más emblemáticos y esperados de la región. \n\n\n\n\n\n\n\nXXVIII FERIA MEDIEVAL\n\n\n\nDurante varios días\, las calles y plazas del municipio se transformarán en un auténtico escenario medieval\, ofreciendo a los visitantes una experiencia única. Así\, quienes acudan podrán recorrer un amplio mercado de artesanía\, asistir a talleres en vivo de antiguos oficios y disfrutar de espectáculos de música\, danza medieval y torneos de caballeros. \n\n\n\nAdemás\, la feria incluirá animados pasacalles de juglares y bufones\, una variada oferta de gastronomía tradicional y numerosas actividades infantiles\, pensadas para que toda la familia se sumerja en el ambiente festivo. \n\n\n\nPor otro lado\, gracias a la cuidada ambientación y a la calidad de los espectáculos\, la Feria Medieval de El Álamo sigue consolidándose como un referente nacional en ferias temáticas. Sin duda\, esta XXVIII edición promete superar todas las expectativas\, combinando tradición\, entretenimiento y cultura popular. \n\n\n\nFinalmente\, organizadores y artesanos ya trabajan intensamente para que El Álamo vuelva a hacer historia. ¡No te pierdas esta gran cita medieval y prepárate para vivir una auténtica aventura en pleno siglo XXI! \n\n\n\nCartel oficial\n\n\n\n\n\n\n\n \n\n\n\nPrograma de actividades de la Feria Medieval\n\n\n\nClic para verlos ampliados\n\n\n\n\n\n\n\n \n\n\n\n \n\n\n\n\n\n\n\n \n\n\n\n \n\n\n\nCeltival Music \n\n\n\n\n\n\n\n \n\n\n\nRincón Infantil\n\n\n\n\n\n\n\n \n\n\n\n \n\n\n\nTorneo medieval Justas Caballo\n\n\n\n\n\n\n\n \n\n\n\n \n\n\n\nPuntos de interés\n\n\n\n\n\n\n\n \n\n\n\nMapa de la Feria \n\n\n\n\n\n\n\n \n\n\n\nInformación del evento\n\n\n\n\nFecha: 1 al 4 de Mayo de  2025 \n\n\n\nPlazo de inscripción : HASTA COMPLETAR LAS PLAZAS\n\n\n\nEdición : XXVIII \n\n\n\nPeriodicidad :  Anual\n\n\n\nLugar: Centro histórico\n\n\n\nPoblación:  El Älamo (  MADRID )\n\n\n\nOferta a exponer:    Alimentación\, Gastronomía\, Artesanía y complementos.\n\n\n\nMontaje: Montaje por fases. Pendiente días y horas.\n\n\n\nEntidad organizadora:  LA FRAGUA DE VULCANO\n\n\n\n\n \n\n\n\nDescripción del evento:  \n\n\n\nMERCADO MEDIEVALEL ÁLAMO (MADRID)XXVIII GRAN FERIA MEDIEVAL DE LA VILLA DEL ÁLAMO1 AL 4 DE MAYOCENTRO HISTÓRICO DE EL ÁLAMO \n\n\n\nLa Fragua de Vulcano será la organizadora un año más\, como viene siendo habitual desde 2018\, de este Mercado Medieval de El Álamo que celebra en esta ocasión la XXVIII edición de su Gran Feria Medieval. \n\n\n\nEste mercado\, como cada año en sus últimas ediciones\, contará con un completo programa de actividades de animación musical\, circense\, teatro de calle\, animales\, cuentacuentos\, rincón infantil\, atracciones y un sinfín de atractivos más. Se desarrollará también una campaña promocional con cartelería y cuñas de radio\, además de difusión en redes\, notas de prensa\, etc. \n\n\n\nMontaje: Montaje por fases. Pendiente días y horas.Lugar: Centro Histórico \n\n\n\nSi estás interesado en este mercado\, solicita ampliar información lo antes posible. ENVÍANOS UN CORREO ELECTRÓNICO PARA AMPLIAR INFORMACIÓN. Te rogamos que realices tu solicitud por correo electrónico\, para evitar colapsar las líneas telefónicas. \n\n\n\nCuando realices tu solicitud de participación\, es muy importante que nos INDIQUES TUS NECESIDADES CONCRETAS DE POTENCIA ELÉCTRICA NECESARIA\, LO MÁS AJUSTADA POSIBLE\, DADO EL VOLUMEN DEL MERCADO Y LAS POSIBLES LIMITACIONES DE SUMINISTRO ELÉCTRICO QUE TENDRÁ. Se tendrá\, junto con otros factores\, en cuenta a la hora de la selección de participantes\, la potencia eléctrica más limitada posible. \n\n\n\nInformación e Inscripciones:lafragua@espectaculosamb.com \n\n\n\nInformación del organizador : \n\n\n\nLa organización y decoración de este evento están a cargo de  LA FRAGUA DE VULCANO . Para más detalles sobre el proceso de inscripción\, tarifas y requisitos específicos\, contacta a través de: \n\n\n\n\nCorreo electrónico : lafragua@espectaculosamb.com\n\n\n\nTeléfono / WhatsApp : 963 400 037 ( en horario de oficina )\n\n\n\nPersonas de contacto : —\n\n\n\nDescubre las próximas ferias y mercados en su agenda:  Calendario de La Fragua de Vulcano\n\n\n\n\n\n\n\n\n \n\n\n\nAcerca de .. El Álamo\n\n\n\nEl Álamo es un municipio de España perteneciente a la Comunidad de Madrid. Tiene una población de 10 123 habitantes. La villa de El Álamo limita al sur con la comunidad autónoma de Castilla-La Mancha\, está situada al suroeste de la Comunidad de Madrid y se encuentra a 37 kilómetros de la capital. \n\n\n\n\n\n \n\n\n\n\n\n\n\nDe tu interés :\n\n\n\n\nEventos de LA PROVINCIA DE MADRID\n\n\n\nCalendario de Mercados Medievales en MAYO\n\n\n\nFerias y Mercados en España\n\n\n\nOrganizadores de Mercados y Ferias\n\n\n\n\n\nVisita nuestro Calendario de Eventos para obtener detalles de: Calendario 2025: Planifica con anticipación y no te pierdas ninguna cita.\n\n\n\n\n\nLas ferias medievales son auténticos viajes en el tiempo. Estos eventos recrean la atmósfera de la Edad Media. Leer más…\n\n\n\n\n\n\n\n\n \n\n\n\nSiguenos….\n\n\n\n\nTelegram: Recibe nuestras noticias y contenido exclusivo (clic aquí).\n\n\n\nNewsletter: Recibe un correos con nuestras últimas noticias (clic aquí).\n\n\n\nWhatsApp: Suscríbete para ver nuestros mejores vídeos (clic aquí).\n\n\n\nInstagram:  Síguenos en Instagram ( clic aquí )\n\n\n\n\n \n\n\n\n\n\n\n\n\n\n\n\nMercadosmedievales.net \n\n\n\nLas ferias medievales son auténticos viajes en el tiempo. Estos eventos recrean la atmósfera de la Edad Media….
URL:https://demercadosmedievales.info/mercadomedieval/xxviii-feria-medieval-de-el-alamo-madrid-del-1-al-4-de-mayo-del-2025/
LOCATION:El Álamo (Madrid) (***)\, Calles y Plazas del municipio\, El Álamo\, Comunidad de Madrid\, España
CATEGORIES:Cartel,Comunidad de Madrid,Mercado Medieval,Programación
ATTACH;FMTTYPE=image/jpeg:https://demercadosmedievales.info/wp-content/uploads/2024/12/1200_medieval_el_alamo.jpg
ORGANIZER;CN="La Fragua de Vulcano":MAILTO:lafragua@espectaculosamb.com
GEO:40.2312091;-3.9942211
X-APPLE-STRUCTURED-LOCATION;VALUE=URI;X-ADDRESS=El Álamo (Madrid) (***) Calles y Plazas del municipio El Álamo Comunidad de Madrid España;X-APPLE-RADIUS=500;X-TITLE=Calles y Plazas del municipio:geo:-3.9942211,40.2312091
END:VEVENT
END:VCALENDAR