BEGIN:VCALENDAR
VERSION:2.0
PRODID:-//Mercados Medievales - ECPv6.15.20//NONSGML v1.0//EN
CALSCALE:GREGORIAN
METHOD:PUBLISH
X-ORIGINAL-URL:https://demercadosmedievales.info
X-WR-CALDESC:Eventos para Mercados Medievales
REFRESH-INTERVAL;VALUE=DURATION:PT1H
X-Robots-Tag:noindex
X-PUBLISHED-TTL:PT1H
BEGIN:VTIMEZONE
TZID:Europe/Madrid
BEGIN:DAYLIGHT
TZOFFSETFROM:+0100
TZOFFSETTO:+0200
TZNAME:CEST
DTSTART:20230326T010000
END:DAYLIGHT
BEGIN:STANDARD
TZOFFSETFROM:+0200
TZOFFSETTO:+0100
TZNAME:CET
DTSTART:20231029T010000
END:STANDARD
BEGIN:DAYLIGHT
TZOFFSETFROM:+0100
TZOFFSETTO:+0200
TZNAME:CEST
DTSTART:20240331T010000
END:DAYLIGHT
BEGIN:STANDARD
TZOFFSETFROM:+0200
TZOFFSETTO:+0100
TZNAME:CET
DTSTART:20241027T010000
END:STANDARD
BEGIN:DAYLIGHT
TZOFFSETFROM:+0100
TZOFFSETTO:+0200
TZNAME:CEST
DTSTART:20250330T010000
END:DAYLIGHT
BEGIN:STANDARD
TZOFFSETFROM:+0200
TZOFFSETTO:+0100
TZNAME:CET
DTSTART:20251026T010000
END:STANDARD
END:VTIMEZONE
BEGIN:VEVENT
DTSTART;VALUE=DATE:20240328
DTEND;VALUE=DATE:20240331
DTSTAMP:20260420T040423
CREATED:20240219T194000Z
LAST-MODIFIED:20240219T194000Z
UID:10000926-1711584000-1711843199@demercadosmedievales.info
SUMMARY:Feria Fantasia por Semana Santa de POBLA DE FARNALS\, VALENCIA 2024
DESCRIPTION:Feria Fantasia por Semana Santa en la Plaza de Las Cortes Valencianas de La Pobla de Farnals\, los días del 28 al 30 de marzo 2024. \n \nFecha de inicio y finalización\nLos dias 28 DE MARZO AL 30 DE MARZO 2024\nPlazo de Inscripción ( Hasta que día se pueden apuntar los artesanos y mercaderes)*\nHASTA COMPLETAR AFORO\nLocalidad y Provincia\nEn POBLA DE FARNALS \, que pertenece a la provincia de  VALENCIA\nUbicación dentro de la localidad (calle\, Plaza\, vía\, etc.)\nLa localización será en la PLAZA DE LAS CORTES VALENCIANAS \nDescripción del Evento :\nMERCADO TEMATICO\nDia y hora de Montaje :\nDÍA 27  a las 11 HORAS\nFecha y hora de Inauguración\nA las 17:00 DEL 27 DE MARZO \n  \nEl organizador proveerá de :\nSeguridad\nAgua\nElectricidad\nOtro: PUBLICIDAD EN FLYERS Y REDES SOCIALES\, ANIMACIÓN TALLERES \nOrganizador :\nArt Woman\nTeléfono 680587206\nEmail artwoman2023@gmail.com\nOtro medio de contacto\nWhatsApp \nRequisitos de participación\nlos habituales a ferias de estas características\nPrecio\nconsultar \n  \nCartel de la Feria Fantasía por Semana Santa\n \nPrograma Feria Fantasía por Semana Santa de POBLA DE FARNALS\n \n  \n Acerca de\nPuebla de Farnals​ (oficialmente y en valenciano La Pobla de Farnals) es un municipio de la Comunidad Valenciana\, España. Pertenece a la provincia de Valencia\, en la comarca de la Huerta Norte. \n  \n  \n\nCalendario de Mercado Medieval y Ferias 2024 :\n\n\nEnero\nFebrero\nMarzo\nAbril\nMayo\nJunio\nJulio\nAgosto\nSeptiembre\nOctubre\nNoviembre\nDiciembre\n\n Las Ferias y mercados medievales\n\n\nLas ferias medievales son eventos que recrean la atmósfera de la Edad Media. Por lo general\, se llevan a cabo en pueblos o ciudades\, y presentan puestos de vendedores que venden artesanías\, alimentos y bebidas. También puede haber entretenimiento\, como justas\, música y baile. . \nLos Mercados  Medievales son una forma popular de aprender sobre la historia de la Edad Media y experimentar la cultura de la época. También son una actividad divertida para toda la familia. \nFeria Fantasia\, Semana Santa\, Feria Fantasia por Semana Santa de POBLA DE FARNALS\, Pobla de Farnals\, Valencia\, Comunidad Valenciana\, España\,2024\,
URL:https://demercadosmedievales.info/mercadomedieval/feria-fantasia-por-semana-santa-de-pobla-de-farnals-valencia-2024/
LOCATION:La Pobla de Farnals ( Valencia ) (***)\, La Pobla de Farnals\, Valencia\, España
CATEGORIES:Mercado de la fantasia,Valencia
ATTACH;FMTTYPE=image/jpeg:https://demercadosmedievales.info/wp-content/uploads/2024/02/feria_fantasia_semana_santa_pobla_de_farnals-2024-f.jpg
ORGANIZER;CN="Art Woman":MAILTO:📧 Email: artwoman2023@gmail.com (Mejor por WhatsApp)
GEO:39.5788524;-0.3266554
END:VEVENT
END:VCALENDAR