BEGIN:VCALENDAR
VERSION:2.0
PRODID:-//Mercados Medievales - ECPv6.15.20//NONSGML v1.0//EN
CALSCALE:GREGORIAN
METHOD:PUBLISH
X-ORIGINAL-URL:https://demercadosmedievales.info
X-WR-CALDESC:Eventos para Mercados Medievales
REFRESH-INTERVAL;VALUE=DURATION:PT1H
X-Robots-Tag:noindex
X-PUBLISHED-TTL:PT1H
BEGIN:VTIMEZONE
TZID:Europe/Madrid
BEGIN:DAYLIGHT
TZOFFSETFROM:+0100
TZOFFSETTO:+0200
TZNAME:CEST
DTSTART:20240331T010000
END:DAYLIGHT
BEGIN:STANDARD
TZOFFSETFROM:+0200
TZOFFSETTO:+0100
TZNAME:CET
DTSTART:20241027T010000
END:STANDARD
BEGIN:DAYLIGHT
TZOFFSETFROM:+0100
TZOFFSETTO:+0200
TZNAME:CEST
DTSTART:20250330T010000
END:DAYLIGHT
BEGIN:STANDARD
TZOFFSETFROM:+0200
TZOFFSETTO:+0100
TZNAME:CET
DTSTART:20251026T010000
END:STANDARD
BEGIN:DAYLIGHT
TZOFFSETFROM:+0100
TZOFFSETTO:+0200
TZNAME:CEST
DTSTART:20260329T010000
END:DAYLIGHT
BEGIN:STANDARD
TZOFFSETFROM:+0200
TZOFFSETTO:+0100
TZNAME:CET
DTSTART:20261025T010000
END:STANDARD
END:VTIMEZONE
BEGIN:VEVENT
DTSTART;TZID=Europe/Madrid:20250502T000000
DTEND;TZID=Europe/Madrid:20250504T235959
DTSTAMP:20260422T074521
CREATED:20250408T175512Z
LAST-MODIFIED:20250409T110410Z
UID:10002378-1746144000-1746403199@demercadosmedievales.info
SUMMARY:Mercado Medieval Benetússer (Valencia) – Feria FAC
DESCRIPTION:Mercado Medieval en Benetússer del 2 al 4 de mayo del 2025. Artesanía\, gastronomía y más. ¡Inscríbete antes del 30 de abril! \n\n\n\n\n\n\n\n✔Haz clic en este enlace : Mercados medievales en la Comunidad Valenciana\n\n\n\n✔Consulta el calendario completo del mes de MAYO \n\n\n\nMercado Medieval\n\n\n\nFeria Asociativa y Comercial\n\n\n\n\n\n\n\n \n\n\n\n📅 Fechas del evento:Del 2 al 4 de mayo de 2025 \n\n\n\n📍 Ubicación:Calle Mayor – Pleno centro de Benetússer\, VALENCIA \n\n\n\n🕰 Horario al público:De 11:00 a 14:30 h y de 17:00 a 22:00 h \n\n\n\n🎉 Inauguración oficial:2 de mayo a las 17:30 h \n\n\n\n🔧 Montaje:2 de mayo por la mañana🛠 Desmontaje:4 de mayo tras el cierre \n\n\n\n🛍 Tipo de productos:Artesanía\, alimentación\, gastronomía\, talleres y mucho más \n\n\n\n📅 Plazo de inscripción:Hasta el 30 de abril \n\n\n\n🎁 Servicios incluidos para participantes:Luz\, agua\, vigilancia y coordinación general \n\n\n\n📌 Organiza: \n\n\n\n\n\n\n\n\n\n\n\n\n \n\n\n\nInformación sobre la localidad\n\n\n\nAcerca de ..Benetúser​ es un municipio español de la Comunidad Valenciana\, perteneciente a la provincia de Valencia\, en la comarca de la Huerta Sur.​Limita al norte con Valencia y Alfafar; al este y sur\, con Alfafar; y al oeste\, con Paiporta y Alfafar. \n\n\n\n\n\n \n\n\n\n\n\n\n\n\n\n\n \n\n\n\nOtros enlaces :\n\n\n\nPodría ser de tu interés : \n\n\n\n\nPuedes Consultar en esté enlace las Ferias y Mercados en España\n\n\n\nHaz clic en ESTE enlace : y Conoce los Organizadores de Mercados y Ferias \n\n\n\n\n\nVisita nuestro Calendario de Eventos para obtener detalles de: Calendario 2025: Planifica con anticipación y no te pierdas ninguna cita.\n\n\n\n\n\nLas ferias medievales son auténticos viajes en el tiempo. Estos eventos recrean la atmósfera de la Edad Media. Leer más…\n\n\n\n\n\n\n\n\n \n\n\n\nSíguenos.\n\n\n\n\nTelegram: Recibe nuestras noticias y contenido exclusivo (clic aquí).\n\n\n\nNewsletter: Recibe un correos con nuestras últimas noticias (clic aquí).\n\n\n\nWhatsApp: Suscríbete para seguirnos en nuestro canal  (clic aquí).\n\n\n\nInstagram:  Síguenos en Instagram ( clic aquí )\n\n\n\n\n \n\n\n\n\n\n\n\n\n\n\n\nMercadosmedievales.net \n\n\n\nLos Mercados Medievales son eventos que transportan a los asistentes a la atmósfera de la Edad Media\, recreando su esencia y estética de manera auténtica. A lo largo de estos mercados\, es posible encontrar una gran variedad de puestos que ofrecen artesanía\, productos gastronómicos y objetos característicos de la época.  \n\n\n\n\n\n\n\nAdemás\, suelen contar con numerosas actividades y espectáculos inspirados en las tradiciones medievales\, como justas\, teatro callejero\, música en vivo y danzas folclóricas. En definitiva\, representan una excelente oportunidad para sumergirse en la cultura\, la gastronomía y el arte de una de las épocas más cautivadoras de la historia.
URL:https://demercadosmedievales.info/mercadomedieval/mercado-medieval-benetusser-valencia-feria-fac/
LOCATION:Benetusser (Valencia)\, Benetusser\, Valencia\, Spain
CATEGORIES:Comunidad valenciana,Mercado Medieval,Valencia
ATTACH;FMTTYPE=image/jpeg:https://demercadosmedievales.info/wp-content/uploads/2025/04/1200-medieval-benetusser.jpg
ORGANIZER;CN="Valero Costa Producciones Tem%C3%A1ticas":MAILTO:Valero.oficina@gmail.com
END:VEVENT
END:VCALENDAR