BEGIN:VCALENDAR
VERSION:2.0
PRODID:-//Mercados Medievales - ECPv6.15.20//NONSGML v1.0//EN
CALSCALE:GREGORIAN
METHOD:PUBLISH
X-ORIGINAL-URL:https://demercadosmedievales.info
X-WR-CALDESC:Eventos para Mercados Medievales
REFRESH-INTERVAL;VALUE=DURATION:PT1H
X-Robots-Tag:noindex
X-PUBLISHED-TTL:PT1H
BEGIN:VTIMEZONE
TZID:Europe/Madrid
BEGIN:DAYLIGHT
TZOFFSETFROM:+0100
TZOFFSETTO:+0200
TZNAME:CEST
DTSTART:20240331T010000
END:DAYLIGHT
BEGIN:STANDARD
TZOFFSETFROM:+0200
TZOFFSETTO:+0100
TZNAME:CET
DTSTART:20241027T010000
END:STANDARD
BEGIN:DAYLIGHT
TZOFFSETFROM:+0100
TZOFFSETTO:+0200
TZNAME:CEST
DTSTART:20250330T010000
END:DAYLIGHT
BEGIN:STANDARD
TZOFFSETFROM:+0200
TZOFFSETTO:+0100
TZNAME:CET
DTSTART:20251026T010000
END:STANDARD
BEGIN:DAYLIGHT
TZOFFSETFROM:+0100
TZOFFSETTO:+0200
TZNAME:CEST
DTSTART:20260329T010000
END:DAYLIGHT
BEGIN:STANDARD
TZOFFSETFROM:+0200
TZOFFSETTO:+0100
TZNAME:CET
DTSTART:20261025T010000
END:STANDARD
END:VTIMEZONE
BEGIN:VEVENT
DTSTART;TZID=Europe/Madrid:20250131T000000
DTEND;TZID=Europe/Madrid:20250203T235959
DTSTAMP:20260422T032624
CREATED:20250119T062037Z
LAST-MODIFIED:20250125T063359Z
UID:10002112-1738281600-1738627199@demercadosmedievales.info
SUMMARY:Feria Del Chocolate Y Porrat Tradicional de Torrent 2025
DESCRIPTION:Esta Feria del Chocolate y su Mercado Tradicional se celebra coincidiendo con la Fiesta de San Blas\, que cada año tiene lugar el 3 de febrero. Junto con las actividades propias de esta fiesta\, se lleva a cabo este popular Mercado Tradicional\, que unido a la Feria del Chocolate\, congregó durante la última edición\, a miles de visitantes durante todas sus jornadas \n\n\n\n\n\n\n\nFeria Del Chocolate Y Mercado Porrat Tradicional Valenciano\n\n\n\n\n\n\n\n \n\n\n\n \n\n\n\nInformación del evento\n\n\n\n\nFecha: 31 De Enero\, 1\, 2 Y 3 De Febrero  de  2025 \n\n\n\nPlazo de inscripción : Hasta completar el número de plazas.\n\n\n\nLugar: Avenida Al Vedat\n\n\n\nPoblación:  Torrent ( VALENCIA )  / Torrente​​ es un municipio y ciudad española de la provincia de Valencia\, en la Comunidad Valenciana. S\n\n\n\nPeriodicidad: —\n\n\n\nOferta a exponer:  Exposición y venta de chocolates\, Artesanía \, Complementos y relacionados.\n\n\n\nCuando será el Montaje Pendiente de confirmar día y hora\n\n\n\nCuando será el Desmontaje Pendiente de confirmar día y hora\n\n\n\nSerá inaugurado  : Viernes 31 de enero de 18:00\n\n\n\nHorario de apertura al público : Viernes 31 de enero de 18:00 a 21:00 horas.Sábado 1 de febrero de 10:30 a 14:30 y de 17:00 a 21:00 horasDomingo 2 de febrero de 10:30 a 14:30 y de 17:00 a 21:00 horasLunes 3 de febrero de 10:30 a 14:30 y de 17:00 a 21:00 horas\n\n\n\nServicios que proporcionara el organizador:  Agua\, Vigilancia disuasoria\, Electricidad\n\n\n\nEntidad organizadora:  LA FRAGUA DE VULCANO\n\n\n\n\n \n\n\n\nDescripción del evento: \n\n\n\nTORRENT (VALENCIA)31 DE ENERO\, 1\, 2 Y 3 DE FEBRERO DE 2025AVENIDA AL VEDAT \n\n\n\nCon motivo de la celebración de la Festividad de San Blas\, la ciudad de Torrent celebra de forma paralela y haciendo coincidir con la Festividad\, una Feria del Chocolate que incluye un Mercado Tradicional o Porrat Valenciano. La Fragua de Vulcano llevará a cabo\, tras el gran éxito del año anterior\, el Mercado Tradicional del Porrat de San Blas\,  en la céntrica Avenida al Vedat de Torrent\, municipio de la Horta Sud de Valencia\, junto a la capital\, de 90.000 habitantes.Esta Feria del Chocolate y su Mercado Tradicional se celebra coincidiendo con la Fiesta de San Blas\, que cada año tiene lugar el 3 de febrero. Junto con las actividades propias de esta fiesta\, se lleva a cabo este popular Mercado Tradicional\, que unido a la Feria del Chocolate\, congregó durante la última edición\, a miles de visitantes durante todas sus jornadas. Durante esos días\, habrá una zona dedicada específicamente a exposición y venta de chocolates\, así como otra zona general para Mercado Tradicional de artesanos y mercaderes. \n\n\n\nA modo de resumen:FERIA DEL CHOCOLATE YMERCADO TRADICIONAL PORRAT VALENCIANO31 DE ENERO\, 1\, 2 Y 3 DE FEBRERO DE 2025 \n\n\n\nLugar: Avenida al Vedat de Torrent (Valencia)Montaje: Pendiente de confirmar día y horaHorario del mercado: Viernes 31 de enero de 18:00 a 21:00 horas.Sábado 1 de febrero de 10:30 a 14:30 y de 17:00 a 21:00 horasDomingo 2 de febrero de 10:30 a 14:30 y de 17:00 a 21:00 horasLunes 3 de febrero de 10:30 a 14:30 y de 17:00 a 21:00 horas \n\n\n\nDada la proximidad de las fechas\, si estás interesado en participar y conocer las condiciones de participación\, ponte en contacto con nosotros de inmediato. \n\n\n\nInformación e inscripciones:central@espectaculosamb.com \n\n\n\n¿Cómo informarse y reservar puesto?\n\n\n\nSi estás interesado en este mercado\, solicita ampliar información lo antes posible enviándoles un correo electrónico. \n\n\n\nEmpresa organizadora :\n\n\n\nLa organización y decoración de este evento están a cargo de  Para más detalles sobre el proceso de inscripción\, tarifas y requisitos específicos\, contacta a través de: \n\n\n\n\nCorreo electrónico : central@espectaculosamb.com\n\n\n\nTeléfono / WhatsApp : 963 400 037 ( en horario de oficina )\n\n\n\nPersonas de contacto :\n\n\n\nFacebook :  https://www.facebook.com/LaFraguadeVulcanoRecreaciones\n\n\n\nInstagram :  https://www.instagram.com/lafraguadevulca/\n\n\n\nX ( Twitter ) : La Fragua de Vulcano (@LaFraguadeVulca) / X\n\n\n\nWeb : https://lafraguadevulcano.es/ \n\n\n\nDescubre las próximas ferias y mercados en su agenda:  Calendario de La Fragua de Vulcano\n\n\n\n\n\n\n\n\nFerias y Mercados Medievales :\n\n\n\n\nEventos de LA PROVINCIA DE  VALENCIA\n\n\n\nCalendario de Mercados Medievales en Enero \n\n\n\nFerias y Mercados en España\n\n\n\nOrganizadores de Mercados y Ferias\n\n\n\n\n \n\n\n\nCalendario de los Mercados Temáticos y Ferias Medievales\n\n\n\n¿Quieres saber cuándo y dónde se realizarán más ferias y mercados?Visita nuestro Calendario de Eventos para obtener detalles de: Calendario 2025: Planifica con anticipación y no te pierdas ninguna cita. \n\n\n\n \n\n\n\n\n\n\n\nLos Mercados y Ferias Medievales\n\n\n\nLas ferias medievales son auténticos viajes en el tiempo. Estos eventos recrean la atmósfera de la Edad Media. Leer más… \n\n\n\n\n\n\n\n\n\n\n\nMercadosmedievales.net \n\n\n\nLas ferias medievales son auténticos viajes en el tiempo. Estos eventos recrean la atmósfera de la Edad Media….  \n\n\n\n\nNuestro canal de Telegram\n\n\n\nCanal de WhatsApp\n\n\n\n Siguenos en Instagram\n\n\n\n\n\n\n\n\n \n\n\n\n\n\n\n\nOrganizado por \n\n\n\n\n\nLocalización \n\n\n\nEn la Avenida de Al Vedat de Torrent. Torrente​​ es un municipio y ciudad española de la provincia de Valencia\, en la Comunidad Valenciana. Se encuentra en el área metropolitana de Valencia\, en la comarca de la Huerta Sur. Cuenta con una población de 89 401 habitantes.
URL:https://demercadosmedievales.info/mercadomedieval/feria-del-chocolate-y-porrat-tradicional-de-torrent-2025/
LOCATION:Torrent ( Valencia ) *\, AVENIDA AL VEDAT\, Torrent\, Comunidad Valenciana\, España
CATEGORIES:Comunidad valenciana,Mercados tematicos,Porrats,Valencia
ATTACH;FMTTYPE=image/jpeg:https://demercadosmedievales.info/wp-content/uploads/2025/01/feria-chocolate-torrent-2025.jpg
ORGANIZER;CN="La Fragua de Vulcano":MAILTO:lafragua@espectaculosamb.com
GEO:39.429723;-0.476398
X-APPLE-STRUCTURED-LOCATION;VALUE=URI;X-ADDRESS=Torrent ( Valencia ) * AVENIDA AL VEDAT Torrent Comunidad Valenciana España;X-APPLE-RADIUS=500;X-TITLE=AVENIDA AL VEDAT:geo:-0.476398,39.429723
END:VEVENT
END:VCALENDAR