BEGIN:VCALENDAR
VERSION:2.0
PRODID:-//Mercados Medievales - ECPv6.15.20//NONSGML v1.0//EN
CALSCALE:GREGORIAN
METHOD:PUBLISH
X-WR-CALNAME:Mercados Medievales
X-ORIGINAL-URL:https://demercadosmedievales.info
X-WR-CALDESC:Eventos para Mercados Medievales
REFRESH-INTERVAL;VALUE=DURATION:PT1H
X-Robots-Tag:noindex
X-PUBLISHED-TTL:PT1H
BEGIN:VTIMEZONE
TZID:Europe/Madrid
BEGIN:DAYLIGHT
TZOFFSETFROM:+0100
TZOFFSETTO:+0200
TZNAME:CEST
DTSTART:20230326T010000
END:DAYLIGHT
BEGIN:STANDARD
TZOFFSETFROM:+0200
TZOFFSETTO:+0100
TZNAME:CET
DTSTART:20231029T010000
END:STANDARD
BEGIN:DAYLIGHT
TZOFFSETFROM:+0100
TZOFFSETTO:+0200
TZNAME:CEST
DTSTART:20240331T010000
END:DAYLIGHT
BEGIN:STANDARD
TZOFFSETFROM:+0200
TZOFFSETTO:+0100
TZNAME:CET
DTSTART:20241027T010000
END:STANDARD
BEGIN:DAYLIGHT
TZOFFSETFROM:+0100
TZOFFSETTO:+0200
TZNAME:CEST
DTSTART:20250330T010000
END:DAYLIGHT
BEGIN:STANDARD
TZOFFSETFROM:+0200
TZOFFSETTO:+0100
TZNAME:CET
DTSTART:20251026T010000
END:STANDARD
END:VTIMEZONE
BEGIN:VEVENT
DTSTART;VALUE=DATE:20240504
DTEND;VALUE=DATE:20240505
DTSTAMP:20260419T220415
CREATED:20240312T075239Z
LAST-MODIFIED:20240312T075427Z
UID:10001020-1714780800-1714867199@demercadosmedievales.info
SUMMARY:Feria Agroalimentaria Sabores De Antaño de Peguerinos (Avila)
DESCRIPTION:Un día de mercado\, donde Peguerinos vuelve a la época de 1920 con su Feria Agroalimentaria Sabores de antaño con pasacalles\,  cómicos\, pasacalles\, juegos tradicionales\, artesanía\, alimentación\, etc. \nFeria Agroalimentaria Sabores de antaño\nCONVOCATORIA\nFECHA :  04 de Mayo del 2024\nLOCALIDAD Y PROVINCIA : PEGUERINOS \, AVILA\nBREVE  DESCRIPCION DE LA LOCALIDAD : \nPeguerinos es un municipio de España perteneciente a la provincia de Ávila\, ​ en la comunidad autónoma de Castilla y León. Además de con la localidad homónima el municipio cuenta con el núcleo de Hoyo de la Guija \nLa Feria Agroalimentaria Sabores de antaño  es organizado por ANAYAO y sus datos de contacto son :  \n\nOFICINA 671 06 94 41\nSagrario 607 71 57 90\n\nHorario de atención : DE LUNES A VIERNES DE 9.00H A 15.00H. Puedes enviarle mensajes por WhatsApp también. \nCartel de la Feria Agroalimentaria Sabores de antaño\nCartel\n  \nMercado de época ‘Sabores de Antaño’ \nconjuga artesanía\, gastronomía y ocio contextualizado este año en torno a los años del 20 al 50 del siglo XX\, tanto paradas como paradistas irán de esta época al igual que la ambientación del mercado. \nEl Mercado de época “Sabores de Antaño” es un evento temático que busca recrear y revivir la atmósfera de épocas pasadas a través de la comida y los productos tradicionales. \nEste mercado es una oportunidad para que los visitantes experimenten y disfruten de la gastronomía\, artesanía y cultura de antaño. \nEn el mercado\, encontrarás puestos de comida que ofrecen platos y recetas típicas de diferentes períodos históricos. \nPuedes probar alimentos que han sido preparados siguiendo métodos y técnicas tradicionales\, utilizando ingredientes auténticos y recetas transmitidas de generación en generación.
URL:https://demercadosmedievales.info/mercadomedieval/feria-agroalimentaria-sabores-de-antano-de-peguerinos-avila/
LOCATION:Peguerinos (Ávila) (***)\, Peguerinos\, Ávila\, 05239
CATEGORIES:Anayao eventos temáticos,Avila,Feria de Época
ATTACH;FMTTYPE=image/jpeg:https://demercadosmedievales.info/wp-content/uploads/2024/03/feria_peguerinos_2024.jpg
GEO:40.6265129;-4.2314131
END:VEVENT
END:VCALENDAR