BEGIN:VCALENDAR
VERSION:2.0
PRODID:-//Mercados Medievales - ECPv6.15.20//NONSGML v1.0//EN
CALSCALE:GREGORIAN
METHOD:PUBLISH
X-ORIGINAL-URL:https://demercadosmedievales.info
X-WR-CALDESC:Eventos para Mercados Medievales
REFRESH-INTERVAL;VALUE=DURATION:PT1H
X-Robots-Tag:noindex
X-PUBLISHED-TTL:PT1H
BEGIN:VTIMEZONE
TZID:Europe/Madrid
BEGIN:DAYLIGHT
TZOFFSETFROM:+0100
TZOFFSETTO:+0200
TZNAME:CEST
DTSTART:20240331T010000
END:DAYLIGHT
BEGIN:STANDARD
TZOFFSETFROM:+0200
TZOFFSETTO:+0100
TZNAME:CET
DTSTART:20241027T010000
END:STANDARD
BEGIN:DAYLIGHT
TZOFFSETFROM:+0100
TZOFFSETTO:+0200
TZNAME:CEST
DTSTART:20250330T010000
END:DAYLIGHT
BEGIN:STANDARD
TZOFFSETFROM:+0200
TZOFFSETTO:+0100
TZNAME:CET
DTSTART:20251026T010000
END:STANDARD
BEGIN:DAYLIGHT
TZOFFSETFROM:+0100
TZOFFSETTO:+0200
TZNAME:CEST
DTSTART:20260329T010000
END:DAYLIGHT
BEGIN:STANDARD
TZOFFSETFROM:+0200
TZOFFSETTO:+0100
TZNAME:CET
DTSTART:20261025T010000
END:STANDARD
END:VTIMEZONE
BEGIN:VEVENT
DTSTART;TZID=Europe/Madrid:20250314T000000
DTEND;TZID=Europe/Madrid:20250316T235959
DTSTAMP:20260423T124919
CREATED:20250129T103346Z
LAST-MODIFIED:20250304T185435Z
UID:10002155-1741910400-1742169599@demercadosmedievales.info
SUMMARY:03/2025 XIX Feria De Artesan@s Por La Igualdad En Aranjuez\, 14 al 16 de Marzo del 2025
DESCRIPTION:La Feria de artesanía por la Igualdad\, que teníamos previsto en Aranjuez para el próximo fin de semana (07\, 08 y 09 de Marzo)\, se aplaza para el fin de semana siguiente (14\, 15 y 16 de marzo) por inclemencias meteorológicas. \n\n\n\n \n\n\n\nLa XIX Feria de Artesan@s por la Igualdad en Aranjuez reunirá talento y creatividad en un evento que impulsa la artesanía y la igualdad\, en el Paseo\, antigua carretera de Andalucía frente a la fuente de la Mari Blanca\, delante del Jardín de Isabel II. \n\n\n\n\n\n\n\nXIX FERIA DE ARTESAN@S POR LA IGUALDAD\, EN ARANJUEZ\n\n\n\n\n\n\nEste año se permitirá la venta de alimentación artesana\, es decir\, productos elaborados de forma tradicional\, como quesos\, embutidos\, miel\, repostería\, pan artesanal\, conservas\, etc. \n\n\n\nSin embargo\, quedará excluida la alimentación que se prepare y consuma directamente en el mercado\, como puestos de comida rápida\, asados\, tapas o cualquier elaboración en el momento para su consumo inmediato. \n\n\n\n\nInformación del evento\n\n\n\nLUGAR: Paseos laterales del Jardín de Isabel II\, frente a la fuente de la Mari Blanca y zona del Brillante. \n\n\n\nFECHA: La feria de artesanía se celebrará los días 14\, 15 y 16 de marzo de 2025. \n\n\n\nHORARIO: Viernes\, 14 de marzo: 17:00h a 21:30 h.Sábado\, 15 de marzo: 11:00h a 14:0oh y de 17:00 a 21:30h.Domingo\, 16 de marzo: 11:00h a 14:00h y de 17:00 a 21:30h. \n\n\n\nMONTAJE: El montaje se realizará el día 14 de marzo a partir de 10:30h. \n\n\n\nDESMONTAJE: El desmontaje se realizará el día 15 de marzo a partir de 21:30h. \n\n\n\nNº DE PUESTOS: Aproximadamente 35 puestos\, dependiendo de la medida de cada uno. \n\n\n\nDECORACIÓN: Los puestos serán de color blanco o crudo en su totalidad\, tanto el toldo del techo\, tela de alrededor (si la tuviese) y faldón de la mesa\, donde se pondrá varios carteles proporcionados por la organización\, uno de ellos tendrá será la imagen del lazo lila\, representativo de la igualdad y otro\, con la imagen corporativa de la «XIX FERIA DE ARTESAN@S POR LA IGUALDAD» \, que se tendrá que rellenar con el nombre del taller artesan@ correspondiente y con el nombre de las artesan@s que lo componen\, en el se informaran a los clientes del motivo de la celebración del evento y su finalidad. \n\n\n\nLUZ: Todos los puestos deberán tener bombillas de bajo consumo o led\, magneto térmico y alargadera. Es importante por el bien de todos cumplir con los requisitos de la luz\, si hubiese algún cortocircuito en el mercado quien no lleve magneto será desenchufado inmediatamente y no podrá enchufarse a la luz. Si necesitáis luz extra comunicarlo a la organización. \n\n\n\n \n\n\n\nPRECIO: ARTESANIA: PREGUNTAR + 10% IVAALIMENTACION ARTESANA: PREGUNTAR + 10% IVALa factura os la haremos llegar el 31 de marzo de 2025.El pago de la feria se realizará a través de transferencia bancaria una vez aceptemos la solicitud.La aceptación a la feria se comunicará mediante un correo de admisión\, en el cual se indicará el importe exacto\, número de cuenta y plazos para realizar el ingreso.El nombre del ordenante del ingreso o transferencia\, debe de coincidir con el nombre del solicitante.El importe de la feria solo se devolverá si se justifica acreditándolo y solo hasta el 19 de febrero de 2024. Pasada esta fecha\, no se realizará el reembolso de la cuota ingresada\, bajo ningún concepto\, ni justificación. \n\n\n\nLA ORGANIZACIÓN DE LA FERIA DE ARTESANIA SE COMPROMETE A:_ Suministrar luz eléctrica e instalación del sistema de la luz totalmente homologado._ Vigilancia nocturna de 22:00 a 10:00 h.\, en ningún caso el ayuntamiento o la organización serán responsables delos hurtos o desperfectos que se puedan ocasionar en el mercado\, aun teniendo vigilancia contratada._ Coordinación y organización de «XIX FERIA DE ARTESAN@S POR LA IGUALDAD»._ Cartelería y publicidad en radio\, promocionando la «XIX FERIA DE ARTESAN@S POR LA IGUALDAD». \n\n\n\nREQUISITOS IMPRESCINDIBLES (MANDAR JUNTO A LA SOLICITUD)\n\n\n\n_ Carta de artesano si la tuviese._ Solicitud.-Declaración responsable._ Recibo de responsabilidad civil del puesto._ Fotografías del puesto y del material.– DNI por las dos caras. \n\n\n\nContacto: correo electrónico aranjuezmercados@hotmail.com teléfono 625492979 \n\n\n\nInformación del organizador :\n\n\n\nLa organización y decoración de este evento están a cargo de Carpetana Mercado Temáticos . Para más detalles sobre el proceso de inscripción\, tarifas y requisitos específicos\, contacta a través de: \n\n\n\n\nCorreo electrónico :       aranjuezmercados@hotmail.com\n\n\n\nTeléfono / WhatsApp :  625 49 29 79\n\n\n\nPersonas de contacto :  \n\n\n\nFacebook : \n\n\n\nDescubre las próximas ferias y mercados en su agenda:  Carpetana Mercados Temáticos\n\n\n\n\n\n\n\n\n \n\n\n\nAcerca de .. Aranjuez\, Madrid\n\n\n\nAranjuez es una ciudad que se encuentra en el sur de Madrid (centro de España) a orillas del río Tajo. Su Palacio Real\, de estilo renacentista con influencia francesa\, tiene una fachada elaborada y un interior con decoración lujosa\, incluida una habitación de porcelana. En los terrenos del palacio\, junto al río\, hay jardines ornamentales como el Jardín de la Isla. En el Jardín del Príncipe se encuentra la Casa del Labrador\, una ornamentada mansión neoclásica\, y también hay un estanque ornamental con un Pabellón Chinesco. \n\n\n\n\nAranjuez (Madrid) (***)\n\n\n\n\n\n\n \n\n\n\n\n\n\n\n\n\n\n\nDe tu interes :\n\n\n\n\nEventos de LA PROVINCIA DE MADRID\n\n\n\nCalendario de Mercados Medievales en Marzo\n\n\n\nFerias y Mercados en España\n\n\n\nOrganizadores de Mercados y Ferias\n\n\n\n\n\nVisita nuestro Calendario de Eventos para obtener detalles de: Calendario 2025: Planifica con anticipación y no te pierdas ninguna cita.\n\n\n\n\n\nLas ferias medievales son auténticos viajes en el tiempo. Estos eventos recrean la atmósfera de la Edad Media. Leer más…\n\n\n\n\n\n\n\n\n \n\n\n\nSigue disfrutando de MercadosMedievales.net:\n\n\n\n\nTelegram: Recibe nuestras noticias y contenido exclusivo (clic aquí).\n\n\n\nNewsletter: Recibe un correos con nuestras últimas noticias (clic aquí).\n\n\n\nWhatsApp: Suscríbete para ver nuestros mejores vídeos (clic aquí).\n\n\n\nInstagram:  Síguenos en Instagram ( clic aquí )\n\n\n\n\n \n\n\n\n\n\n\n\n\n\n\n\nMercadosmedievales.net \n\n\n\nLas ferias medievales son auténticos viajes en el tiempo. Estos eventos recrean la atmósfera de la Edad Media….  \n\n\n\n\n\n\n\n\n\n\nBuscar \n\n\nSearch\n					\n				\n\n\n\n\n\nSocial \n\n\n\n\nFacebook \n\n\n\nInstagram \n\n\n\nTwitter
URL:https://demercadosmedievales.info/mercadomedieval/03-2025-xix-feria-de-artesans-por-la-igualdad-en-aranjuez/
LOCATION:Aranjuez (Madrid) (***)\, Aranjuez\, Madrid\, España
CATEGORIES:Comunidad de Madrid,Feria de artesanía
ATTACH;FMTTYPE=image/jpeg:https://demercadosmedievales.info/wp-content/uploads/2025/01/1200-feria-artesanos-aranjuez-ok.jpg
ORGANIZER;CN="Carpetana Mercados Tem%C3%A1ticos":MAILTO:aranjuezmercados@hotmail.com
GEO:40.0305018;-3.6040527
END:VEVENT
END:VCALENDAR