BEGIN:VCALENDAR
VERSION:2.0
PRODID:-//Mercados Medievales - ECPv6.15.20//NONSGML v1.0//EN
CALSCALE:GREGORIAN
METHOD:PUBLISH
X-ORIGINAL-URL:https://demercadosmedievales.info
X-WR-CALDESC:Eventos para Mercados Medievales
REFRESH-INTERVAL;VALUE=DURATION:PT1H
X-Robots-Tag:noindex
X-PUBLISHED-TTL:PT1H
BEGIN:VTIMEZONE
TZID:Europe/Madrid
BEGIN:DAYLIGHT
TZOFFSETFROM:+0100
TZOFFSETTO:+0200
TZNAME:CEST
DTSTART:20240331T010000
END:DAYLIGHT
BEGIN:STANDARD
TZOFFSETFROM:+0200
TZOFFSETTO:+0100
TZNAME:CET
DTSTART:20241027T010000
END:STANDARD
BEGIN:DAYLIGHT
TZOFFSETFROM:+0100
TZOFFSETTO:+0200
TZNAME:CEST
DTSTART:20250330T010000
END:DAYLIGHT
BEGIN:STANDARD
TZOFFSETFROM:+0200
TZOFFSETTO:+0100
TZNAME:CET
DTSTART:20251026T010000
END:STANDARD
BEGIN:DAYLIGHT
TZOFFSETFROM:+0100
TZOFFSETTO:+0200
TZNAME:CEST
DTSTART:20260329T010000
END:DAYLIGHT
BEGIN:STANDARD
TZOFFSETFROM:+0200
TZOFFSETTO:+0100
TZNAME:CET
DTSTART:20261025T010000
END:STANDARD
END:VTIMEZONE
BEGIN:VEVENT
DTSTART;TZID=Europe/Madrid:20250215T000000
DTEND;TZID=Europe/Madrid:20250216T235959
DTSTAMP:20260420T101906
CREATED:20250123T203935Z
LAST-MODIFIED:20250124T094558Z
UID:10002131-1739577600-1739750399@demercadosmedievales.info
SUMMARY:Feria Artesanía Y Alimentación en Sabadell 15 y 16 de Febrero 2025
DESCRIPTION:Hasta el día 10 de Febrero te puedes inscribir en la FERIA ARTESANÍA Y ALIMENTACIÓN de la Rambla de Sabadell\, Barcelona. Los artesanos y/o mercaderes deben tener la documentación en regla ( alta en autónomos \, seguridad social y en caso de ser necesario el carné de manipulación de alimentos)\, también Carpa\, Parada de Madera O de Metal . \n\n\n\n\n\n\n\n \n\n\n\nFeria de Artesanía y Alimentación\n\n\n\nInformación del evento\n\n\n\n\nFecha: 15 y 16 de Febrero de  2025 \n\n\n\nPlazo de inscripción : 10 de Febrero\n\n\n\nLugar: Rambla.\n\n\n\nPoblación: Sabadell ( BARCELONA )  Sabadell es una ciudad y municipio español de la provincia de Barcelona\, en la comunidad autónoma de Cataluña. Actualmente es cocapital de la comarca del Vallés Occidental\, junto a Tarrasa. Es el quinto municipio de Cataluña por población\, con 218 300 habitantes.\n\n\n\nOferta a exponer:    Alimentación\, Gastronomía\, Artesanía y complementos.\n\n\n\nSerá inaugurado  : el día 15 de Febrero\n\n\n\nRequisitos :  Carpa\, Parada Madera O Metal\, Documentación En Regla.\n\n\n\nServicios que proporcionara el organizador: Luz y Vigilancia Nocturna\n\n\n\nEntidad organizadora:  Eventos SJ del Vallés\n\n\n\n\n \n\n\n\nDescripción del evento: Hasta el día 10 de Febrero te puedes inscribir en la FERIA ARTESANÍA Y ALIMENTACIÓN de la Rambla de Sabadell\, Barcelona. Los artesanos y/o mercaderes deben tener la documentación en regla ( alta en autónomos \, seguridad social y en caso de ser necesario el carné de manipulación de alimentos.  \n\n\n\nInscripcionesEl plazo para inscribirse como expositor en el mercado estará abierto hasta el 10 de Febrero del 2025. \n\n\n\nInformación del organizador :\n\n\n\nLa organización y decoración de este evento están a cargo de Eventos SJ del Vallés . Para más detalles sobre el proceso de inscripción\, tarifas y requisitos específicos\, contacta a través de: \n\n\n\n\nCorreo electrónico : eventos.sja1@gmail.com Eventos.Sja2@Gmail.Com\, Eventos\,Sja3@Gmail.Com\n\n\n\nTeléfono / WhatsApp :  639351258\n\n\n\nPersonas de contacto : Tania / Lauro\n\n\n\nFacebook :   https://www.facebook.com/p/Eventos-del-Valls-S-J-100084471800765/\n\n\n\nDescubre las próximas ferias y mercados en su agenda:  Eventos SJ del Valles\n\n\n\n\n\n\n\n\n \n\n\n\nAcerca de .. Sabadell\n\n\n\nSabadell es una ciudad y municipio español de la provincia de Barcelona\, en la comunidad autónoma de Cataluña. Actualmente es cocapital de la comarca del Vallés Occidental\, junto a Tarrasa. Es el quinto municipio de Cataluña por población\, con 218 300 habitantes. \n\n\n\n\n\n\n\nFerias y Mercados Medievales :\n\n\n\n\nEventos de LA PROVINCIA DE BARCELONA\n\n\n\nCalendario de Mercados Medievales en Febrero\n\n\n\nFerias y Mercados en España\n\n\n\nOrganizadores de Mercados y Ferias\n\n\n\n\n \n\n\n\n\n\n\n\nCalendario de los Mercados Temáticos y Ferias Medievales\n\n\n\n¿Quieres saber cuándo y dónde se realizarán más ferias y mercados?Visita nuestro Calendario de Eventos para obtener detalles de: Calendario 2025: Planifica con anticipación y no te pierdas ninguna cita. \n\n\n\n \n\n\n\n\n\n\n\nLos Mercados y Ferias Medievales\n\n\n\nLas ferias medievales son auténticos viajes en el tiempo. Estos eventos recrean la atmósfera de la Edad Media. Leer más… \n\n\n\nSigue disfrutando de MercadosMedievales.net:\n\n\n\n\nTelegram: Recibe nuestras noticias y contenido exclusivo (clic aquí).\n\n\n\nNewsletter: Recibe un correos con nuestras últimas noticias (clic aquí).\n\n\n\nWhatsApp: Suscríbete para ver nuestros mejores vídeos (clic aquí).\n\n\n\nInstagram:  Síguenos en Instagram ( clic aquí )\n\n\n\n\n \n\n\n\n\n\n\n\n\n\n\n\nMercadosmedievales.net \n\n\n\nLas ferias medievales son auténticos viajes en el tiempo. Estos eventos recrean la atmósfera de la Edad Media….  \n\n\n\n \n\n\n\n\n\n\n\n\nBuscar \n\n\nSearch\n					\n				\n\n\n\n\n\nSocial \n\n\n\n\nFacebook \n\n\n\nInstagram \n\n\n\nTwitter
URL:https://demercadosmedievales.info/mercadomedieval/feria-artesania-y-alimentacion-en-sabadell-15-y-16-de-febrero-2025/
CATEGORIES:Barcelona,Mercado de artesanía y alimentación
ATTACH;FMTTYPE=image/jpeg:https://demercadosmedievales.info/wp-content/uploads/2025/01/feria-de-artesania-alimentacion.jpg
ORGANIZER;CN="Eventos SJ del Valles":MAILTO:eventos.sja1@gmail.com
END:VEVENT
END:VCALENDAR