BEGIN:VCALENDAR
VERSION:2.0
PRODID:-//Mercados Medievales - ECPv6.15.20//NONSGML v1.0//EN
CALSCALE:GREGORIAN
METHOD:PUBLISH
X-WR-CALNAME:Mercados Medievales
X-ORIGINAL-URL:https://demercadosmedievales.info
X-WR-CALDESC:Eventos para Mercados Medievales
REFRESH-INTERVAL;VALUE=DURATION:PT1H
X-Robots-Tag:noindex
X-PUBLISHED-TTL:PT1H
BEGIN:VTIMEZONE
TZID:Europe/Madrid
BEGIN:DAYLIGHT
TZOFFSETFROM:+0100
TZOFFSETTO:+0200
TZNAME:CEST
DTSTART:20240331T010000
END:DAYLIGHT
BEGIN:STANDARD
TZOFFSETFROM:+0200
TZOFFSETTO:+0100
TZNAME:CET
DTSTART:20241027T010000
END:STANDARD
BEGIN:DAYLIGHT
TZOFFSETFROM:+0100
TZOFFSETTO:+0200
TZNAME:CEST
DTSTART:20250330T010000
END:DAYLIGHT
BEGIN:STANDARD
TZOFFSETFROM:+0200
TZOFFSETTO:+0100
TZNAME:CET
DTSTART:20251026T010000
END:STANDARD
BEGIN:DAYLIGHT
TZOFFSETFROM:+0100
TZOFFSETTO:+0200
TZNAME:CEST
DTSTART:20260329T010000
END:DAYLIGHT
BEGIN:STANDARD
TZOFFSETFROM:+0200
TZOFFSETTO:+0100
TZNAME:CET
DTSTART:20261025T010000
END:STANDARD
END:VTIMEZONE
BEGIN:VEVENT
DTSTART;TZID=Europe/Madrid:20250613T000000
DTEND;TZID=Europe/Madrid:20250615T235959
DTSTAMP:20260422T170409
CREATED:20241228T190818Z
LAST-MODIFIED:20250509T094015Z
UID:10002055-1749772800-1750031999@demercadosmedievales.info
SUMMARY:Mercado Medieval de Pioz 2025 (Guadalajara)
DESCRIPTION:Durante tres días\, las calles de Pioz se llenarán de color\, vida y aromas gracias a una cuidada recreación histórica y una variada oferta de actividades.  \n\n\n\n\n\n\n \n\n\n\nMercado Medieval de Pioz 2025\n\n\n\nCartel oficial\n\n\n\n\n\n\n\n \n\n\n\nInformación básica \n\n\n\n📅 Fechas: Del 13 al 15 de junio de  2025📍 Lugar: Pioz\, GUADALAJARA \n\n\n\n✨ Historia y tradición se dan cita en PiozEl encantador municipio de Pioz vuelve a vestirse de época para celebrar su esperado Mercado Medieval 2025\, un evento lleno de magia\, cultura y entretenimiento que transportará a los visitantes a la época de castillos\, caballeros y juglares. \n\n\n\nDurante tres días\, las calles de Pioz se llenarán de color\, vida y aromas gracias a una cuidada recreación histórica y una variada oferta de actividades para todas las edades. \n\n\n\n\n\n\n\n \n\n\n\n¿Qué encontrarás?\n\n\n\n\nPuestos de artesanía y productos tradicionales: Una selección de expositores ofrecerá desde productos hechos a mano\, como joyas y textiles\, hasta delicias gastronómicas.\n\n\n\nEspectáculos y animación medieval: Malabaristas\, trovadores\, músicos y acróbatas llenarán las calles de alegría con actuaciones que recrean la vida medieval.\n\n\n\nGastronomía típica: Tabernas temáticas y puestos de comida ofrecerán platos y bebidas inspirados en la cocina de la época.\n\n\n\nActividades para niños: Talleres\, juegos y espectáculos diseñados para que los más pequeños disfruten de una experiencia inolvidable.\n\n\n\n\n \n\n\n\n\n\n\n\nPasacalles Musical\, Acrobacias en Tela\, Cómicos por el mercado y más te esperan. \n\n\n\n \n\n\n\nInformación del organizador :\n\n\n\nLa organización y decoración de este evento están a cargo de Degladis mercados temáticos . Para más detalles sobre el proceso de inscripción\, tarifas y requisitos específicos\, contacta a través de: \n\n\n\n\nCorreo electrónico : Degladis.serviciostematicos@gmail.com\n\n\n\nTeléfono / WhatsApp : 674687996\n\n\n\nPersonas de contacto : Manuel Martin Porcel\n\n\n\n\n\nDescubre las próximas ferias y mercados en su agenda:  ↓ CLIC ↓\n\n\n\n\n\n\n\n\n\n\n \n\n\n\n \n\n\n\nPioz\, un lugar con encanto histórico\n\n\n\nSituado en la provincia de Guadalajara\, Pioz combina historia\, naturaleza y tradición. Su castillo medieval es uno de los grandes atractivos del municipio y\, durante el mercado\, se convierte en un escenario perfecto que potencia la atmósfera única del evento. \n\n\n\nListado de eventos en está localidad : ↓ CLIC ↓ \n\n\n\n\n\n\n\n\n\nMás Ferias y Mercados en la Provincia\n\n\n\nExplora otros eventos en tu zona visitando nuestra sección de Eventos de LA PROVINCIA DE GUADALAJARA donde encontrarás información actualizada sobre ferias\, mercados y actividades para todas las edades. \n\n\n\n\n\n\n\nMás Mercados Temáticos y Ferias\n\n\n\n¿Quieres saber cuándo y dónde se realizarán más ferias y mercados?Visita nuestro Calendario de Eventos para obtener detalles de: \n\n\n\n\nCalendario 2025: Planifica con anticipación y no te pierdas ninguna cita.\n\n\n\n\n\n\n\n\nSobre los Mercados Medievales\n\n\n\nLas ferias medievales son auténticos viajes en el tiempo. Estos eventos recrean la atmósfera de la Edad Media. Leer más… \n\n\n\n\n\n\n\n\nMERCADOS MEDIEVALES Y TEMATICOS \n\n\n\nInformación de los próximos mercados medievales\, temáticos\, de artesanía a nivel nacional además de ofrecer información sobre servicios de alquiler de casetas\, venta de paradas\, cooperativas\, decoración y más. \n\n\n\nwww.mercados medievales.net \n\n\n\n\n\n\n\n\n  \n\n\n\nEvento
URL:https://demercadosmedievales.info/mercadomedieval/mercado-medieval-de-pioz-2025-guadalajara/
CATEGORIES:Cartel,Guadalajara,Mercado Medieval
ATTACH;FMTTYPE=image/jpeg:https://demercadosmedievales.info/wp-content/uploads/2024/12/1200-medieval-pioz.jpg
ORGANIZER;CN="Degladis servicios tem%C3%A1ticos":MAILTO:Degladis.serviciostematicos@gmail.com
END:VEVENT
END:VCALENDAR