BEGIN:VCALENDAR
VERSION:2.0
PRODID:-//Mercados Medievales - ECPv6.15.20//NONSGML v1.0//EN
CALSCALE:GREGORIAN
METHOD:PUBLISH
X-WR-CALNAME:Mercados Medievales
X-ORIGINAL-URL:https://demercadosmedievales.info
X-WR-CALDESC:Eventos para Mercados Medievales
REFRESH-INTERVAL;VALUE=DURATION:PT1H
X-Robots-Tag:noindex
X-PUBLISHED-TTL:PT1H
BEGIN:VTIMEZONE
TZID:Europe/Madrid
BEGIN:DAYLIGHT
TZOFFSETFROM:+0100
TZOFFSETTO:+0200
TZNAME:CEST
DTSTART:20240331T010000
END:DAYLIGHT
BEGIN:STANDARD
TZOFFSETFROM:+0200
TZOFFSETTO:+0100
TZNAME:CET
DTSTART:20241027T010000
END:STANDARD
BEGIN:DAYLIGHT
TZOFFSETFROM:+0100
TZOFFSETTO:+0200
TZNAME:CEST
DTSTART:20250330T010000
END:DAYLIGHT
BEGIN:STANDARD
TZOFFSETFROM:+0200
TZOFFSETTO:+0100
TZNAME:CET
DTSTART:20251026T010000
END:STANDARD
BEGIN:DAYLIGHT
TZOFFSETFROM:+0100
TZOFFSETTO:+0200
TZNAME:CEST
DTSTART:20260329T010000
END:DAYLIGHT
BEGIN:STANDARD
TZOFFSETFROM:+0200
TZOFFSETTO:+0100
TZNAME:CET
DTSTART:20261025T010000
END:STANDARD
END:VTIMEZONE
BEGIN:VEVENT
DTSTART;TZID=Europe/Madrid:20250509T000000
DTEND;TZID=Europe/Madrid:20250511T235959
DTSTAMP:20260420T100552
CREATED:20241222T073302Z
LAST-MODIFIED:20250508T083018Z
UID:10002040-1746748800-1747007999@demercadosmedievales.info
SUMMARY:Programación de la Feria Modernista de Terrassa 2025 (Barcelona)
DESCRIPTION:Del 20 al 23 de febrero de 2025 en Balsareny\, en la provincia de Barcelona se celebra está Fiesta tradicional de interés turístico y de interés nacional..  \n\n\n \n\n\n\n\n\n\n\nFeria Modernista de Terrassa\n\n\n\nLa Feria Modernista de Terrassa es uno de los eventos culturales más destacados de Cataluña\, que se celebra anualmente para revivir la esencia y el esplendor del movimiento modernista. Este evento reúne historia\, arte\, y tradición\, transformando la ciudad en un escenario lleno de actividades\, espectáculos y recreaciones propias de la época. \n\n\n\n \n\n\n\n \n\n\n\nCartel de la edicción 2025\n\n\n\n \n\n\n\nA lo largo de todo el fin de semana se celebra una muestra de puestos de artesanía y alimentación Artesana que conforman el mercado modernista. \n\n\n\nEn torno al excepcional edificio modernista de la Masía Freixa\, se puede encontrar el Mercado de artesanía ya lo largo de la Rambla de Egara frente al magnífico conjunto patrimonial del Vapor Aymerich Amat y Jover denominado como una de las catedrales del modernismo Industrial y actualmente sede del Museo de la Ciencia y de la Técnica de Catalunya encontrará el mercado de alimentación artesana. \n\n\n\nEste conjunto de puestos que componen el Mercado Modernista ofrece al visitante una gran diversidad de puestos\, con productos y artículos elaborados siguiendo los procesos naturales y artesanales. \n\n\n\nEl Mercado Modernista se complementa con los diferentes talleres participativos y las demostraciones de oficios que nos ofrecen los maestros artesanos de oficios antiguos: forjadores\, ceramistas\, vidrieros\, herradores de caballos\, toneleros\, lateros\, curtidores\, canteros\, orfebres\, trabajos de alabastro\, lutieres\, tejedores\, cesteros\, zuecos\, etc. \n\n\n\nCaracterísticas principales:\n\n\n\n\nTemática: Recreación del estilo de vida y la cultura del movimiento modernista (finales del siglo XIX y principios del XX).\n\n\n\nUbicación: En el centro de Terrassa\, con énfasis en edificios y espacios modernistas emblemáticos.\n\n\n\nActividades destacadas:\n\nMercados de artesanía y productos tradicionales.\n\n\n\nDesfiles y exhibiciones de moda de época.\n\n\n\nRutas guiadas por los principales edificios modernistas.\n\n\n\nTalleres y actividades para todas las edades.\n\n\n\nEspectáculos de música\, danza y teatro.\n\n\n\n\n\n\nGastronomía:\n\n\n\nLa feria incluye una rica oferta gastronómica con platos típicos de la época\, vinos y dulces artesanales. \n\n\n\nFecha:\n\n\n\nSuele celebrarse en el mes de mayo. La edición 2025 será del 09 al 11 de Mayo del 2025 \n\n\n\n \n\n\n\n \n\n\n\n\nDescárgate la programación \n\n\n\n\n \n\n\n\nGestión del Mercado \n\n\n\nPara más información puede dirigirse al servicio responsable de la gestión del mercado:ComerçCa dels Telers\, 5 1 -2 (08221 Terrassa)Teléfono: 937 397 407comerciants@terrassa.cat \n\n\n\n \n\n\n\n\n\n\n\n\nMás Ferias y Mercados en la Provincia\n\n\n\nExplora otros eventos en tu zona visitando nuestra sección de Eventos de LA PROVINCIA DE BARCELONA\, donde encontrarás información actualizada sobre ferias\, mercados y actividades para todas las edades. \n\n\n\n\n\n\n\nMás Mercados Temáticos y Ferias\n\n\n\n¿Quieres saber cuándo y dónde se realizarán más ferias y mercados?Visita nuestro Calendario de Eventos para obtener detalles de: \n\n\n\n\nCalendario 2025: Planifica con anticipación y no te pierdas ninguna cita.\n\n\n\n\n\n\n\n\nSobre los Mercados Medievales\n\n\n\nLas ferias medievales son auténticos viajes en el tiempo. Estos eventos recrean la atmósfera de la Edad Media. Leer más… \n\n\n\n\n\n\n\n\n\n\n\n\n\nMERCADOS MEDIEVALES Y TEMATICOS \n\n\n\nInformación de los próximos mercados medievales\, temáticos\, de artesanía a nivel nacional además de ofrecer información sobre servicios de alquiler de casetas\, venta de paradas\, cooperativas\, decoración y más. \n\n\n\nwww.mercados medievales.net \n\n\n\n\n\n\n\n\n\n\nGestión del mercado\n\n\n\n\n\nLocalidad
URL:https://demercadosmedievales.info/mercadomedieval/feria-modernista-de-terrassa-2025-barcelona/
LOCATION:Terrassa (Barcelona) (***)\, Terrasa\, Barcelona\, España
CATEGORIES:Barcelona,Cartel,Programación
ATTACH;FMTTYPE=image/jpeg:https://demercadosmedievales.info/wp-content/uploads/2024/12/modernista_terrasa_2025-f.jpg
ORGANIZER;CN="Comerc %E2%80%93 Ayuntamiento de Terrasa":MAILTO:comerciants@terrassa.cat
GEO:41.5631482;2.0054917
END:VEVENT
BEGIN:VEVENT
DTSTART;TZID=Europe/Madrid:20250220T000000
DTEND;TZID=Europe/Madrid:20250223T235959
DTSTAMP:20260420T100552
CREATED:20241222T080708Z
LAST-MODIFIED:20250513T100913Z
UID:10002041-1740009600-1740355199@demercadosmedievales.info
SUMMARY:Mercat dels Traginers / Mercado del Arriero Balsareny 2025
DESCRIPTION:Del 20 al 23 de febrero de 2025 en Balsareny\, en la provincia de Barcelona se celebra está Fiesta tradicional de interés turístico y de interés nacional..  \n\n\n\n\n\n\nMercat dels Traginers / Mercado del Arriero \n\n\n\n\n\n\n\nInformación básica del Mercado\n\n\n\n📅 Fecha de Celebración:Los días 20 al 23 de Febrero de 2025 \n\n\n\n📍 Dónde se realiza:En la localidad de Balsarey\, que pertenece a la provincia de BARCELONA /  Balsareny​ es un municipio situado en la comarca del Bages y en la provincia de Barcelona. Limita al norte con el municipio de Navás\, al este con Gayá\, al sur con Sallent de Llobregat y al oeste con Castellnou de Bages.  \n\n\n\n\nInscripciones hasta el 24/01/25 \n\n\n\n\nLa Fiesta\n\n\n\nLa Fiesta\, documentada desde el siglo XIX\, restaurada en 1943 desde la barbería de Cal Erep\, ha sido declarada en 1970 Fiesta de Interés Turístico Nacional a nivel del estado español\, en 1999 Fiesta Tradicional de Interés Nacional en Cataluña\, y en 2010 pasa a formar parte del catálogo del Patrimonio Festivo de Cataluña.  \n\n\n\nLa Fiesta de los Traginers de reconocida solvencia en nuestro país y fiel a la tradición hace que cada año vengan a vivirla entre 20.000 y 25.000 personas.   \n\n\n\nEl Traginer\n\n\n\nEl Traginer es la esencia de nuestra Fiesta y con la cabalgata muestra todo su esplendor adornando cada año entre 25 y 30 cargas diferentes\, en la que participan más de 600 personas y unos 200 animales de herradura. \n\n\n\nLa Fiesta\, es pues\, un reconocimiento a la figura del Traginer que en aquella época\, hacía posible el transporte de mercancías\, dando vida hasta los lugares más inaccesibles\, uniendo todo tipo de pueblos y ciudades siguiendo senderos de valles y montañas. \n\n\n\nEl Traginer con lluvia o con nieve\, con frío o con sol al rojo vuelve a salir año tras año gracias al esfuerzo altruista de todo un pueblo que hace que el Traginer tenga su merecido homenaje haciendo revivir aquellos días y aquellos momentos de la historia con la FIESTA DE LOS TRAGINEROS. \n\n\n\nInscripciones y autorizaciones\n\n\n\nAquí encontrará las autorizaciones e inscripciones de adultos y menores para la participación en la fiesta; reglamento e inscripciones de la carrera del Castillo; así como las bases del mercado del arriero u otros. \n\n\n\nTambién puede solicitar información a traginers@traginersbalsareny.cat o bien rellenando el formulario en el apartado “contacto”. \n\n\n\nAutorizaciones \n\n\n\nAutorización carreras menores (FORMULARIO ONLINE) \n\n\n\nAutorización carreras menores (PDF descargable) \n\n\n\nAutorización participación menores (FORMULARIO ONLINE) \n\n\n\nAutorización participación menores (PDF descargable) – ANEXO 1 \n\n\n\nAutorización participación adultos (FORMULARIO ONLINE) \n\n\n\nAutorización participación adultos (PDF descargable) – ANEXO 3 \n\n\n\nAutorización participación CORREFOC INFANTIL (PDF descargable) – ANEXO 2 \n\n\n\nAutorización CONCIERTOS MENORES \n\n\n\nInscripciones \n\n\n\nInscripción Participación con tu animal \n\n\n\nInscripción carreras castell \n\n\n\nInscripción Mercado Traginers 2025 – Paradas \n\n\n\nInscripción Mercado Traginers 2025 – FoodTrucks \n\n\n\nBases y Reglamentos \n\n\n\nBases CONCURSO FOTOGRAFÍA \n\n\n\nBases Mercado Traginers 2025 \n\n\n\nBases FoodTrucks Mercado Traginers 2025 \n\n\n\nReglamento carrera arrieros \n\n\n\nBases Participación en la Fiesta de los Traginers \n\n\n\nProtocolo boda real \n\n\n\nProtocolo boda figurada \n\n\n\n\n\n\n\n\n\nMás Ferias y Mercados en la Provincia\n\n\n\nExplora otros eventos en tu zona visitando nuestra sección de Eventos de LA PROVINCIA DE BARCELONA\, donde encontrarás información actualizada sobre ferias\, mercados y actividades para todas las edades. \n\n\n\n\n\n\n\nMás Mercados Temáticos y Ferias\n\n\n\n¿Quieres saber cuándo y dónde se realizarán más ferias y mercados?Visita nuestro Calendario de Eventos para obtener detalles de: \n\n\n\n\nCalendario 2025: Planifica con anticipación y no te pierdas ninguna cita.\n\n\n\n\n\n\n\n\nSobre los Mercados Medievales\n\n\n\nLas ferias medievales son auténticos viajes en el tiempo. Estos eventos recrean la atmósfera de la Edad Media. Leer más… \n\n\n\n\n\n\n\n\nMERCADOS MEDIEVALES Y TEMATICOS \n\n\n\nInformación de los próximos mercados medievales\, temáticos\, de artesanía a nivel nacional además de ofrecer información sobre servicios de alquiler de casetas\, venta de paradas\, cooperativas\, decoración y más. \n\n\n\nwww.mercados medievales.net \n\n\n\n\n\n\n\n\n\n\n\n\nLugar de celebración :\n\n\n\nBalsareny​ es un municipio situado en la comarca del Bages y en la provincia de Barcelona. Limita al norte con el municipio de Navás\, al este con Gayá\, al sur con Sallent de Llobregat y al oeste con Castellnou de Bages. 
URL:https://demercadosmedievales.info/mercadomedieval/mercat-del-traginer-mercado-del-arriero-de-balsareny-2025/
LOCATION:Balsareny (Barcelona)\, Balsareny\, Barcelona\, Spain
CATEGORIES:Barcelona,Feria tradicional,Mercado tradicional
ATTACH;FMTTYPE=image/jpeg:https://demercadosmedievales.info/wp-content/uploads/2024/12/festa_traginers_balsareny_2025-f.jpg
ORGANIZER;CN="Comissi%C3%B3 de la Festa dels Traginers":MAILTO:mercat@traginersbalsareny.cat
END:VEVENT
END:VCALENDAR