BEGIN:VCALENDAR
VERSION:2.0
PRODID:-//Mercados Medievales - ECPv6.15.20//NONSGML v1.0//EN
CALSCALE:GREGORIAN
METHOD:PUBLISH
X-ORIGINAL-URL:https://demercadosmedievales.info
X-WR-CALDESC:Eventos para Mercados Medievales
REFRESH-INTERVAL;VALUE=DURATION:PT1H
X-Robots-Tag:noindex
X-PUBLISHED-TTL:PT1H
BEGIN:VTIMEZONE
TZID:Europe/Madrid
BEGIN:DAYLIGHT
TZOFFSETFROM:+0100
TZOFFSETTO:+0200
TZNAME:CEST
DTSTART:20230326T010000
END:DAYLIGHT
BEGIN:STANDARD
TZOFFSETFROM:+0200
TZOFFSETTO:+0100
TZNAME:CET
DTSTART:20231029T010000
END:STANDARD
BEGIN:DAYLIGHT
TZOFFSETFROM:+0100
TZOFFSETTO:+0200
TZNAME:CEST
DTSTART:20240331T010000
END:DAYLIGHT
BEGIN:STANDARD
TZOFFSETFROM:+0200
TZOFFSETTO:+0100
TZNAME:CET
DTSTART:20241027T010000
END:STANDARD
BEGIN:DAYLIGHT
TZOFFSETFROM:+0100
TZOFFSETTO:+0200
TZNAME:CEST
DTSTART:20250330T010000
END:DAYLIGHT
BEGIN:STANDARD
TZOFFSETFROM:+0200
TZOFFSETTO:+0100
TZNAME:CET
DTSTART:20251026T010000
END:STANDARD
END:VTIMEZONE
BEGIN:VEVENT
DTSTART;TZID=Europe/Madrid:20241213T000000
DTEND;TZID=Europe/Madrid:20241215T235959
DTSTAMP:20260419T224714
CREATED:20241204T090043Z
LAST-MODIFIED:20241204T091827Z
UID:10001995-1734048000-1734307199@demercadosmedievales.info
SUMMARY:¡Alginet se ilumina con su Mercado Navideño!
DESCRIPTION:La organización El Trovador invita a participar en el Mercado Navideño de Alginet\, que se celebrará del 13 al 15 de diciembre del 2024.  \n\n\n \n\n\n\n\n\n\n\n¡Alginet se ilumina con su Mercado Navideño!\n\n\n\n \n\n\n\n\n\n\n\nConvocatoria para artesanos y emprendedores \n\n\n\nLos días 13\, 14 y 15 de diciembre de 2024\, Alginet se convertirá en el epicentro de la Navidad. EL TROVADOR organiza un mercadillo navideño que promete llenar de magia y alegría nuestras calles. \n\n\n\n¿Quieres formar parte de esta experiencia única? \n\n\n\nSi eres artesano\, creador o tienes un pequeño negocio y deseas mostrar tus productos en un ambiente navideño\, ¡esta es tu oportunidad! Se buscan hasta 20 paradas para llenar de color y originalidad nuestro mercado. \n\n\n\n¿Cómo participar? \n\n\n\nPara solicitar tu plaza y conocer todos los requisitos\, ponte en contacto con el organizador: \n\n\n\n\nEL TROVADOR\n\n\n\nTeléfono y WhatsApp: 675 190 524\n\n\n\n\nNo pierdas esta oportunidad de dar a conocer tus productos y sumarte al espíritu navideño de Alginet. ¡Te esperamos! \n\n\n\n¿Qué ofrece el mercado?\n\n\n\n\nAmbientación completa: Las calles estarán decoradas y animadas con elementos de la época navideña.\n\n\n\nGran afluencia de visitantes: Es uno de los eventos más esperados después de las fiestas navideñas.\n\n\n\nEspacios adaptados para cada participante: Áreas diseñadas para optimizar la exhibición y venta.\n\n\n\n\n¿Quién puede participar?\n\n\n\nSe abre la convocatoria a: \n\n\n\n\nArtesanos: Exhibe y vende tus productos hechos a mano\, desde joyería y cerámica hasta artículos de cuero y madera.\n\n\n\nComerciantes de productos temáticos: Regalos\, ropa y accesorios inspirados en la navidad.\n\n\n\nGastronomía tradicional: puestos con comida y bebida que reflejen los sabores típicos de está época del año. \n\n\n\n\n¿Cómo inscribirte?\n\n\n\nPresenta tu solicitud con la siguiente información: \n\n\n\n\nDescripción de tus productos o servicios.\n\n\n\nFotografías o ejemplos de tu trabajo.\n\n\n\nRequisitos específicos (espacio\, electricidad\, etc.).\n\n\n\n\nEmpresa organizadora :\n\n\n\nLa organización y decoración de este evento están a cargo de EL TROVADOR \, reconocida por su experiencia en crear mercados temáticos que combinan autenticidad histórica con una atmósfera vibrante. Cada rincón estará diseñado para transportar a los visitantes a la época medieval\, con elementos decorativos\, espectáculos y actividades que harán de este mercado una experiencia inolvidable. \n\n\n\nPara más detalles sobre el proceso de inscripción\, tarifas y requisitos específicos\, contacta a través de: \n\n\n\n\nEL TROVADOR\n\n\n\nTeléfono y WhatsApp: 675 190 524\n\n\n\n\nMás Ferias y Mercados en la Provincia\n\n\n\nExplora otros eventos en tu zona visitando nuestra sección de Eventos de LA PROVINCIA DE  VALENCIA\, donde encontrarás información actualizada sobre ferias\, mercados y actividades para todas las edades. \n\n\n\n\n\n\n\nOtros Eventos del Organizador\n\n\n\nLa empresa \, experta en gestión y ambientación de mercados\, organiza muchos más eventos como este a lo largo del año. Descubre las próximas ferias y mercados en su agenda:👉 Consulta Aquí para acceder al calendario de eventos temáticos. \n\n\n\n\n\n\n\nMás Mercados Temáticos y Ferias\n\n\n\n¿Quieres saber cuándo y dónde se realizarán más ferias y mercados?Visita nuestro Calendario de Eventos para obtener detalles de: \n\n\n\nCalendario 2025: Planifica con anticipación y no te pierdas ninguna cita. \n\n\n\n\n\n\n\nSobre los Mercados Medievales\n\n\n\nLas ferias medievales son auténticos viajes en el tiempo. Estos eventos recrean la atmósfera de la Edad Media \n\n\n\n  \n\n\n\n\n\nOrganiza:\n\n\n\n\n\nLugar:\n\n\n\nAlginet es un municipio de la Comunidad Valenciana\, España. Situado en la provincia de Valencia\, en la comarca de la Ribera Alta. Cuenta con una población de 14 442 habitantes. Pertenece a la segunda corona del área metropolitana de Valencia.
URL:https://demercadosmedievales.info/mercadomedieval/alginet-se-ilumina-con-su-mercado-navideno/
LOCATION:Alginet (Valencia) *\, Plaza de la Constitución\, Alginet\, Valencia\, España
CATEGORIES:Mercados de navidad,Valencia
ATTACH;FMTTYPE=image/jpeg:https://demercadosmedievales.info/wp-content/uploads/2024/12/mercado_navidad_alginet_2024_f-1.jpg
GEO:39.4750084;-0.4174492
X-APPLE-STRUCTURED-LOCATION;VALUE=URI;X-ADDRESS=Alginet (Valencia) * Plaza de la Constitución Alginet Valencia España;X-APPLE-RADIUS=500;X-TITLE=Plaza de la Constitución:geo:-0.4174492,39.4750084
END:VEVENT
END:VCALENDAR