BEGIN:VCALENDAR
VERSION:2.0
PRODID:-//Mercados Medievales - ECPv6.15.20//NONSGML v1.0//EN
CALSCALE:GREGORIAN
METHOD:PUBLISH
X-WR-CALNAME:Mercados Medievales
X-ORIGINAL-URL:https://demercadosmedievales.info
X-WR-CALDESC:Eventos para Mercados Medievales
REFRESH-INTERVAL;VALUE=DURATION:PT1H
X-Robots-Tag:noindex
X-PUBLISHED-TTL:PT1H
BEGIN:VTIMEZONE
TZID:Europe/Madrid
BEGIN:DAYLIGHT
TZOFFSETFROM:+0100
TZOFFSETTO:+0200
TZNAME:CEST
DTSTART:20220327T010000
END:DAYLIGHT
BEGIN:STANDARD
TZOFFSETFROM:+0200
TZOFFSETTO:+0100
TZNAME:CET
DTSTART:20221030T010000
END:STANDARD
BEGIN:DAYLIGHT
TZOFFSETFROM:+0100
TZOFFSETTO:+0200
TZNAME:CEST
DTSTART:20230326T010000
END:DAYLIGHT
BEGIN:STANDARD
TZOFFSETFROM:+0200
TZOFFSETTO:+0100
TZNAME:CET
DTSTART:20231029T010000
END:STANDARD
BEGIN:DAYLIGHT
TZOFFSETFROM:+0100
TZOFFSETTO:+0200
TZNAME:CEST
DTSTART:20240331T010000
END:DAYLIGHT
BEGIN:STANDARD
TZOFFSETFROM:+0200
TZOFFSETTO:+0100
TZNAME:CET
DTSTART:20241027T010000
END:STANDARD
BEGIN:DAYLIGHT
TZOFFSETFROM:+0100
TZOFFSETTO:+0200
TZNAME:CEST
DTSTART:20250330T010000
END:DAYLIGHT
BEGIN:STANDARD
TZOFFSETFROM:+0200
TZOFFSETTO:+0100
TZNAME:CET
DTSTART:20251026T010000
END:STANDARD
END:VTIMEZONE
BEGIN:VEVENT
DTSTART;TZID=Europe/Madrid:20241206T000000
DTEND;TZID=Europe/Madrid:20241208T235959
DTSTAMP:20260420T171248
CREATED:20240908T091420Z
LAST-MODIFIED:20241122T132146Z
UID:10001695-1733443200-1733702399@demercadosmedievales.info
SUMMARY:XLV Jornadas Cervantinas de Esquivias 2024 (Toledo)
DESCRIPTION:Esquivias se viste como en el Siglo de Oro para el mes de Diciembre.Un año más vuelve el Mercado Cervantino  al centro de Esquivias.  \n\n\n\n\n\n\nXLV Jornadas Cervantinas\n\n\n\nColchonetas\, Concierto\, Artesanía\, Restauración\, Ludoteca y mucho más\n\n\n\n\n\n\n\n \n\n\n\nPromoción publicitaria \n\n\n\n \n\n\n\n\n\n\n\n\n\nProgramación Próximamente\n\n\n\n** Próximamente dispondremos del cartel y del programa con las actividades previstas. \n\n\n\nInformación básica del Mercado\n\n\n\nFecha de celebración Los dias  06 al 08 de diciembre del  2024 \n\n\n\nDonde se realizaEn la localidad de Esquivias que pertenece a la provincia de TOLEDO / Esquivias es un municipio y localidad española de la provincia de Toledo\, en la comunidad autónoma de Castilla-La Mancha. \n\n\n\nInformación del Organizador\n\n\n\nLa empresa organizadora es ERAGON EVENTOS \n\n\n\nPrecio : 25e la parada de 1 a 3 metros metro adicional 10e \n\n\n\nComo participarInformación e Inscripciones:Teléfono : 610 64 54 53 e-mail : AGUSTINMBXXL@HOTMAIL.COM \n\n\n\nInformación adicional\n\n\n\nMás fechasPuedes conocer mas ferias y mercados en está provincia\, consultando nuestra sección de Eventos en Toledo \n\n\n\nOtros eventosConsulta Aquí otras ferias y mercados que organizará la empresa Eragón Eventos \n\n\n\notros mercados temáticos y FeriasSi quieres conocer cuando se realizan más ferias y mercados\, puedes consultarlos visitando nuestro  Calendario de Eventos \n\n\n\nCalendario 2024\n\n\n\nSobre los Mercados Medievales\n\n\n\nLas ferias medievales son eventos que recrean la atmósfera de la Edad Media. Por lo general\, se llevan a cabo en pueblos o ciudades\, y presentan puestos de vendedores que venden artesanías\, alimentos y bebidas. También puede haber entretenimiento\, como justas\, música y baile. \n\n\n\n\n\n\n\nDetalles del organizador\n\n\n\n\n\nLocalización\n\n\n\nEsquivias es un municipio y localidad española de la provincia de Toledo\, en la comunidad autónoma de Castilla-La Mancha.
URL:https://demercadosmedievales.info/mercadomedieval/xlv-jornadas-cervantinas-de-esquivias-2024-toledo-2/
LOCATION:Esquivias (Toledo) (***)\, en el centro\, Esquivias\, Toledo\, España
CATEGORIES:Cartel,Eragón eventos,Mercado cervantino,Toledo
ATTACH;FMTTYPE=image/jpeg:https://demercadosmedievales.info/wp-content/uploads/2024/09/jornadas_cervantinas_esquivias_2024-f.jpg
ORGANIZER;CN="Erag%C3%B3n eventos":MAILTO:AGUSTINMBXXL@HOTMAIL.COM
GEO:40.1033769;-3.7676359
X-APPLE-STRUCTURED-LOCATION;VALUE=URI;X-ADDRESS=Esquivias (Toledo) (***) en el centro Esquivias Toledo España;X-APPLE-RADIUS=500;X-TITLE=en el centro:geo:-3.7676359,40.1033769
END:VEVENT
BEGIN:VEVENT
DTSTART;VALUE=DATE:20231207
DTEND;VALUE=DATE:20231211
DTSTAMP:20260420T171248
CREATED:20230929T124310Z
LAST-MODIFIED:20231014T071925Z
UID:10000135-1701907200-1702252799@demercadosmedievales.info
SUMMARY:Mercado Cervantino de Esquivias ( Toledo ) 2023
DESCRIPTION:Un año más vuelve el Mercado Cervantino  al centro de Esquivias. Las inscripciones están abiertas para paradas de artesanía\, artículos navideños\, diferentes mercaderías\, alimentación y gastronomía. \n \nMercado Cervantino de Esquivias\nFECHAS :  07 al 10 de Diciembre 2023\nLOCALIDAD Y PROVINCIA : Esquivias ( TOLEDO )\nUBICACIÓN : en el centro de la población\nCONTARA CON: LUZ \, AGUA \, SEGURIDAD\nBREVE DESCRIPCION DEL EVENTO : Mercado Medieval con artesanía\, gastronomía\, Alimentación\, talleres infantiles\,  juegos y  atracción medieval\, etc.\nDECORACION DE LA PARADA : MEDIEVAL \nComo participar en el Mercado Cervantino ?\nPonte en contacto con   ARTESANOS REUNIDOS\ne-mail: artesanosreunidos@gmail.com\nTeléfono Móvil: 633.323.561 \nCartel del Mercado Cervantino de Esquivias\n \n  \n  \nSobre Esquivias…\nEsquivias es un municipio y localidad española de la provincia de Toledo\, en la comunidad autónoma de Castilla-La Mancha. Cuenta con una población de 5740 habitantes. \nEl municipio se encuentra situado en un terreno algo desigual al suroeste de una colina que se prolonga al norte. Pertenece a la comarca de La Sagra y colinda con los términos municipales de Torrejón de Velasco y Valdemoro\, ambos de la Comunidad de Madrid\, al norte\, y en la provincia de Toledo con Yeles al oeste\, Illescas más al oeste\, Seseña al este\, Borox al sureste\, y Numancia de la Sagra al suroeste. \n  \n  \nmercadosmedievales.net  – Mercado Cervantino de Esquivias ( Toledo ) 2023\nEsquivias\, Toledo\, Castilla La Mancha \n  \nMercado Cervantino de Esquivias ( Toledo ) 2023\nUn año más vuelve el Mercado Cervantino y Medieval  al centro de Esquivias. Las inscripciones están abiertas para paradas de artesanía\, artículos navideños\, diferentes mercaderías\, alimentación y gastronomía.
URL:https://demercadosmedievales.info/mercadomedieval/mercado-medieval-de-esquivias-toledo-2023/
LOCATION:Esquivias (Toledo) (***)\, en el centro\, Esquivias\, Toledo\, España
CATEGORIES:Artesanos Reunidos,Esquivias,Mercado Medieval
ATTACH;FMTTYPE=image/jpeg:https://demercadosmedievales.info/wp-content/uploads/2023/09/esquivias_cervantino_2023_redes.jpg
ORGANIZER;CN="Artesanos reunidos":MAILTO:artesanosreunidos@gmail.com
GEO:40.1033769;-3.7676359
X-APPLE-STRUCTURED-LOCATION;VALUE=URI;X-ADDRESS=Esquivias (Toledo) (***) en el centro Esquivias Toledo España;X-APPLE-RADIUS=500;X-TITLE=en el centro:geo:-3.7676359,40.1033769
END:VEVENT
END:VCALENDAR