BEGIN:VCALENDAR
VERSION:2.0
PRODID:-//Mercados Medievales - ECPv6.15.20//NONSGML v1.0//EN
CALSCALE:GREGORIAN
METHOD:PUBLISH
X-ORIGINAL-URL:https://demercadosmedievales.info
X-WR-CALDESC:Eventos para Mercados Medievales
REFRESH-INTERVAL;VALUE=DURATION:PT1H
X-Robots-Tag:noindex
X-PUBLISHED-TTL:PT1H
BEGIN:VTIMEZONE
TZID:Europe/Madrid
BEGIN:DAYLIGHT
TZOFFSETFROM:+0100
TZOFFSETTO:+0200
TZNAME:CEST
DTSTART:20240331T010000
END:DAYLIGHT
BEGIN:STANDARD
TZOFFSETFROM:+0200
TZOFFSETTO:+0100
TZNAME:CET
DTSTART:20241027T010000
END:STANDARD
BEGIN:DAYLIGHT
TZOFFSETFROM:+0100
TZOFFSETTO:+0200
TZNAME:CEST
DTSTART:20250330T010000
END:DAYLIGHT
BEGIN:STANDARD
TZOFFSETFROM:+0200
TZOFFSETTO:+0100
TZNAME:CET
DTSTART:20251026T010000
END:STANDARD
BEGIN:DAYLIGHT
TZOFFSETFROM:+0100
TZOFFSETTO:+0200
TZNAME:CEST
DTSTART:20260329T010000
END:DAYLIGHT
BEGIN:STANDARD
TZOFFSETFROM:+0200
TZOFFSETTO:+0100
TZNAME:CET
DTSTART:20261025T010000
END:STANDARD
END:VTIMEZONE
BEGIN:VEVENT
DTSTART;TZID=Europe/Madrid:20250109T000000
DTEND;TZID=Europe/Madrid:20250112T235959
DTSTAMP:20260421T231826
CREATED:20241125T051039Z
LAST-MODIFIED:20250105T090307Z
UID:10001977-1736380800-1736726399@demercadosmedievales.info
SUMMARY:Mercado Medieval de San Antonio en Valencia 2025 (Valencia)
DESCRIPTION:El Mercado Medieval de San Antonio 2025 llega a Valencia del 9 al 12 de enero. Vive la magia medieval en C/ Maximiliano Thous y C/ Ministro Luis Mayans.  \n\n\n \n\n\n\n\n\n\n\nMercado Medieval\n\n\n\nLas calles de Maximiliano Thous y Ministro Luis Mayans vuelven a cobrar vida medieval con el regreso del Mercado de San Antonio. \n\n\n\n\n\n\n\nEl Mercado Medieval de San Antonio 2025 vuelve a Valencia para transformar las calles de C/ Maximiliano Thous y C/ Ministro Luis Mayans en un vibrante escenario de historia\, arte y tradición. Este evento único se celebrará del 9 al 12 de enero de 2025\, ofreciendo a visitantes y comerciantes una experiencia inmersiva en la atmósfera medieval. \n\n\n\n¿Quién puede participar?\n\n\n\nSe abre la convocatoria a: \n\n\n\n\nArtesanos: Exhibe y vende tus productos hechos a mano\, desde joyería y cerámica hasta artículos de cuero y madera.\n\n\n\nComerciantes de productos temáticos: Regalos\, ropa y accesorios inspirados en la época medieval.\n\n\n\nGastronomía tradicional: puestos con comida y bebida que reflejen los sabores de antaño.\n\n\n\nEspectáculos y talleres: Artistas\, músicos y animadores que deseen realizar exhibiciones o actividades relacionadas con la temática medieval.\n\n\n\n\n¿Qué ofrece el mercado?\n\n\n\n\nAmbientación medieval completa: Las calles estarán decoradas y animadas con elementos de la época.\n\n\n\nGran afluencia de visitantes: Es uno de los eventos más esperados después de las fiestas navideñas.\n\n\n\nEspacios adaptados para cada participante: Áreas diseñadas para optimizar la exhibición y venta.\n\n\n\n\n¿Cómo inscribirte?\n\n\n\nPresenta tu solicitud con la siguiente información: \n\n\n\n\nDescripción de tus productos o servicios.\n\n\n\nFotografías o ejemplos de tu trabajo.\n\n\n\nRequisitos específicos (espacio\, electricidad\, etc.).\n\n\n\n\n\n\nEmpresa organizadora :\n\n\n\nLa organización y decoración de este evento están a cargo de LA FRAGUA DE VULCANO Descubre las próximas ferias y mercados en su agenda: 👉 Consulta Aquí para acceder al calendario. Para más información y registro\, contacta con:                                                                   📧 central@espectaculosamb.com \n\n\n\n\n\n\n\n \n\n\n\nInformación y contacto\n\n\n\nPara más detalles sobre el proceso de inscripción\, tarifas y requisitos específicos\, contacta a través de: \n\n\n\n\nTeléfono de CONTACTO: 963 400 037\n\n\n\nCorreo electrónico :   central@espectaculosamb.com\n\n\n\n\n¡Forma parte de esta experiencia única!\n\n\n\nNo pierdas la oportunidad de participar en uno de los mercados medievales más destacados de Valencia\, donde la tradición\, la artesanía y la cultura cobran vida. \n\n\n\nPlazas limitadas. ¡Envía tu solicitud cuanto antes! \n\n\n\nFerias y Mercados en la Provincia de Valencia\n\n\n\nExplora otros eventos en la misma provincia visitando nuestra sección de Eventos de LA PROVINCIA DE VALENCIA\, donde encontrarás información actualizada sobre ferias\, mercados y actividades para todas las edades. \n\n\n\n\n\n\n\nCalendario de Mercados Temáticos y Ferias\n\n\n\n¿Quieres saber cuándo y dónde se realizarán más ferias y mercados?Visita nuestro Calendario de Eventos para obtener detalles de: Calendario 2025: Planifica con anticipación y no te pierdas ninguna cita. \n\n\n\n \n\n\n\n\n\n\n\nLos Mercados y Ferias Medievales\n\n\n\nLas ferias medievales son auténticos viajes en el tiempo. Estos eventos recrean la atmósfera de la Edad Media. Leer más… \n\n\n\n\n\n\n\n\nMERCADOS MEDIEVALES Y TEMATICOS \n\n\n\nInformación de los próximos mercados medievales\, temáticos\, de artesanía a nivel nacional además de ofrecer información sobre servicios de alquiler de casetas\, venta de paradas\, cooperativas\, decoración y más. \n\n\n\nwww.mercados medievales.net \n\n\n\n\n\n\n\n\nOrganiza :\n\n\n\n\n\nLugar :\n\n\n\nEn las C/ Maximiliano Thous y C/ Ministro Luis Mayans de Valencia . \n\n\n\n Valencia ​ es un municipio​ y una ciudad de España\, capital de la provincia homónima y de la Comunidad Valenciana. Su población es de 807 693 habitantes\, alcanzando los 1 581 057 habitantes si se incluye su espacio urbano.​
URL:https://demercadosmedievales.info/mercadomedieval/mercado-medieval-de-san-antonio-en-valencia-2025-valencia/
CATEGORIES:Mercado Medieval,Valencia
ATTACH;FMTTYPE=image/jpeg:https://demercadosmedievales.info/wp-content/uploads/2024/11/mercado_medieval_san_antonio_2024_F-1.jpg
ORGANIZER;CN="La Fragua de Vulcano":MAILTO:lafragua@espectaculosamb.com
END:VEVENT
END:VCALENDAR