BEGIN:VCALENDAR
VERSION:2.0
PRODID:-//Mercados Medievales - ECPv6.15.20//NONSGML v1.0//EN
CALSCALE:GREGORIAN
METHOD:PUBLISH
X-WR-CALNAME:Mercados Medievales
X-ORIGINAL-URL:https://demercadosmedievales.info
X-WR-CALDESC:Eventos para Mercados Medievales
REFRESH-INTERVAL;VALUE=DURATION:PT1H
X-Robots-Tag:noindex
X-PUBLISHED-TTL:PT1H
BEGIN:VTIMEZONE
TZID:Europe/Madrid
BEGIN:DAYLIGHT
TZOFFSETFROM:+0100
TZOFFSETTO:+0200
TZNAME:CEST
DTSTART:20230326T010000
END:DAYLIGHT
BEGIN:STANDARD
TZOFFSETFROM:+0200
TZOFFSETTO:+0100
TZNAME:CET
DTSTART:20231029T010000
END:STANDARD
BEGIN:DAYLIGHT
TZOFFSETFROM:+0100
TZOFFSETTO:+0200
TZNAME:CEST
DTSTART:20240331T010000
END:DAYLIGHT
BEGIN:STANDARD
TZOFFSETFROM:+0200
TZOFFSETTO:+0100
TZNAME:CET
DTSTART:20241027T010000
END:STANDARD
BEGIN:DAYLIGHT
TZOFFSETFROM:+0100
TZOFFSETTO:+0200
TZNAME:CEST
DTSTART:20250330T010000
END:DAYLIGHT
BEGIN:STANDARD
TZOFFSETFROM:+0200
TZOFFSETTO:+0100
TZNAME:CET
DTSTART:20251026T010000
END:STANDARD
BEGIN:DAYLIGHT
TZOFFSETFROM:+0100
TZOFFSETTO:+0200
TZNAME:CEST
DTSTART:20260329T010000
END:DAYLIGHT
BEGIN:STANDARD
TZOFFSETFROM:+0200
TZOFFSETTO:+0100
TZNAME:CET
DTSTART:20261025T010000
END:STANDARD
END:VTIMEZONE
BEGIN:VEVENT
DTSTART;TZID=Europe/Madrid:20241101T000000
DTEND;TZID=Europe/Madrid:20241103T235959
DTSTAMP:20260420T064151
CREATED:20240920T062925Z
LAST-MODIFIED:20241015T094414Z
UID:10001744-1730419200-1730678399@demercadosmedievales.info
SUMMARY:Mercado Artesanal Infantil de Osuna 2024 (Sevilla)
DESCRIPTION:Participa en nuestro mercado navideño del 5 de diciembre al 5 de enero. Sólo 6 casetas disponibles para alimentación o productos navideños.  \n\n\n \n \nMercado Artesanal Infantil\n \nCartel – Próximamente\nProgramación – Próximamente\n** Próximamente dispondremos del cartel y del programa con las actividades previstas. \nInformación básica del Mercado\nFecha de celebración Los dias 01 al 03 de noviembre  del  2024 De Viernes a Domingo \nDonde se realizaEn la localidad de Osuna que pertenece a la provincia de  SEVILLA / Osuna es una localidad y municipio español de la provincia de Sevilla\, Andalucía. Su población es de 17 418 habitantes. \nUbicación del EventoEstará ubicado en la Plaza Mayor ( Plaza del Ayuntamiento) \nDescripción del evento\nMercado Artesanal Infantil En Osuna (Sevilla) \nFECHA: 1\, 2 y 3 de Noviembre \nLUGAR:  Plaza Mayor ( Plaza del Ayuntamiento) \nPRECIO:  Artesanía 40€ metro        Alimentación 70€ metro \nSeguridad\, luz\, mucha animación\, atracciones infantiles.Mercado de mucha tradición que el año pasado no se celebró por obras\, pero todos los años cuenta con gran afluencia de publico.Osuna es una ciudad de 18.000 habitantes y muchísima afluencia turística todos los fines de semana por sus monumentos.RESERVAS: Pepi 636 33 90 48 y en panoramixeventostematicos@gmail.com \nInformación del Organizador\nLa empresa organizadora es \nPANORAMIX EVENTOS TEMATICOS\nComo participar \nPara más Información e Inscripciones:  Pepi 636 33 90 48 y en panoramixeventostematicos@gmail.com \nMás fechas  Puedes conocer mas ferias y mercados en está provincia\, consultando nuestra sección de Eventos en Sevilla  \nOtros eventos del organizadorConsulta Aquí otras ferias y mercados que organizará la empresa Panoramix Eventos Tematicos \notros mercados temáticos y FeriasSi quieres conocer cuando se realizan más ferias y mercados\, puedes consultarlos visitando nuestro   Calendario de Eventos \nCalendario 2024\nSobre los Mercados Medievales\nLas ferias medievales son eventos que recrean la atmósfera de la Edad Media. Por lo general\, se llevan a cabo en pueblos o ciudades\, y presentan puestos de vendedores que venden artesanías\, alimentos y bebidas. También puede haber entretenimiento\, como justas\, música y baile. \n\n\n\n\n\n\n\nDetalles del organizador\n\n\n\n\n\nLocalizador\n\n\n\nOsuna es una localidad y municipio español de la provincia de Sevilla\, Andalucía. Su población es de 17 418 habitantes.
URL:https://demercadosmedievales.info/mercadomedieval/mercado-artesanal-infantil-de-osuna-2024-sevilla/
LOCATION:Osuna (Sevilla) (***)\, Osuna\, Sevilla\, 41640\, Spain
CATEGORIES:Mercado Artesanal,Mercado infantil,Sevilla
ATTACH;FMTTYPE=image/jpeg:https://demercadosmedievales.info/wp-content/uploads/2024/09/mercado-artesanal-osuna-2024-f.jpg
ORGANIZER;CN="Panoramix eventos tem%C3%A1ticos":MAILTO:panoramixeventostematicos@gmail.com
GEO:37.2373642;-5.1033081
END:VEVENT
BEGIN:VEVENT
DTSTART;TZID=Europe/Madrid:20241129T000000
DTEND;TZID=Europe/Madrid:20250104T235959
DTSTAMP:20260420T064151
CREATED:20241023T083356Z
LAST-MODIFIED:20241023T084439Z
UID:10001856-1732838400-1736035199@demercadosmedievales.info
SUMMARY:Setalandia - Mercado de navidad en Sevilla 2024 (Sevilla)
DESCRIPTION:Participa en nuestro mercado navideño del 5 de diciembre al 5 de enero. Sólo 6 casetas disponibles para alimentación o productos navideños.  \n\n\ncomo son :Casa de Papá Noel \, Cartero Real\, Photocall\, Pasacalles de la pareja de ratoncitos\, Cuenta cuentos\, Pinta caras\, Tío vivo y Tren navideño entre otras. \n\n\n\n\n\n\n\nSetalandia \, una navidad de cuentos en Sevilla\n \n\nNombre del evento : Setalandia\nUbicación : En el corazón de Sevilla\, en El Mirador de la Seta (también conocido como Metropol Parasol )\, uno de los puntos turísticos más visitados de la ciudad.\nFechas : del 29 de noviembre del  2024  al 4 de enero del 2025\nTipo de Evento : 2do Mercado Anual de Navidad (2º Gran Mercado Navideño)\nContacto para reservas de stand : Puede reservar su stand llamando al 625 660 519 .\n\nInformación básica del Mercado\nFecha de celebración Los dias 29 de noviembre del  2024  al 4 de enero del 2025    \nDonde se realizaEn la localidad de Sevilla que pertenece a la provincia de SEVILLA   / Sevilla es un municipio y una ciudad de España\, capital de la provincia homónima y de Andalucía.​ Contaba con 684 164 habitantes en 2023\, ​ por lo que es la ciudad más poblada de Andalucía\, la cuarta de España según los datos oficiales del INE \nUbicación del EventoEstará ubicado en El Mirador de la Seta (también conocido como Metropol Parasol ) \nInformación del Organizador\nLa empresa organizadora es Italica Eventos \ny COMO me informo del precio\, montaje\, condiciones ? \nPoniéndote en contacto con : \n\nTeléfono : 625660519 – contacto : José Diaz \n Email : aquilaalgaba2021@gmail.com\n\nMás fechas  Puedes conocer mas ferias y mercados en está provincia\, consultando nuestra sección de Eventos en Sevilla \nOtros eventos del organizadorConsulta Aquí otras ferias y mercados que organizará la empresa Italica Eventos \notros mercados temáticos y FeriasSi quieres conocer cuando se realizan más ferias y mercados\, puedes consultarlos visitando nuestro   Calendario de Eventos \nCalendario 2024\nSobre los Mercados Medievales\nLas ferias medievales son eventos que recrean la atmósfera de la Edad Media. Por lo general\, se llevan a cabo en pueblos o ciudades\, y presentan puestos de vendedores que venden artesanías\, alimentos y bebidas. También puede haber entretenimiento\, como justas\, música y baile. \n\n\n\n\n\n\n\n\n\n\n\n\n\nOrganizador\n\n\n\n\n\nLocalización\n\n\n\nSevilla es un municipio y una ciudad de España\, capital de la provincia homónima y de Andalucía.​ Contaba con 684 164 habitantes en 2023\, ​ por lo que es la ciudad más poblada de Andalucía\, la cuarta de España según los datos oficiales del INE
URL:https://demercadosmedievales.info/mercadomedieval/setalandia-mercado-de-navidad-en-sevilla-2024-sevilla/
LOCATION:Sevilla (Sevilla) (***)\, Sevilla\, Sevilla\, España
CATEGORIES:Mercados de navidad,Sevilla
ATTACH;FMTTYPE=image/jpeg:https://demercadosmedievales.info/wp-content/uploads/2024/10/navidad-seta-sevilla-2024-f.jpg
ORGANIZER;CN="It%C3%A1lica eventos":MAILTO:aquilaalgaba2021@gmail.com
GEO:37.3890924;-5.9844589
END:VEVENT
BEGIN:VEVENT
DTSTART;TZID=Europe/Madrid:20241205T000000
DTEND;TZID=Europe/Madrid:20241208T235959
DTSTAMP:20260420T064151
CREATED:20241102T055601Z
LAST-MODIFIED:20241102T061906Z
UID:10001881-1733356800-1733702399@demercadosmedievales.info
SUMMARY:Mercado Medieval - Urb. de Santa Ana - Cartagena (Murcia)
DESCRIPTION:Participa en nuestro mercado navideño del 5 de diciembre al 5 de enero. Sólo 6 casetas disponibles para alimentación o productos navideños.  \n\n\n \n\n\n\n\n\n\n\nFerias de NavidadLlegan las fechas de los mercados navideños\,  consulta el calendario de Ferias de navidad .\nMercado Medieval\nCartel\n \n  \nProgramación – Próximamente\n** Próximamente dispondremos del cartel y del programa con las actividades previstas. \nInformación básica del Mercado\nFecha de celebración Los dias 05 al 08 de diciembre  del  2024 \nDonde se realizaEn la localidad de Cartagena que pertenece a la provincia de  MURCIA   /  Cartagena es una ciudad portuaria y una base naval en la región de Murcia\, en el sureste de España. La ciudad fue fundada por los cartaginenses cerca del año 220 a.C. y alcanzó su auge durante el período romano. Entre sus numerosas ruinas romanas\, se encuentra el teatro del siglo I a.C. y la Casa de la Fortuna\, una villa con murales y mosaicos. El centro de interpretación de la Muralla Púnica alberga los restos de una muralla defensiva del siglo III a.C. \nUbicación del EventoEstará ubicado en en el Paseo Florencia con Paseo Sorrento (junto a la iglesia) \nInformación del Organizador\nLa empresa organizadora es MERCADOS ARLEKIN \nInformación e Inscripciones : WhatsApp para reservas: 628100548 en horario de 9:00 a 14:00 h \nMás fechas  Puedes conocer mas ferias y mercados en está provincia\, consultando nuestra sección de Eventos de Murcia \nOtros eventos del mismo organizadorConsulta Aquí otras ferias y mercados que organizará la empresa Mercados Arlekin \notros mercados temáticos y FeriasSi quieres conocer cuando se realizan más ferias y mercados\, puedes consultarlos visitando nuestro   Calendario de Eventos \n  \nCalendario 2024\nCalendario 2025\nSobre los Mercados Medievales\nLas ferias medievales son eventos que recrean la atmósfera de la Edad Media. Por lo general\, se llevan a cabo en pueblos o ciudades\, y presentan puestos de vendedores que venden artesanías\, alimentos y bebidas. También puede haber entretenimiento\, como justas\, música y baile. \nTags:  Poligono de Santa Ana\, Cartagena\,Feria Medieval\,Convocatoria\,2024\,España  \n\n\n\n\n\n\n\nOrganizador\n\n\n\n\n\nLocalización\n\n\n\nCartagena es una ciudad portuaria y una base naval en la región de Murcia\, en el sureste de España. La ciudad fue fundada por los cartaginenses cerca del año 220 a.C. y alcanzó su auge durante el período romano. Entre sus numerosas ruinas romanas\, se encuentra el teatro del siglo I a.C. y la Casa de la Fortuna\, una villa con murales y mosaicos. El centro de interpretación de la Muralla Púnica alberga los restos de una muralla defensiva del siglo III a.C.
URL:https://demercadosmedievales.info/mercadomedieval/mercado-medieval-urbanizacion-de-santa-ana-cartagena-murcia/
LOCATION:Cartagena (Murcia) (***)\, Cartagena\, Murcia\, 30202\, España
CATEGORIES:Cartel,Mercado Medieval,Region de Murcia
ATTACH;FMTTYPE=image/jpeg:https://demercadosmedievales.info/wp-content/uploads/2024/11/medieval_poligono_santa_ana-2024-f-2.jpg
ORGANIZER;CN="Mercados Arlekin":MAILTO:mercadosarlekin@gmail.com
GEO:37.6021087;-0.9829827
END:VEVENT
BEGIN:VEVENT
DTSTART;TZID=Europe/Madrid:20241205T000000
DTEND;TZID=Europe/Madrid:20250105T235959
DTSTAMP:20260420T064151
CREATED:20241121T175310Z
LAST-MODIFIED:20241122T124903Z
UID:10001957-1733356800-1736121599@demercadosmedievales.info
SUMMARY:Mercado Navideño en Puertollano 2024 - 2025 (Ciudad Real)
DESCRIPTION:Participa en nuestro mercado navideño del 5 de diciembre al 5 de enero. Sólo 6 casetas disponibles para alimentación o productos navideños.  \n\n\n \n\n\n\n\n\n\n\nMercado Navideño en Puertollano\n\n\n\n¡La Navidad ha llegado a Puertollano! ✨ Disfruta del mágico ambiente del Mercado Navideño y descubre una gran variedad de productos artesanales\, gastronomía y actividades para todas las edades. ¡Te esperan! \n\n\n\n\n\n\n\nInformación básica del Evento\n\n\n\nLa fecha de celebración será5 de Diciembre del  2024 al 05 de Enero del 2025Hasta que fecha se pueden inscribir los artesanos y mercaderes ?29 de Noviembre del 2024El lugar de celebración seráPuertollano  ( CIUDAD REAL ) / Puertollano es un municipio y localidad española de la provincia de Ciudad Real\, en la comunidad autónoma de Castilla-La Mancha. Con una población de 45 127 habitantes\, se trata del séptimo municipio más poblado de la región.Estará ubicado enPlaza de la ConstituciónDescripción interesante del EventoParticipa en nuestro mercado navideño del 5 de diciembre al 5 de enero.Sólo 6 casetas disponibles para alimentación o productos navideños.Cuando será el Montaje5 de diciembreSerá inaugurado el día5 de diciembreServicios que proporcionara el organizador a los artesanos y mercaderes participantesElectricidad \n\n\n\nOrganizador\n\n\n\nAACC Luz del AlmaInformación e Inscripciones633 43 58 63WhatsApp633 43 58 63Email de contacto : centroluzdelalma@outlook.esRequisitos de participación ?– Puesto de alimentación: mazapanes\, turrones\, garrapiñadas\, castañas\, etc…– Puesto de productos navideños: figuras de belenes\, gorros de Navidad\, etc…Precio del metro lineal\, caseta de madera\, o de la carpa ?Caseta de madera: 600€ \n\n\n\nMás fechas  Puedes conocer mas ferias y mercados en está provincia\, consultando nuestra sección de Eventos de la provincia de Ciudad Real \n\n\n\nOtros eventos del organizadorConsulta Aquí otras ferias y mercados que organizará la empresa AACC Luz del Alma \n\n\n\notros mercados temáticos y FeriasSi quieres conocer cuando se realizan más ferias y mercados\, puedes consultarlos visitando nuestro   Calendario de Eventos \n\n\n\nCalendario 2024\n\n\n\nCalendario 2025\n\n\n\nSobre los Mercados Medievales\n\n\n\nLas ferias medievales son eventos que recrean la atmósfera de la Edad Media. Por lo general\, se llevan a cabo en pueblos o ciudades\, y presentan puestos de vendedores que venden artesanías\, alimentos y bebidas. También puede haber entretenimiento\, como justas\, música y baile.  \n\n\n\n\n\n\n\nOrganiza\n\n\n\n\n\nLugar\n\n\n\nPuertollano es un municipio y localidad española de la provincia de Ciudad Real\, en la comunidad autónoma de Castilla-La Mancha. Con una población de 45 127 habitantes\, se trata del séptimo municipio más poblado de la región.
URL:https://demercadosmedievales.info/mercadomedieval/mercado-navideno-en-puertollano-2024-2025-ciudad-real/
LOCATION:Puertollano (Ciudad Real) (***)\, Puertollano\, Ciudad Real\, 13500\, España
CATEGORIES:Ciudad Real,Mercados de navidad
ATTACH;FMTTYPE=image/jpeg:https://demercadosmedievales.info/wp-content/uploads/2024/11/mercado_navidad_puertollano.jpg
ORGANIZER;CN="AACC Luz del Alma":MAILTO:centroluzdelalma@outlook.es
GEO:38.6904787;-4.1080467
END:VEVENT
BEGIN:VEVENT
DTSTART;TZID=Europe/Madrid:20241213T000000
DTEND;TZID=Europe/Madrid:20241215T235959
DTSTAMP:20260420T064151
CREATED:20241016T121449Z
LAST-MODIFIED:20241204T134910Z
UID:10001833-1734048000-1734307199@demercadosmedievales.info
SUMMARY:Mercado de Navidad de Jódar 2024 (Jaén)
DESCRIPTION:Participa en nuestro mercado navideño del 5 de diciembre al 5 de enero. Sólo 6 casetas disponibles para alimentación o productos navideños.  \n\n\n\n\n\n\nMercado Navideño\n\n\n\nCartel – Próximamente\n\n\n\n\n\n\n\n \n\n\n\n \n\n\n\nInformación básica del Mercado\n\n\n\nFecha de celebración Los dias 13 al 15 de diciembre del  2024 \n\n\n\nDonde se realizaEn la localidad de Jódar que pertenece a la provincia de JAEN   / Jódar es una localidad y municipio español situado en el centro-sur en la provincia de Jaén\, comunidad autónoma de Andalucía. Se encuentra a 647 metros de altitud en la falda del cerro de San Cristóbal\, dentro de la Serrezuela\, una estribación al norte del macizo de Sierra Mágina. \n\n\n\nUbicación del EventoEstará ubicado en el Paseo Primero de Mayo  \n\n\n\nInformación del Organizador\n\n\n\nLa empresa organizadora es  ARTESANOS REUNIDOS  \n\n\n\nComo participarLos organizadores han facilitado los siguientes medios de contacto para que se inscriban y/o consulten los artesanos y mercaderes:Información e Inscripciones: artesanosreunidos@gmail.com Teléfono Móvil:  633.323.561 \n\n\n\nMás fechasPuedes conocer mas ferias y mercados en está provincia\, consultando nuestra sección de Eventos en Jaén \n\n\n\nOtros eventos del mismo organizadorConsulta Aquí otras ferias y mercados que organizará la empresa ARTESANOS REUNIDOS \n\n\n\nOtros mercados temáticos y FeriasSi quieres conocer cuando se realizan más ferias y mercados\, puedes consultarlos visitando nuestro   Calendario de Eventos \n\n\n\nCalendario 2024\n\n\n\nSobre los Mercados Medievales\n\n\n\nLas ferias medievales son eventos que recrean la atmósfera de la Edad Media. Por lo general\, se llevan a cabo en pueblos o ciudades\, y presentan puestos de vendedores que venden artesanías\, alimentos y bebidas. También puede haber entretenimiento\, como justas\, música y baile. \n\n\n\n\n\n\n\n \n\n\n\nDetalles del organizador\n\n\n\n\n\nLocalización\n\n\n\nJódar es una localidad y municipio español situado en el centro-sur en la provincia de Jaén\, comunidad autónoma de Andalucía. Se encuentra a 647 metros de altitud en la falda del cerro de San Cristóbal\, dentro de la Serrezuela\, una estribación al norte del macizo de Sierra Mágina.
URL:https://demercadosmedievales.info/mercadomedieval/mercado-de-navidad-de-jodar-2024-jaen/
LOCATION:Jódar (Jaén) (***)\, Paseo 1ro. de Mayo\, Jódar\, Jaén\, España
CATEGORIES:Jaén,Mercados de navidad
ATTACH;FMTTYPE=image/jpeg:https://demercadosmedievales.info/wp-content/uploads/2024/10/navidad_jodar_2024_F.jpg
ORGANIZER;CN="Artesanos reunidos":MAILTO:artesanosreunidos@gmail.com
GEO:37.8381872;-3.3514863
X-APPLE-STRUCTURED-LOCATION;VALUE=URI;X-ADDRESS=Jódar (Jaén) (***) Paseo 1ro. de Mayo Jódar Jaén España;X-APPLE-RADIUS=500;X-TITLE=Paseo 1ro. de Mayo:geo:-3.3514863,37.8381872
END:VEVENT
BEGIN:VEVENT
DTSTART;TZID=Europe/Madrid:20241219T110000
DTEND;TZID=Europe/Madrid:20250105T210000
DTSTAMP:20260420T064151
CREATED:20241015T063244Z
LAST-MODIFIED:20241217T093756Z
UID:10001824-1734606000-1736110800@demercadosmedievales.info
SUMMARY:Muestra de artesanía "Regala Artesanía" en navidad Albacete
DESCRIPTION:Participa en nuestro mercado navideño del 5 de diciembre al 5 de enero. Sólo 6 casetas disponibles para alimentación o productos navideños.  \n\n\nBases de participación y hoja de inscripción. \n\n\n\n\n\n\n\n \n\n\n\n\nFerias de NavidadLlegan las fechas de los mercados navideños\,  consulta el calendario de Ferias Y Mercados de navidad . \n\n\n\n\n\n\nBases de participación y hoja de inscripción.\n\n\n\n\n\nXXXIII Muestra de artesanía en navidad\n\n\n\nHorario 11 a 14 h y de 17 a 21 horas . Cerrado los días 25 de diciembre y 01 de Enero.\n\n\n\nPlaza de la Constitución.\n\n\n\n\n\n\n\nInformación básica del Evento\n\n\n\nLa fecha de celebración seráDel 19 de diciembre de 2024 al 5 de enero de 2025El lugar de celebración será AlbaceteEstará ubicado en Plaza de la Constitución \n\n\n\nDescripción interesante del Evento\n\n\n\nSe montan 16 casetas de melamina.Solo artesanía.No se admite reventa de productos.No se admite alimentación. \n\n\n\nCuando será el MontajeSe monta el día 18 de diciembre.Será inaugurado el día19 de diciembreServicios que proporcionara el organizador a los artesanos y mercaderes participantesSeguridadElectricidad \n\n\n\nOrganizador\n\n\n\nCOARTE-ALBA (Colectivo de Artesanos de Albacete)Información e Inscripcionescoartealba@hotmail.comWhatsApp658566072Email de contacto : coartealba@hotmail.com \n\n\n\nDescárgate :\n\n\n\n\nBases de participación\n\n\n\nSolicitud de participación\n\n\n\n\nRequisitos de participación ?Ser productor/ra de las obras y productos a exponer.Recibo de autónomoCarnet de artesano de su Comunidad.Precio del metro lineal\, caseta de madera\, o de la carpa ?El precio es de 1034€ \n\n\n\nMás fechas  Puedes conocer mas ferias y mercados en está provincia\, consultando nuestra sección de Eventos en Albacete  \n\n\n\notros mercados temáticos y FeriasSi quieres conocer cuando se realizan más ferias y mercados\, puedes consultarlos visitando nuestro   Calendario de Eventos \n\n\n\nCalendario 2024\n\n\n\nSobre los Mercados Medievales\n\n\n\nLas ferias medievales son eventos que recrean la atmósfera de la Edad Media. Por lo general\, se llevan a cabo en pueblos o ciudades\, y presentan puestos de vendedores que venden artesanías\, alimentos y bebidas. También puede haber entretenimiento\, como justas\, música y baile. \n\n\n\n\n\n\n\nDetalles del organizador\n\n\n\n\n\nLocalización\n\n\n\nAlbacete es una ciudad y municipio de España en la comunidad autónoma de Castilla-La Mancha\, capital de la provincia homónima.
URL:https://demercadosmedievales.info/mercadomedieval/muestra-de-artesania-regala-artesania-en-navidad-albacete/
LOCATION:Albacete capital (***)\, Albacete\, Albacete
CATEGORIES:Albacete,Cartel,Mercados de navidad
ATTACH;FMTTYPE=image/jpeg:https://demercadosmedievales.info/wp-content/uploads/2024/10/muestra_navidad_albacete_2024_f.jpg
ORGANIZER;CN="Coarte - Colectivo de artesanos de Burgos":MAILTO:coarteferias@gmail.com
GEO:38.9943983;-1.860173
END:VEVENT
END:VCALENDAR