BEGIN:VCALENDAR
VERSION:2.0
PRODID:-//Mercados Medievales - ECPv6.15.20//NONSGML v1.0//EN
CALSCALE:GREGORIAN
METHOD:PUBLISH
X-WR-CALNAME:Mercados Medievales
X-ORIGINAL-URL:https://demercadosmedievales.info
X-WR-CALDESC:Eventos para Mercados Medievales
REFRESH-INTERVAL;VALUE=DURATION:PT1H
X-Robots-Tag:noindex
X-PUBLISHED-TTL:PT1H
BEGIN:VTIMEZONE
TZID:Europe/Madrid
BEGIN:DAYLIGHT
TZOFFSETFROM:+0100
TZOFFSETTO:+0200
TZNAME:CEST
DTSTART:20230326T010000
END:DAYLIGHT
BEGIN:STANDARD
TZOFFSETFROM:+0200
TZOFFSETTO:+0100
TZNAME:CET
DTSTART:20231029T010000
END:STANDARD
BEGIN:DAYLIGHT
TZOFFSETFROM:+0100
TZOFFSETTO:+0200
TZNAME:CEST
DTSTART:20240331T010000
END:DAYLIGHT
BEGIN:STANDARD
TZOFFSETFROM:+0200
TZOFFSETTO:+0100
TZNAME:CET
DTSTART:20241027T010000
END:STANDARD
BEGIN:DAYLIGHT
TZOFFSETFROM:+0100
TZOFFSETTO:+0200
TZNAME:CEST
DTSTART:20250330T010000
END:DAYLIGHT
BEGIN:STANDARD
TZOFFSETFROM:+0200
TZOFFSETTO:+0100
TZNAME:CET
DTSTART:20251026T010000
END:STANDARD
END:VTIMEZONE
BEGIN:VEVENT
DTSTART;TZID=Europe/Madrid:20240814T000000
DTEND;TZID=Europe/Madrid:20240817T235959
DTSTAMP:20260422T192456
CREATED:20240706T052519Z
LAST-MODIFIED:20240801T073915Z
UID:10001532-1723593600-1723939199@demercadosmedievales.info
SUMMARY:Mercado Medieval de Portugalete (Vizcaya) 2024
DESCRIPTION:Será los días 14 Al 17 De Agosto (Jueves A Sábado) en el Casco Antiguo. C/ Atarazanas\, Cantón De La Iglesia\, Pza. De La Ranchería\, Aledaños De La Basílica De Santa María. \n \nTags:  2024\, convocatoria\, Erdi Aroko merkatua\, España\, euskadi\, feria medieval\, PORTUGALETE \nMercado Medieval\n \nCartel \n \nProgramación  \n** Próximamente dispondremos del programa con las actividades previstas. \nInformación básica del Mercado\nFecha de celebración Los dias 14 al 17 de Agosto (Jueves A Sábado) del  2024 \nDonde se realizaEn la localidad de Portugalete que pertenece a la provincia de  VIZCAYA \nUbicación del EventoEstará ubicado en el Casco Antiguo. C/ Atarazanas\, Cantón De La Iglesia\, Pza. De La Ranchería\, Aledaños De La Basílica De Santa María \nInformación del Organizador\nLa empresa organizadora es LA FRAGUA DE VULCANO \nComo participarInformación e Inscripciones:lafragua@espectaculosamb.com \nLA FRAGUA DE VULCANO organiza este mercado medieval en el casco antiguo de la Villa de Portugalete\, de más de 45.000 habitantes\, muy próxima a Bilbao capital y en uno de los márgenes de la Ría.Este es uno de los mercados más interesantes del País Vasco\, y nos complace haber resultado adjudicatarios de su organización en esta edición. \nEl Mercado contará con un gran programa de actividades con animación teatral  y musical\, pasacalles\, cuentacuentos\, espectáculos nocturnos\, circenses\, exposiciones temáticas\, espacio infantil con juegos y atracciones\, espectáculos de gran formato\, talleres de oficios antiguos y otras actividades complementarias. \nMás fechasPuedes conocer mas ferias y mercados en está provincia\, consultando nuestra sección de Eventos en Vizcaya \nOtros eventos del organizadorConsulta Aquí otras ferias y mercados que organizará la empresa La Fragua de Vulcano \nOtros mercados temáticos y FeriasSi quieres conocer cuando se realizan más ferias y mercados\, puedes consultarlos visitando nuestro  Calendario de Eventos \nAcerca de Portugalete\nPortugalete es un municipio español de la provincia de Vizcaya\, en la comunidad autónoma del País Vasco\, y una villa de dicha provincia\, la única entidad de población del municipio. \nMercado Medieval de Portugalete (Vizcaya) 2024\n**Fecha de celebración:**Los dias 14 al 17 de Agosto (Jueves A Sábado) del  2024 \n**Dónde se realiza:**En la localidad de Portugalete que pertenece a la provincia de  VIZCAYA \n**Ubicación del Evento:**El evento estará ubicado en el Casco Antiguo de Portugalete\, en las siguientes áreas:– Calle Atarazanas– Cantón de la Iglesia– Plaza de la Ranchería– Aledaños de la Basílica de Santa María \n**Información del Organizador:**La empresa organizadora es ** LA FRAGUA DE VULCANO **. \n**Cómo participar:**Para información e inscripciones\, contactar a través del correo: lafragua@espectaculosamb.com] \n**Descripción del Evento:**La Fragua de Vulcano organiza este mercado medieval en el casco antiguo de la Villa de Portugalete\, una localidad con más de 45\,000 habitantes\, muy próxima a Bilbao capital y situada en uno de los márgenes de la Ría. \nEste mercado medieval es uno de los más interesantes del País Vasco\, y estamos encantados de haber sido adjudicatarios de su organización en esta edición. \n**Actividades del Mercado:**El Mercado Medieval de Portugalete contará con un gran programa de actividades\, entre las que se incluyen:– Animación teatral y musical– Pasacalles– Cuentacuentos– Espectáculos nocturnos– Espectáculos circenses– Exposiciones temáticas– Espacio infantil con juegos y atracciones– Espectáculos de gran formato– Talleres de oficios antiguos– Otras actividades complementarias \n¡Te esperamos para disfrutar de un viaje al pasado lleno de entretenimiento y cultura en el Mercado Medieval de Portugalete 2024! \nCalendario 2024\nSobre los Mercados Medievales\nLas Ferias y mercados medievales son eventos populares que recrean el ambiente y la atmósfera de la Edad Media. Estos eventos suelen tener lugar en diferentes partes del mundo y atraen a numerosos visitantes que desean sumergirse en la historia y disfrutar de una experiencia única. Las ferias y mercados medievales suelen tener una gran cantidad de visitantes\, ya que ofrecen una oportunidad única de sumergirse en la historia y disfrutar de una experiencia diferente. También son muy populares entre los amantes de la cultura medieval\, los aficionados a la historia y las familias que buscan una actividad divertida y educativa. Consulta nuestro amplio calendario de eventos \nMultimedia : 
URL:https://demercadosmedievales.info/mercadomedieval/mercado-medieval-de-portugalete-vizcaya-2024/
LOCATION:Portugalete (Vizcaya) (***)\, Portugalete\, Biscay
CATEGORIES:Cartel,Mercado Medieval,Vizcaya
ATTACH;FMTTYPE=image/jpeg:https://demercadosmedievales.info/wp-content/uploads/2024/08/medieval_portugalete_f.jpg
ORGANIZER;CN="La Fragua de Vulcano":MAILTO:lafragua@espectaculosamb.com
GEO:43.3182479;-3.0211969
END:VEVENT
END:VCALENDAR