BEGIN:VCALENDAR
VERSION:2.0
PRODID:-//Mercados Medievales - ECPv6.15.20//NONSGML v1.0//EN
CALSCALE:GREGORIAN
METHOD:PUBLISH
X-WR-CALNAME:Mercados Medievales
X-ORIGINAL-URL:https://demercadosmedievales.info
X-WR-CALDESC:Eventos para Mercados Medievales
REFRESH-INTERVAL;VALUE=DURATION:PT1H
X-Robots-Tag:noindex
X-PUBLISHED-TTL:PT1H
BEGIN:VTIMEZONE
TZID:Europe/Madrid
BEGIN:DAYLIGHT
TZOFFSETFROM:+0100
TZOFFSETTO:+0200
TZNAME:CEST
DTSTART:20240331T010000
END:DAYLIGHT
BEGIN:STANDARD
TZOFFSETFROM:+0200
TZOFFSETTO:+0100
TZNAME:CET
DTSTART:20241027T010000
END:STANDARD
BEGIN:DAYLIGHT
TZOFFSETFROM:+0100
TZOFFSETTO:+0200
TZNAME:CEST
DTSTART:20250330T010000
END:DAYLIGHT
BEGIN:STANDARD
TZOFFSETFROM:+0200
TZOFFSETTO:+0100
TZNAME:CET
DTSTART:20251026T010000
END:STANDARD
BEGIN:DAYLIGHT
TZOFFSETFROM:+0100
TZOFFSETTO:+0200
TZNAME:CEST
DTSTART:20260329T010000
END:DAYLIGHT
BEGIN:STANDARD
TZOFFSETFROM:+0200
TZOFFSETTO:+0100
TZNAME:CET
DTSTART:20261025T010000
END:STANDARD
END:VTIMEZONE
BEGIN:VEVENT
DTSTART;TZID=Europe/Madrid:20250503T000000
DTEND;TZID=Europe/Madrid:20250504T235959
DTSTAMP:20260422T060627
CREATED:20250204T073037Z
LAST-MODIFIED:20250307T091625Z
UID:10002175-1746230400-1746403199@demercadosmedievales.info
SUMMARY:05/2025 XXIII Encuentro de Grupos de Recreación Medieval de Ciutadilla
DESCRIPTION:Feria de artesanos durante el Encuentro de Grupos de Recreación Medieval\, con el castillo de fondo\, una ambientación histórica del día a día de la edad media en la villa de Ciutadilla. \n\n\n\n\n\n\n\nXXIII  Encuentro de Grupos de Recreación Medieval\n\n\n\n \n\n\n\n\n\n\n\n \n\n\n\n\nLos días son: 3 y 4 de Mayo  2025.\n\n\n\nLocalidad: Ciutadilla\n\n\n\nProvincia: LERIDA / LLEIDA\n\n\n\nOrganizador: Ciutadilla Medieval\n\n\n\n\n \n\n\n\nPara hacer una preinscripción nos tenéis que mandar los siguientes datos: \n\n\n\n\nTipos de producto\n\n\n\nDimensiones de la parada (fotos)\n\n\n\nDNI y Alta SS (o autónomos)\n\n\n\nRegistro Sanitario (alimentación)\n\n\n\nSeguro RC\n\n\n\nNº de personas que vendréis.\n\n\n\nMóvil de contacto\n\n\n\n\nLa tasa por ocupación de vía pública que habrá que abonar\, una vez recibáis el correo de confirmación de plaza\, se regirá según el artículo y las dimensiones de la parada: \n\n\n\n\nParadas de temática medieval destinadas a la venta de productos o servicios no alimentarios\, con una anchura de hasta 6 metros lineales: 20 € / día. Por cada metro lineal de más\, se incrementa la tasa en 5 €.\n\n\n\n\n\nParadas de temática medieval destinadas a la venta de productos alimenticios\, con una anchura de hasta 6 metros lineales: 35 € / día. Por cada metro lineal de más\, se incrementa la tasa en 5 €.\n\n\n\n\n\nParadas\, barracas y casetas en fiestas populares y ferias destinadas a servicios de restauración\, bar o cafetería\, con una anchura de hasta 6 metros lineales: 50 € / día. Por cada metro lineal de más\, se incrementa la tasa en 5 €. Si se montan mesas y sillas\, son 10 € más al día.\n\n\n\n\nOfrecemos toma de luz y agua y otros servicios que se puedan necesitar. Se puede venir a montar el viernes 2 de Mayo a partir de las 16h o el mismo sábado 3 de Mayo desde las 8h a las 10h. La apertura es a las 11h \n\n\n\nContacto: Òscar Martínez – 645847401 –  info@ciutadillamedieval.cat  –  www.ciutadillamedieval.cat \n\n\n\n \n\n\n\n Acerca de Ciutadilla\n\n\n\nCiutadilla es un municipio español perteneciente a la provincia de Lérida\, en la comarca del Urgel\, Cataluña. \n\n\n\n\n\n \n\n\n\n\n\n\n\nDe tu interés :\n\n\n\n\nEventos de LA PROVINCIA DE  LLEIDA\n\n\n\nCalendario de Mercados Medievales en Mayo\n\n\n\nFerias y Mercados en España\n\n\n\nOrganizadores de Mercados y Ferias\n\n\n\n\n\nVisita nuestro Calendario de Eventos para obtener detalles de: Calendario 2025: Planifica con anticipación y no te pierdas ninguna cita.\n\n\n\n\n\nLas ferias medievales son auténticos viajes en el tiempo. Estos eventos recrean la atmósfera de la Edad Media. Leer más…\n\n\n\n\n\n\n\n\n \n\n\n\n\n\n\n\n \n\n\n\n\n\n\n\n\n\n\n\nMercadosmedievales.net \n\n\n\nLas ferias medievales son auténticos viajes en el tiempo. Estos eventos recrean la atmósfera de la Edad Media….  \n\n\n\n\n\n\n\n\n\n\nBuscar \n\n\nSearch\n					\n				\n\n\n\n\n\nSocial \n\n\n\n\nFacebook \n\n\n\nInstagram \n\n\n\nTwitter
URL:https://demercadosmedievales.info/mercadomedieval/05-2025-xxiii-encuentro-de-grupos-de-recreacion-medieval-de-ciutadilla/
LOCATION:Ciutadilla (Lleida) (***)\, Ciutadilla\, Lleida\, 25341\, Spain
CATEGORIES:Cataluña,Lleida,Mercado Medieval
ATTACH;FMTTYPE=image/jpeg:https://demercadosmedievales.info/wp-content/uploads/2025/02/1200-ciutadilla-medieval.jpg
GEO:41.5612352;1.1395
END:VEVENT
END:VCALENDAR