BEGIN:VCALENDAR
VERSION:2.0
PRODID:-//Mercados Medievales - ECPv6.15.20//NONSGML v1.0//EN
CALSCALE:GREGORIAN
METHOD:PUBLISH
X-WR-CALNAME:Mercados Medievales
X-ORIGINAL-URL:https://demercadosmedievales.info
X-WR-CALDESC:Eventos para Mercados Medievales
REFRESH-INTERVAL;VALUE=DURATION:PT1H
X-Robots-Tag:noindex
X-PUBLISHED-TTL:PT1H
BEGIN:VTIMEZONE
TZID:Europe/Madrid
BEGIN:DAYLIGHT
TZOFFSETFROM:+0100
TZOFFSETTO:+0200
TZNAME:CEST
DTSTART:20220327T010000
END:DAYLIGHT
BEGIN:STANDARD
TZOFFSETFROM:+0200
TZOFFSETTO:+0100
TZNAME:CET
DTSTART:20221030T010000
END:STANDARD
BEGIN:DAYLIGHT
TZOFFSETFROM:+0100
TZOFFSETTO:+0200
TZNAME:CEST
DTSTART:20230326T010000
END:DAYLIGHT
BEGIN:STANDARD
TZOFFSETFROM:+0200
TZOFFSETTO:+0100
TZNAME:CET
DTSTART:20231029T010000
END:STANDARD
BEGIN:DAYLIGHT
TZOFFSETFROM:+0100
TZOFFSETTO:+0200
TZNAME:CEST
DTSTART:20240331T010000
END:DAYLIGHT
BEGIN:STANDARD
TZOFFSETFROM:+0200
TZOFFSETTO:+0100
TZNAME:CET
DTSTART:20241027T010000
END:STANDARD
BEGIN:DAYLIGHT
TZOFFSETFROM:+0100
TZOFFSETTO:+0200
TZNAME:CEST
DTSTART:20250330T010000
END:DAYLIGHT
BEGIN:STANDARD
TZOFFSETFROM:+0200
TZOFFSETTO:+0100
TZNAME:CET
DTSTART:20251026T010000
END:STANDARD
END:VTIMEZONE
BEGIN:VEVENT
DTSTART;TZID=Europe/Madrid:20241115T000000
DTEND;TZID=Europe/Madrid:20241117T235959
DTSTAMP:20260420T084849
CREATED:20240925T095138Z
LAST-MODIFIED:20241113T181820Z
UID:10001763-1731628800-1731887999@demercadosmedievales.info
SUMMARY:Mercado Medieval de Encinarejo de Córdoba 2024
DESCRIPTION:En la Plaza de Andalucía y alrededores de Encinarejo acogerá el próximo mercado medieval \, los días del 15 al 17 de noviembre del 2024.  \n\n\n\n\n\n\nMercado Medieval de Encinarejo de Córdoba\n\n\n\n\n\n\n\n\n\n\n\n \n\n\n\n \n\n\n\nInformación básica del Evento\n\n\n\nLa fecha de celebración será15\, 16 y 17 de noviembre del  2024Hasta que fecha se pueden inscribir los artesanos y mercaderes ?Hasta completar plazasEl lugar de celebración seráEncinarejo de Córdoba (Provincia de CORDOBA)Estará ubicado enPlaza de Andalucía y alrededorDescripción interesante del EventoMercado medieval en Encinarejo de CórdobaEncinarejo\, antiguamente denominado Encinarejo de Córdoba\,​ es una entidad local autónoma perteneciente al municipio español de Córdoba\, en la provincia de Córdoba (Andalucía).Sus orígenes se remontan a la década de 1940\, cuando nace originalmente como un poblado de colonización bajo los auspicios del Instituto Nacional de Colonización. Inicialmente se asentó en la zona una población de 83 agricultores junto a sus familias. Desde la década de 1980 la localidad ha experimentado un crecimiento demográfico\, ampliándose también la urbanización.(extraído de internet )Cuando será el Montaje15 de noviembreSerá inaugurado el día15 de noviembreServicios que proporcionara el organizador a los artesanos y mercaderes participantesSeguridadAguaElectricidadOtro: Animación de calle \n\n\n\nOrganizador\n\n\n\nMalik Mercados TemáticosInformación e Inscripcionesasociacionmalik@hotmail.comWhatsApp 657665994 / 676928928Email de contacto :asociacionmalik@hotmail.com \n\n\n\nMás fechas  Puedes conocer mas ferias y mercados en está provincia\, consultando nuestra sección de Eventos en Córdoba  \n\n\n\nOtros eventos del organizadorConsulta Aquí otras ferias y mercados que organizará la empresa Malik mercados tematicos \n\n\n\notros mercados temáticos y FeriasSi quieres conocer cuando se realizan más ferias y mercados\, puedes consultarlos visitando nuestro   Calendario de Eventos \n\n\n\nCalendario 2024\n\n\n\nSobre los Mercados Medievales\n\n\n\nLas ferias medievales son eventos que recrean la atmósfera de la Edad Media. Por lo general\, se llevan a cabo en pueblos o ciudades\, y presentan puestos de vendedores que venden artesanías\, alimentos y bebidas. También puede haber entretenimiento\, como justas\, música y baile. \n\n\n\n\n\n\n\n \n\n\n\nDetalles del organizador\n\n\n\n\n\nLocalización\n\n\n\nEncinarejo\, antiguamente denominado Encinarejo de Córdoba\, ​ es una entidad local autónoma perteneciente al municipio español de Córdoba\, en la provincia de Córdoba.
URL:https://demercadosmedievales.info/mercadomedieval/mercado-medieval-de-encinarejo-de-cordoba-2024/
LOCATION:Encinarejo (Córdoba) (***)\, Centro de la localidad\, Plaza Andalucía\, Encinarejo\, Córdoba\, España
CATEGORIES:Cartel,Cordoba,Mercado Medieval,Programación
ATTACH;FMTTYPE=image/jpeg:https://demercadosmedievales.info/wp-content/uploads/2024/09/medieval_encinarejo-2024-f.jpg
ORGANIZER;CN="Malik Culture Eventos":MAILTO:asociacionmalim@hotmail.com
GEO:37.8698596;-4.7791738
X-APPLE-STRUCTURED-LOCATION;VALUE=URI;X-ADDRESS=Encinarejo (Córdoba) (***) Centro de la localidad Plaza Andalucía Encinarejo Córdoba España;X-APPLE-RADIUS=500;X-TITLE=Centro de la localidad\, Plaza Andalucía:geo:-4.7791738,37.8698596
END:VEVENT
BEGIN:VEVENT
DTSTART;VALUE=DATE:20231110
DTEND;VALUE=DATE:20231113
DTSTAMP:20260420T084849
CREATED:20231027T045908Z
LAST-MODIFIED:20231108T184254Z
UID:10000614-1699574400-1699833599@demercadosmedievales.info
SUMMARY:MERCADO MEDIEVAL DE ENCINAREJO (CÓRDOBA) 2023
DESCRIPTION:El Mercado Medieval de Encinarejo (Córdoba) 2023 se celebrará del 10 al 12 de noviembre en el centro de la localidad\, en la Plaza Andalucía. Contará con un mercado de artesanía y gastronomía\, así como con espectáculos y animación de calle. \nEl mercado estará abierto desde las 11:00 hasta las 22:00 horas todos los días. Los puestos ofrecerán una amplia variedad de productos artesanales\, como bisutería\, cerámica\, madera\, cuero\, etc. También habrá puestos de comida y bebida\, donde se podrán degustar platos típicos de la época medieval. \n \n\n\n\nMERCADO MEDIEVAL DE ENCINAREJO (CÓRDOBA) 2023\n\n\n\n\n\n\n\n\n\nFecha de inicio y finalización\n\n\n\n\nDel 10 al 12 de Noviembre 2023\n\n\n\n\n\n\n\n\n\nPlazo de Inscripción ( Hasta que día se pueden apuntar los artesanos y mercaderes)*\n\n\n\n\nHasta completar\n\n\n\n\n\n\n\n\n\nLocalidad y Provincia\n\n\n\n\nEncinarejo\, CORDOBA – Encinarejo es una localidad y pedanía de la provincia de Córdoba\, en la Comunidad Autónoma de Andalucía\, España. Está situado en la Vega del Guadalquivir\, entre Córdoba y Almodóvar del Río.\n\n\n\n\n\n\n\n\n\nUbicación dentro de la localidad (calle\, Plaza\, vía\, etc.)\n\n\n\n\nCentro de la localidad\, Plaza Andalucía\n\n\n\n\n\n\n\n\n\nDescripción del Evento :\n\n\n\n\nSe ubica en la región geográfica de la Vega del río Guadalquivir\, entre Córdoba y Almodóvar del Río\, entre la Sierra de Córdoba y su Campiña. Al sur del pueblo\, en las márgenes del meandro de Encinarejo\, se encuentran las espectaculares Torronteras de Rojas\, que se convierten en el límite natural entre la Vega y la propia Campiña cordobesa. La calidad de sus tierras ha posibilitado la creación de un modelo agrario intensivo sustentado sobre el regadío del Guadalmellato. Ello\, sin embargo\, se compatibiliza con la conservación de un rico paisaje natural de ribera. En Encinarejo se disfruta de un entorno privilegiado\, al que contribuyen su llana orografía\, la diversidad de paisajes (al norte la Sierra\, al sur la Campiña)\, el paso del río Guadalquivir\, la vegetación de bosque de ribera y la fauna que en él habita\, en la que se han contabilizado más de 115 especies de aves. (andalucía.org)\n\n\n\n\n\n\n\n\n\nDia y hora de Montaje :\n\n\n\n\n10 de noviembre horario de mañana\n\n\n\n\n\n\n\n\n\nFecha y hora de Inauguración\n\n\n\n\n10 de noviembre 17:00 hs\n\n\n\n\n\n\n\n\n\nEl organizador proveerá de :\n\n\n\n\n\n\n\n\nSeguridad\nAgua\n\n\n\n\n\n\n\n\nElectricidad\n\n\n\n\n\n\n\n\n\n\n\n\n\nLogo \n  \n\nOrganizador :\n\n\n\n\nMalik Mercados Temáticos\n\n\n\n\n\n\n\n\n\nTeléfono\n\n\n\n\n657665994 676928928\n\n\n\n\n\n\n\n\n\nEmail\n\n\n\n\nasociacionmalik@hotmail.com\n\n\n\n\n\n\n\n\nCartel\n 
URL:https://demercadosmedievales.info/mercadomedieval/mercado-medieval-de-encinarejo-cordoba-2023/
LOCATION:Encinarejo (Córdoba) (***)\, Centro de la localidad\, Plaza Andalucía\, Encinarejo\, Córdoba\, España
CATEGORIES:Cordoba,Malik mercados tematicos,Mercado Medieval
ATTACH;FMTTYPE=image/jpeg:https://demercadosmedievales.info/wp-content/uploads/2023/10/ENCINAREJO_MEDIEVAL_2023_cartel_F.jpg
GEO:37.8698596;-4.7791738
X-APPLE-STRUCTURED-LOCATION;VALUE=URI;X-ADDRESS=Encinarejo (Córdoba) (***) Centro de la localidad Plaza Andalucía Encinarejo Córdoba España;X-APPLE-RADIUS=500;X-TITLE=Centro de la localidad\, Plaza Andalucía:geo:-4.7791738,37.8698596
END:VEVENT
END:VCALENDAR