BEGIN:VCALENDAR
VERSION:2.0
PRODID:-//Mercados Medievales - ECPv6.15.20//NONSGML v1.0//EN
CALSCALE:GREGORIAN
METHOD:PUBLISH
X-WR-CALNAME:Mercados Medievales
X-ORIGINAL-URL:https://demercadosmedievales.info
X-WR-CALDESC:Eventos para Mercados Medievales
REFRESH-INTERVAL;VALUE=DURATION:PT1H
X-Robots-Tag:noindex
X-PUBLISHED-TTL:PT1H
BEGIN:VTIMEZONE
TZID:Europe/Madrid
BEGIN:DAYLIGHT
TZOFFSETFROM:+0100
TZOFFSETTO:+0200
TZNAME:CEST
DTSTART:20230326T010000
END:DAYLIGHT
BEGIN:STANDARD
TZOFFSETFROM:+0200
TZOFFSETTO:+0100
TZNAME:CET
DTSTART:20231029T010000
END:STANDARD
BEGIN:DAYLIGHT
TZOFFSETFROM:+0100
TZOFFSETTO:+0200
TZNAME:CEST
DTSTART:20240331T010000
END:DAYLIGHT
BEGIN:STANDARD
TZOFFSETFROM:+0200
TZOFFSETTO:+0100
TZNAME:CET
DTSTART:20241027T010000
END:STANDARD
BEGIN:DAYLIGHT
TZOFFSETFROM:+0100
TZOFFSETTO:+0200
TZNAME:CEST
DTSTART:20250330T010000
END:DAYLIGHT
BEGIN:STANDARD
TZOFFSETFROM:+0200
TZOFFSETTO:+0100
TZNAME:CET
DTSTART:20251026T010000
END:STANDARD
END:VTIMEZONE
BEGIN:VEVENT
DTSTART;TZID=Europe/Madrid:20240809T000000
DTEND;TZID=Europe/Madrid:20240811T235959
DTSTAMP:20260422T185923
CREATED:20240619T123420Z
LAST-MODIFIED:20240728T053845Z
UID:10001451-1723161600-1723420799@demercadosmedievales.info
SUMMARY:EL PERELLÓ WEEKEND´S (VALENCIA)  - Market marinero de Agosto 2024
DESCRIPTION:¡El Perelló Weekend´s se va a convertir en el plan del verano! en el PARQUE DEL SOCARRAT (Frente a la Playa del Perelló). \n \nTags:  2024\, Comunidad Valenciana\, convocatoria\, El perello\, EL PERELLÓ WEEKEND´S\, España\, feria medieval\, sueca \nMarket Marinero \nLA FRAGUA DE VULCANO organizará este verano un MERCADO MARINERO en la turística población de EL PERELLÓ (VALENCIA). \nMuy próximo a Valencia capital\, El Perelló se convierte en la temporada estival en un destino turístico destacado\, rodeado de maravillosas playas y con la Albufera de Valencia muy cercana. \nEl mercado contará con actividades de animación teatral y musical ambientados de temática marinera\, personajes\, atracciones y juegos infantiles\, así como decoración de estilo marinero.  \nDurante varios fines de semana se van a realizar mercados de diferentes temáticas en la zona de la playa  con ambientaciones y actividades diferentes\, atractivas para todo tipo de público\, las cuales se promocionarán mediante acciones especiales de publicidad. \n \nInformación básica del Mercado\nFecha de celebración Los dias 09 al 11 de Agosto  del  2024 \nDonde se realizaEn la localidad de El Perelló  que pertenece a la provincia de  VALENCIA \nUbicación del EventoEstará ubicado en Parque del Socarrat – Playa de El Perelló \nInformación del Organizador\nLa empresa organizadora es LA FRAGUA DE VULCANO \nComo participar\nLos organizadores han facilitado los siguientes medios de contacto para que se inscriban y/o consulten los artesanos y mercaderes:Información e Inscripciones:Teléfono : 963400037contacto@espectaculosamb.com \nEL PERELLÓ WEEKEND´S (VALENCIA)\nVARIAS FECHASPARQUE DEL SOCARRAT (Frente a la Playa del Perelló) \n \n \nEl objetivo es dinamizar la zona de El Perelló atrayendo a todos sus visitantes y de las zonas de alrededor. El Perelló\, es una zona muy transitada en la época estival\, por lo que el éxito de público está garantizado.\n\nCabe destacar\, que aunque es una zona de veraneo habitualmente no tiene mucha oferta de ocio\, por lo que… \n¡El Perelló Weekend´s se va a convertir en el plan del verano! \n\n \nDurante varios fines de semana se van a realizar mercados de diferentes temáticas en la zona de la playa  con ambientaciones y actividades diferentes\, atractivas para todo tipo de público\, las cuales se promocionarán mediante acciones especiales de publicidad.\n \nEl Perelló Weekend´s es tu apuesta de verano.¡No pierdas la oportunidad de participar en estos eventos!Solicita tu espacio.\nMontaje: Pendiente de confirmación (dependiendo de la fecha solicitada)Lugar: Parque del Socarrat – Playa de El PerellóInformación:contacto@espectaculosamb.com \nMás fechasPuedes conocer mas ferias y mercados en está provincia\, consultando nuestra sección de Eventos en Valencia \nOtros eventosConsulta Aquí otras ferias y mercados que organizará la empresa La Fragua de Vulcano \nOtros mercados temáticos y FeriasSi quieres conocer cuando se realizan más ferias y mercados\, puedes consultarlos visitando nuestro  Calendario de Eventos \nAcerca de El Perelló\nEl Perelló es una entidad local menor ​ perteneciente al municipio valenciano de Sueca\, en la Comunidad Valenciana. Contaba con una población censada de 1854 habitantes en 2017.​ En los meses estivales la población puede alcanzar estacionalmente los 40 000 habitantes.​ \nCalendario 2024\nSobre los Mercados Medievales\nLas Ferias y mercados medievales son eventos populares que recrean el ambiente y la atmósfera de la Edad Media. Estos eventos suelen tener lugar en diferentes partes del mundo y atraen a numerosos visitantes que desean sumergirse en la historia y disfrutar de una experiencia única. Las ferias y mercados medievales suelen tener una gran cantidad de visitantes\, ya que ofrecen una oportunidad única de sumergirse en la historia y disfrutar de una experiencia diferente. También son muy populares entre los amantes de la cultura medieval\, los aficionados a la historia y las familias que buscan una actividad divertida y educativa. Consulta nuestro amplio calendario de eventos \n 
URL:https://demercadosmedievales.info/mercadomedieval/el-perello-weekends-valencia-market-romano-2024-2/
LOCATION:El Perelló (Valencia) (***)\, El Perelló\, València\, 46420
CATEGORIES:Cartel,mercado marinero,Valencia
ATTACH;FMTTYPE=image/jpeg:https://demercadosmedievales.info/wp-content/uploads/2024/07/marinero_el_perelllo_f.jpg
ORGANIZER;CN="La Fragua de Vulcano":MAILTO:lafragua@espectaculosamb.com
GEO:39.2761486;-0.2784766
END:VEVENT
BEGIN:VEVENT
DTSTART;VALUE=DATE:20240802
DTEND;VALUE=DATE:20240805
DTSTAMP:20260422T185923
CREATED:20240619T114712Z
LAST-MODIFIED:20240727T191039Z
UID:10001450-1722556800-1722815999@demercadosmedievales.info
SUMMARY:EL PERELLÓ WEEKEND´S (VALENCIA)  - Market hippie 2024
DESCRIPTION:¡El Perelló Weekend´s se va a convertir en el plan del verano! en el PARQUE DEL SOCARRAT (Frente a la Playa del Perelló). \n \nTags:  2024\, Comunidad Valenciana\, convocatoria\, El perello\, EL PERELLÓ WEEKEND´S\, España\, feria medieval\, sueca \nMarket Hippie\nDurante varios fines de semana se van a realizar mercados de diferentes temáticas en la zona de la playa  con ambientaciones y actividades diferentes\, atractivas para todo tipo de público\, las cuales se promocionarán mediante acciones especiales de publicidad. \n \nInformación básica del Mercado\nFecha de celebración Los dias 02 al 04 de Agosto  del  2024 \nDonde se realizaEn la localidad de El Perelló  que pertenece a la provincia de  VALENCIA \nUbicación del EventoEstará ubicado en Parque del Socarrat – Playa de El Perelló \nInformación del Organizador\nLa empresa organizadora es LA FRAGUA DE VULCANO \nComo participar\nLos organizadores han facilitado los siguientes medios de contacto para que se inscriban y/o consulten los artesanos y mercaderes:Información e Inscripciones:Teléfono : 963400037contacto@espectaculosamb.com \nEL PERELLÓ WEEKEND´S (VALENCIA)\nVARIAS FECHASPARQUE DEL SOCARRAT (Frente a la Playa del Perelló) \n \n \n \n\nEl objetivo es dinamizar la zona de El Perelló atrayendo a todos sus visitantes y de las zonas de alrededor. El Perelló\, es una zona muy transitada en la época estival\, por lo que el éxito de público está garantizado. \nCabe destacar\, que aunque es una zona de veraneo habitualmente no tiene mucha oferta de ocio\, por lo que… \n¡El Perelló Weekend´s se va a convertir en el plan del verano! \n\n \nDurante varios fines de semana se van a realizar mercados de diferentes temáticas en la zona de la playa  con ambientaciones y actividades diferentes\, atractivas para todo tipo de público\, las cuales se promocionarán mediante acciones especiales de publicidad.\n \nEl Perelló Weekend´s es tu apuesta de verano.¡No pierdas la oportunidad de participar en estos eventos!Solicita tu espacio.\nMontaje: Pendiente de confirmación (dependiendo de la fecha solicitada)Lugar: Parque del Socarrat – Playa de El PerellóInformación:contacto@espectaculosamb.com \nMás fechasPuedes conocer mas ferias y mercados en está provincia\, consultando nuestra sección de Eventos en Valencia \nOtros eventosConsulta Aquí otras ferias y mercados que organizará la empresa La Fragua de Vulcano \nOtros mercados temáticos y FeriasSi quieres conocer cuando se realizan más ferias y mercados\, puedes consultarlos visitando nuestro  Calendario de Eventos \nAcerca de El Perelló\nEl Perelló es una entidad local menor ​ perteneciente al municipio valenciano de Sueca\, en la Comunidad Valenciana. Contaba con una población censada de 1854 habitantes en 2017.​ En los meses estivales la población puede alcanzar estacionalmente los 40 000 habitantes.​ \nCalendario 2024\nSobre los Mercados Medievales\nLas Ferias y mercados medievales son eventos populares que recrean el ambiente y la atmósfera de la Edad Media. Estos eventos suelen tener lugar en diferentes partes del mundo y atraen a numerosos visitantes que desean sumergirse en la historia y disfrutar de una experiencia única. Las ferias y mercados medievales suelen tener una gran cantidad de visitantes\, ya que ofrecen una oportunidad única de sumergirse en la historia y disfrutar de una experiencia diferente. También son muy populares entre los amantes de la cultura medieval\, los aficionados a la historia y las familias que buscan una actividad divertida y educativa. Consulta nuestro amplio calendario de eventos \nTags:  Feria Medieval\,Convocatoria\,organizador\,montaje\,inscripciones\,cuando\,donde\,localización\,2024\,EL PERELLÓ WEEKEND´S \,Comunidad Valenciana\,España
URL:https://demercadosmedievales.info/mercadomedieval/el-perello-weekends-valencia-market-romano-2024/
LOCATION:El Perelló (Valencia) (***)\, El Perelló\, València\, 46420
CATEGORIES:Cartel,Mercado Hippie,Mercado romano,Valencia
ATTACH;FMTTYPE=image/jpeg:https://demercadosmedievales.info/wp-content/uploads/2024/06/hippie_el_perello_f.jpg
ORGANIZER;CN="La Fragua de Vulcano":MAILTO:lafragua@espectaculosamb.com
GEO:39.2761486;-0.2784766
END:VEVENT
BEGIN:VEVENT
DTSTART;TZID=Europe/Madrid:20240726T000000
DTEND;TZID=Europe/Madrid:20240728T235959
DTSTAMP:20260422T185923
CREATED:20240619T125419Z
LAST-MODIFIED:20240717T180521Z
UID:10001452-1721952000-1722211199@demercadosmedievales.info
SUMMARY:EL PERELLÓ WEEKEND´S (VALENCIA)  - Market Romano 2024
DESCRIPTION:¡El Perelló Weekend´s se va a convertir en el plan del verano! en el PARQUE DEL SOCARRAT (Frente a la Playa del Perelló). El mercado contará con actividades y una  decoración de temática romana con personajes\, atracciones y juegos infantiles\, será Los dias 26 AL 28 DE JULIO . \n \nTags:  2024\, Comunidad Valenciana\, convocatoria\, El perello\, EL PERELLÓ WEEKEND´S\, España\, feria medieval\, sueca \nMarket Romano\nArtesanía\, alimentación\, mojitos\, música\, espacio infantil y mucho más.. \n \n  \nInformación básica del Mercado\nFecha de celebración\n Los dias 26 AL 28 DE JULIO  del  2024\nDonde se realiza\nEn la localidad de El Perelló  que pertenece a la provincia de  VALENCIA\nUbicación del Evento\nEstará ubicado en Parque del Socarrat – Playa de El Perelló \nInformación del Organizador\nLa empresa organizadora es LA FRAGUA DE VULCANO \nComo participar\nInformación e Inscripciones:\nTeléfono : 963400037\ncontacto@espectaculosamb.com \nMERCADO ROMANO\nEL PERELLÓ (VALENCIA)\n26 AL 28 DE JULIO\nPARQUE DEL SOCARRAT. JUNTO A LA PLAYA DE EL PERELLÓ \nLa Fragua de Vulcano organizará este verano un MERCADO ROMANO en la turística población de EL PERELLÓ (VALENCIA). \nMuy próximo a Valencia capital\, El Perelló se convierte en la temporada estival en un destino turístico destacado\, rodeado de maravillosas playas y con la Albufera de Valencia muy cercana. El mercado contará con actividades y una decoración de temática romana con personajes\, atracciones y juegos infantiles\,\n\nEste mercado es el segundo de una serie de mercados que tendrán lugar durante todo el verano en la misma ubicación ¡INFÓRMATE SOBRE TODOS ELLOS! Si estás interesado en participar\, envíales un correo electrónico mostrando tu interés. Te remitiran en breve todas las condiciones de participación y requisitos\, para confirmar tu participación.\nMontaje: Pendiente de confirmación\nLugar: Parque del Socarrat. Playa de El Perelló\nInformación:\ncontacto@espectaculosamb.com\nDurante varios fines de semana se van a realizar mercados de diferentes temáticas en la zona de la playa  con ambientaciones y actividades diferentes\, atractivas para todo tipo de público\, las cuales se promocionarán mediante acciones especiales de publicidad. \n \n\n \n\n  \nMás fechas\nPuedes conocer mas ferias y mercados en está provincia\, consultando nuestra sección de Eventos en Valencia \nOtros eventos\nConsulta Aquí otras ferias y mercados que organizará la empresa La Fragua de Vulcano \nOtros mercados temáticos y Ferias\nSi quieres conocer cuando se realizan más ferias y mercados\, puedes consultarlos visitando nuestro  Calendario de Eventos \nAcerca de El Perelló\n  \nCalendario 2024\nSobre los Mercados Medievales\nLas Ferias y mercados medievales son eventos populares que recrean el ambiente y la atmósfera de la Edad Media. Estos eventos suelen tener lugar en diferentes partes del mundo y atraen a numerosos visitantes que desean sumergirse en la historia y disfrutar de una experiencia única. Las ferias y mercados medievales suelen tener una gran cantidad de visitantes\, ya que ofrecen una oportunidad única de sumergirse en la historia y disfrutar de una experiencia diferente. También son muy populares entre los amantes de la cultura medieval\, los aficionados a la historia y las familias que buscan una actividad divertida y educativa. Consulta nuestro amplio calendario de eventos \nTags:  Feria Medieval\,Convocatoria\,organizador\,montaje\,inscripciones\,cuando\,donde\,localización\,2024\,EL PERELLÓ WEEKEND´S \,Comunidad Valenciana\,España
URL:https://demercadosmedievales.info/mercadomedieval/el-perello-weekends-valencia-market-romano-2024-3/
LOCATION:El Perelló (Valencia) (***)\, El Perelló\, València\, 46420
CATEGORIES:Cartel,Mercado romano,Valencia
ATTACH;FMTTYPE=image/jpeg:https://demercadosmedievales.info/wp-content/uploads/2024/06/romano_perelllo_julio_f.jpg
ORGANIZER;CN="La Fragua de Vulcano":MAILTO:lafragua@espectaculosamb.com
GEO:39.2761486;-0.2784766
END:VEVENT
BEGIN:VEVENT
DTSTART;TZID=Europe/Madrid:20240719T000000
DTEND;TZID=Europe/Madrid:20240721T235959
DTSTAMP:20260422T185923
CREATED:20240523T055215Z
LAST-MODIFIED:20240716T032545Z
UID:10001324-1721347200-1721606399@demercadosmedievales.info
SUMMARY:EL PERELLÓ WEEKEND´S (VALENCIA)  - Market Marinero 2024
DESCRIPTION:¡El Perelló Weekend´s se va a convertir en el plan del verano! en el PARQUE DEL SOCARRAT (Frente a la Playa del Perelló)\, los dias 19 al 21 de julio \n \nTags:  2024\, Comunidad Valenciana\, convocatoria\, El perello\, EL PERELLÓ WEEKEND´S\, España\, feria medieval\, sueca \nMARKET MARINERO\nDurante varios fines de semana se van a realizar mercados de diferentes temáticas en la zona de la playa  con ambientaciones y actividades diferentes\, atractivas para todo tipo de público\, las cuales se promocionarán mediante acciones especiales de publicidad. \n \n\nInformación básica del Mercado\nMERCADO MARINERO \nEL PERELLÓ (VALENCIA)\n19 AL 21 DE JULIO\nPARQUE DEL SOCARRAT. JUNTO A LA PLAYA DE EL PERELLÓ \nLa Fragua de Vulcano organizará este verano un MERCADO MARINERO en la turística población de EL PERELLÓ (VALENCIA). \nMuy próximo a Valencia capital\, El Perelló se convierte en la temporada estival en un destino turístico destacado\, rodeado de maravillosas playas y con la Albufera de Valencia muy cercana.El mercado contará con actividades de animación teatral y musical ambientados de temática marinera\, personajes\, atracciones y juegos infantiles\, así como decoración de estilo marinero.\nEste mercado es el primero de una serie de mercados que tendrán lugar durante todo el verano en la misma ubicación ¡INFÓRMATE SOBRE TODOS ELLOS!\nSi estás interesado en participar\, envíanos un correo electrónico mostrando tu interés. Te remitiremos en breve todas las condiciones de participación y requisitos\, para confirmar tu participación.\nMontaje: Pendiente de confirmación\nLugar: Parque del Socarrat. Playa de El Perelló\nInformación:\ncontacto@espectaculosamb.com \n\nFecha de celebración\n Los dias 19 AL 21 DE JULIO  del  2024 \nDonde se realiza\nEn la localidad de El Perelló  que pertenece a la provincia de  VALENCIA \nUbicación del Evento\nEstará ubicado en Parque del Socarrat – Playa de El Perelló \nInformación del Organizador\nLa empresa organizadora es LA FRAGUA DE VULCANO \nComo participar\nLos organizadores han facilitado los siguientes medios de contacto para que se inscriban y/o consulten los artesanos y mercaderes:\nInformación e Inscripciones:\nTeléfono : 963400037\ncontacto@espectaculosamb.com \nEL PERELLÓ WEEKEND´S (VALENCIA)\nVARIAS FECHAS\nPARQUE DEL SOCARRAT (Frente a la Playa del Perelló) \n\n \n\n963400037\n\nEl objetivo es dinamizar la zona de El Perelló atrayendo a todos sus visitantes y de las zonas de alrededor. El Perelló\, es una zona muy transitada en la época estival\, por lo que el éxito de público está garantizado. \nCabe destacar\, que aunque es una zona de veraneo habitualmente no tiene mucha oferta de ocio\, por lo que… \n¡El Perelló Weekend´s se va a convertir en el plan del verano! \n\n\nDurante varios fines de semana se van a realizar mercados de diferentes temáticas en la zona de la playa  con ambientaciones y actividades diferentes\, atractivas para todo tipo de público\, las cuales se promocionarán mediante acciones especiales de publicidad.\n\nEl Perelló Weekend´s es tu apuesta de verano.\n¡No pierdas la oportunidad de participar en estos eventos!\nSolicita tu espacio.\nMontaje: Pendiente de confirmación (dependiendo de la fecha solicitada)\nLugar: Parque del Socarrat – Playa de El Perelló\nInformación:\ncontacto@espectaculosamb.com \nMás fechas\nPuedes conocer mas ferias y mercados en está provincia\, consultando nuestra sección de Eventos en Valencia \nOtros eventos\nConsulta Aquí otras ferias y mercados que organizará la empresa La Fragua de Vulcano \nOtros mercados temáticos y Ferias\nSi quieres conocer cuando se realizan más ferias y mercados\, puedes consultarlos visitando nuestro  Calendario de Eventos \nAcerca de El Perelló\nEl Perelló es una entidad local menor ​ perteneciente al municipio valenciano de Sueca\, en la Comunidad Valenciana. Contaba con una población censada de 1854 habitantes en 2017.​ En los meses estivales la población puede alcanzar estacionalmente los 40 000 habitantes.​ \nCalendario 2024\nSobre los Mercados Medievales\nLas Ferias y mercados medievales son eventos populares que recrean el ambiente y la atmósfera de la Edad Media. Estos eventos suelen tener lugar en diferentes partes del mundo y atraen a numerosos visitantes que desean sumergirse en la historia y disfrutar de una experiencia única. Las ferias y mercados medievales suelen tener una gran cantidad de visitantes\, ya que ofrecen una oportunidad única de sumergirse en la historia y disfrutar de una experiencia diferente. También son muy populares entre los amantes de la cultura medieval\, los aficionados a la historia y las familias que buscan una actividad divertida y educativa. Consulta nuestro amplio calendario de eventos \nTags:  Feria Medieval\,Convocatoria\,organizador\,montaje\,inscripciones\,cuando\,donde\,localización\,2024\,EL PERELLÓ WEEKEND´S \,Comunidad Valenciana\,España
URL:https://demercadosmedievales.info/mercadomedieval/mercado-marinero-de-el-perello-sueca-valencia-2024/
LOCATION:El Perelló (Valencia) (***)\, El Perelló\, València\, 46420
CATEGORIES:Cartel,mercado marinero,Programación,Valencia
ATTACH;FMTTYPE=image/jpeg:https://demercadosmedievales.info/wp-content/uploads/2024/06/el_perello_weeend_f.jpg
ORGANIZER;CN="La Fragua de Vulcano":MAILTO:lafragua@espectaculosamb.com
GEO:39.2761486;-0.2784766
END:VEVENT
END:VCALENDAR