BEGIN:VCALENDAR
VERSION:2.0
PRODID:-//Mercados Medievales - ECPv6.15.20//NONSGML v1.0//EN
CALSCALE:GREGORIAN
METHOD:PUBLISH
X-WR-CALNAME:Mercados Medievales
X-ORIGINAL-URL:https://demercadosmedievales.info
X-WR-CALDESC:Eventos para Mercados Medievales
REFRESH-INTERVAL;VALUE=DURATION:PT1H
X-Robots-Tag:noindex
X-PUBLISHED-TTL:PT1H
BEGIN:VTIMEZONE
TZID:Europe/Madrid
BEGIN:DAYLIGHT
TZOFFSETFROM:+0100
TZOFFSETTO:+0200
TZNAME:CEST
DTSTART:20250330T010000
END:DAYLIGHT
BEGIN:STANDARD
TZOFFSETFROM:+0200
TZOFFSETTO:+0100
TZNAME:CET
DTSTART:20251026T010000
END:STANDARD
BEGIN:DAYLIGHT
TZOFFSETFROM:+0100
TZOFFSETTO:+0200
TZNAME:CEST
DTSTART:20260329T010000
END:DAYLIGHT
BEGIN:STANDARD
TZOFFSETFROM:+0200
TZOFFSETTO:+0100
TZNAME:CET
DTSTART:20261025T010000
END:STANDARD
BEGIN:DAYLIGHT
TZOFFSETFROM:+0100
TZOFFSETTO:+0200
TZNAME:CEST
DTSTART:20270328T010000
END:DAYLIGHT
BEGIN:STANDARD
TZOFFSETFROM:+0200
TZOFFSETTO:+0100
TZNAME:CET
DTSTART:20271031T010000
END:STANDARD
END:VTIMEZONE
BEGIN:VEVENT
DTSTART;TZID=Europe/Madrid:20260320T000000
DTEND;TZID=Europe/Madrid:20260322T235959
DTSTAMP:20260421T062513
CREATED:20260128T201022Z
LAST-MODIFIED:20260310T075152Z
UID:10003173-1773964800-1774223999@demercadosmedievales.info
SUMMARY:Mercado Medieval de Daganzo 2026 | Del 20 al 22 de marzo
DESCRIPTION:Del 20 al 22 de marzo de 2026\, Daganzo de Arriba se transforma para acoger su esperado Mercado Medieval de Daganzo\, una cita que\, además\, llenará el centro del municipio de historia\, artesanía y ambiente de época para todos los públicos. \n\n\n\n\n\n\n\n \n\n\n\nÍndice Daganzo revive su pasado entre historia y tradición medievalcon el Mercado Medieval de DaganzoInformación básica para artesanos y mercaderesCartel del Mercado Medieval de DaganzoProgramación del Mercado Medieval de DaganzoDaganzo: Tierra de historia\, villa de acogidaMercados Medievales 2026: Fechas y Localidades ConfirmadasPara más información puedes consultar :¿Te apuntas? Síguenos y no te pierdas de nada.En Resumen….\n\n\n\n \n\n\n\nDaganzo revive su pasado entre historia y tradición medieval\n\n\n\ncon el Mercado Medieval de Daganzo\n\n\n\nEl Mercado Medieval de Daganzo invita a vecinos y visitantes a viajar en el tiempo durante tres días llenos de vida y animación. La Plaza del Ayuntamiento y la Calle del Viento se convierten en el escenario perfecto para un mercado ambientado en la Edad Media\, con puestos de artesanía\, productos tradicionales y propuestas gastronómicas. \n\n\n\nAdemás\, la cuidada ambientación y el carácter cercano del municipio hacen de este evento un plan ideal para pasear en familia\, descubrir productos únicos y disfrutar del ambiente festivo. Por ello\, el mercado se consolida como una cita destacada dentro del calendario de eventos medievales de la Comunidad de Madrid. \n\n\n\nLa organización corre a cargo de Galaico Ediciones y Degladis Servicios Temáticos\, que coordinan este evento pensado para dinamizar la localidad y atraer a público de toda la comarca. \n\n\n\n \n\n\n\nInformación básica para artesanos y mercaderes\n\n\n\n\nEvento:  Mercado Medieval de Daganzo\n\n\n\nFechas:  20 al 22 de Marzo del 2026\n\n\n\nHorario:  Viernes de 17h  a 21h\n\nSábado y Domingo : de 10:30 a 14:30 y de 17:00 a 21:00h\n\n\n\n\n\nUbicación: Plaza del Ayuntamiento y la Calle del Viento\n\n\n\nLocalidad : Daganzo\, MADRID\n\n\n\nMontaje: Mañana del Viernes 20\n\n\n\nDesmontaje:  Al finalizar el mercado el día 22\n\n\n\nInauguración: Viernes 20 a las 17h\n\n\n\nPeriodicidad: Anual\n\n\n\nProductos permitidos: artesanía\, mercaderías varias\, alimentación\n\n\n\nServicios incluidos:  agua\, electricidad\, vigilancia disuasoria\n\n\n\nOrganizan :  \n\nGALAICO EDICIONS \n\nTrini: 661 572 101 EMAIL: galaikocat@gmail.com \n\n\n\n\n\nDEGLADIS EVENTOS TEMATICOS \n\nEMAIL : Degladis.serviciostematicos@gmail.com Manolo : 674687996\n\n\n\n\n\n\n\n\n \n\n\n\nCartel del Mercado Medieval de Daganzo\n\n\n\nCartel del Mercado Medieval de Daganzo\n\n\n\n \n\n\n\nProgramación del Mercado Medieval de Daganzo\n\n\n\n Programación del Mercado Medieval de Daganzo\n\n\n\n \n\n\n\nDaganzo: Tierra de historia\, villa de acogida\n\n\n\nDaganzo de Arriba\, situado al noreste de la Comunidad de Madrid\, combina tradición y cercanía con una ubicación estratégica. Se accede fácilmente por la A-2 y la M-113\, lo que facilita la llegada desde Madrid capital y municipios cercanos como Alcalá de Henares. \n\n\n\n\n\n \n\n\n\n \n\n\n\nMercados Medievales 2026: Fechas y Localidades Confirmadas\n\n\n\n\n\n\n\nEspaña cuenta con una de las agendas de ferias temáticas más ricas del mundo\, combinando gastronomía tradicional\, artesanía de autor y espectáculos en vivo. Si buscas un plan diferente para el fin de semana o quieres conocer el patrimonio de una forma única\, esta es tu guía definitiva. Leer más \n\n\n\nPara más información puedes consultar :\n\n\n\n\nPuedes Consultar en esté enlace las  Ferias y Mercados en España\n\n\n\nHaz clic en ESTE enlace :  Conoce los Organizadores de Mercados y Ferias\n\n\n\n\n¿Te apuntas? Síguenos y no te pierdas de nada.\n\n\n\n\nTelegram\n\n\n\nNewsletter\n\n\n\nWhatsApp\n\n\n\nInstagram\n\n\n\nPor supuesto en Facebook\n\n\n\n\nEn Resumen….
URL:https://demercadosmedievales.info/mercadomedieval/mercado-medieval-de-daganzo-2026-del-20-al-22-de-marzo/
LOCATION:Daganzo de Arriba (Madrid) (***)\, Daganzo de Arriba\, Madrid\, 28814\, Spain
CATEGORIES:Comunidad de Madrid,Mercado Medieval
ATTACH;FMTTYPE=image/jpeg:https://demercadosmedievales.info/wp-content/uploads/2026/01/medieval_daganzo_fb.jpg
ORGANIZER;CN="Galaico edicions":MAILTO:galaikocat@gmail.com
GEO:40.5450298;-3.4574079
END:VEVENT
END:VCALENDAR