BEGIN:VCALENDAR
VERSION:2.0
PRODID:-//Mercados Medievales - ECPv6.15.20//NONSGML v1.0//EN
CALSCALE:GREGORIAN
METHOD:PUBLISH
X-ORIGINAL-URL:https://demercadosmedievales.info
X-WR-CALDESC:Eventos para Mercados Medievales
REFRESH-INTERVAL;VALUE=DURATION:PT1H
X-Robots-Tag:noindex
X-PUBLISHED-TTL:PT1H
BEGIN:VTIMEZONE
TZID:Europe/Madrid
BEGIN:DAYLIGHT
TZOFFSETFROM:+0100
TZOFFSETTO:+0200
TZNAME:CEST
DTSTART:20230326T010000
END:DAYLIGHT
BEGIN:STANDARD
TZOFFSETFROM:+0200
TZOFFSETTO:+0100
TZNAME:CET
DTSTART:20231029T010000
END:STANDARD
BEGIN:DAYLIGHT
TZOFFSETFROM:+0100
TZOFFSETTO:+0200
TZNAME:CEST
DTSTART:20240331T010000
END:DAYLIGHT
BEGIN:STANDARD
TZOFFSETFROM:+0200
TZOFFSETTO:+0100
TZNAME:CET
DTSTART:20241027T010000
END:STANDARD
BEGIN:DAYLIGHT
TZOFFSETFROM:+0100
TZOFFSETTO:+0200
TZNAME:CEST
DTSTART:20250330T010000
END:DAYLIGHT
BEGIN:STANDARD
TZOFFSETFROM:+0200
TZOFFSETTO:+0100
TZNAME:CET
DTSTART:20251026T010000
END:STANDARD
END:VTIMEZONE
BEGIN:VEVENT
DTSTART;TZID=Europe/Madrid:20240203T080000
DTEND;TZID=Europe/Madrid:20240203T170000
DTSTAMP:20260420T122805
CREATED:20240203T174100Z
LAST-MODIFIED:20240203T174100Z
UID:10000856-1706947200-1706979600@demercadosmedievales.info
SUMMARY:Mercado Medieval de Semana Santa de Cuevas del Campo (Granada)
DESCRIPTION:Mercado Medieval con motivo de la Semana Santa del 28 al 30 de Marzo\, estará ubicado en la Plaza del Ayuntamiento. \n \n Detalles del Mercado Medieval\nCuando se celebra ? \nLos dias  28\,29 y 30 de marzo  del  2024 \nPlazo de Inscripción ( Hasta que día se pueden apuntar los artesanos y mercaderes)\n26 de marzo \nEn que localidad y provincia ? En la localidad de Cuevas del Campo\, que pertenece a la provincia de GRANADA \nCual será la ubicación ?  en la Plaza del Ayuntamiento \n Descripción del evento : Mercado Medieval con motivo de la Semana Santa \nDia y hora de Montaje :  28 de marzo a las 9 horas \n Fecha y hora de Inauguración 28 de marzo a las 17 horas \n Precio : 50 euros por puesto \nRequisitos de participación : Vestimenta de acuerdo con el evento \n Quién lo organiza ? Eventos Temáticos Spartan \n Como participar ? Ponerse en contacto con el organizador a través del Teléfono 677856775 o por Email eliasalcudia@gmail.com \nEl organizador proveerá de los siguientes servicios para los artesanos : \n\nLUZ\nAGUA\nPUBLICIDAD\nVIGILANCIA DISUASORIA\nASEOS\n\n Acerca de Cuevas del Campo\nCuevas del Campo es una localidad y municipio español\, perteneciente a la provincia de Granada\, en la comunidad autónoma de Andalucía. Está situado en el nordeste de la provincia. Su término municipal limita con la provincia de Jaén e incluye dos pedanías: La Colonia y Cañada Morteros\, ambos en dirección a Jaén. \n\nCalendario de Mercado Medieval y Ferias 2024 :\n\n\nEnero\nFebrero\nMarzo\nAbril\nMayo\nJunio\nJulio\nAgosto\nSeptiembre\nOctubre\nNoviembre\nDiciembre\n\n Las Ferias y mercados medievales\n\n\nLas Ferias y mercados medievales son eventos populares que recrean el ambiente y la atmósfera de la Edad Media. \n\n\n\nDurante estas Ferias y mercados medievales\, se recrea un pueblo o una ciudad medieval\, con puestos de artesanía\, alimentos\, entretenimiento y actividades relacionadas con la época.\nLos participantes\, vestidos con trajes medievales\, venden productos tradicionales como joyería\, armas\, vestimenta\, objetos de cuero\, cerámica y otros productos artesanales.\nLos alimentos y bebidas también desempeñan un papel importante en las ferias medievales. \nMercados Medievales de Granada\, Mercado Medieval de Semana Santa de Cuevas del Campo (Granada)\, España\, Andalucia\, Granada\, Cuevas del Campo\, convocatoria\,
URL:https://demercadosmedievales.info/mercadomedieval/mercado-medieval-de-semana-santa-de-cuevas-del-campo-granada/
CATEGORIES:Granada,Mercado Medieval
ATTACH;FMTTYPE=image/jpeg:https://demercadosmedievales.info/wp-content/uploads/2024/02/Mercado_medieval_semana_santa_cuevas_del_campo_2024-f.jpg
END:VEVENT
END:VCALENDAR