BEGIN:VCALENDAR
VERSION:2.0
PRODID:-//Mercados Medievales - ECPv6.15.20//NONSGML v1.0//EN
CALSCALE:GREGORIAN
METHOD:PUBLISH
X-ORIGINAL-URL:https://demercadosmedievales.info
X-WR-CALDESC:Eventos para Mercados Medievales
REFRESH-INTERVAL;VALUE=DURATION:PT1H
X-Robots-Tag:noindex
X-PUBLISHED-TTL:PT1H
BEGIN:VTIMEZONE
TZID:Europe/Madrid
BEGIN:DAYLIGHT
TZOFFSETFROM:+0100
TZOFFSETTO:+0200
TZNAME:CEST
DTSTART:20220327T010000
END:DAYLIGHT
BEGIN:STANDARD
TZOFFSETFROM:+0200
TZOFFSETTO:+0100
TZNAME:CET
DTSTART:20221030T010000
END:STANDARD
BEGIN:DAYLIGHT
TZOFFSETFROM:+0100
TZOFFSETTO:+0200
TZNAME:CEST
DTSTART:20230326T010000
END:DAYLIGHT
BEGIN:STANDARD
TZOFFSETFROM:+0200
TZOFFSETTO:+0100
TZNAME:CET
DTSTART:20231029T010000
END:STANDARD
BEGIN:DAYLIGHT
TZOFFSETFROM:+0100
TZOFFSETTO:+0200
TZNAME:CEST
DTSTART:20240331T010000
END:DAYLIGHT
BEGIN:STANDARD
TZOFFSETFROM:+0200
TZOFFSETTO:+0100
TZNAME:CET
DTSTART:20241027T010000
END:STANDARD
BEGIN:DAYLIGHT
TZOFFSETFROM:+0100
TZOFFSETTO:+0200
TZNAME:CEST
DTSTART:20250330T010000
END:DAYLIGHT
BEGIN:STANDARD
TZOFFSETFROM:+0200
TZOFFSETTO:+0100
TZNAME:CET
DTSTART:20251026T010000
END:STANDARD
END:VTIMEZONE
BEGIN:VEVENT
DTSTART;VALUE=DATE:20231215
DTEND;VALUE=DATE:20240108
DTSTAMP:20260420T064422
CREATED:20231025T100923Z
LAST-MODIFIED:20231202T074929Z
UID:10000607-1702598400-1704671999@demercadosmedievales.info
SUMMARY:Mercado De Navidad Ciudad De Las Artes Y Las Ciencias De Valencia 2023-2024
DESCRIPTION:Este año\, el Mercado de Navidad de la Ciudad de las Artes y las Ciencias vuelve con una nueva edición\, que tendrá lugar del 15 de diciembre de 2023 al 7 de enero de 2024. \n \nMercado De Navidad\nCiudad De Las Artes Y Las Ciencias De Valencia\n2023-2024\n15 de Diciembre  2023  al 7 de Enero del 2024 en la parte baja del Umbracle\nEste año\, el Mercado de Navidad de la Ciudad de las Artes y las Ciencias vuelve con una nueva edición\, que tendrá lugar del 15 de diciembre de 2023 al 7 de enero de 2024. \nEl mercado estará ubicado en parte baja del Umbracle\, y contará con casetas en las que se podrá encontrar una amplia variedad de productos navideños\, como artesanía\, decoración\, dulces típicos\, y mucho más. \nAdemás de las casetas\, el mercado contará también con una pista de hielo\, atracciones para los más pequeños\, y un belén artesanal. \nY Cómo puedo inscribirme en el Mercado de navidad ?\nEnviando un email a  Balconet \n\n\nLa Persona de contacto: Juan Cantero\nY el  E-mail es: balconetmedieval@gmail.com (no tiene un numero de teléfono de contacto)\n\n\nEn el mail debes incluir lo siguiente : \n\nAsunto: Nombre del Mercado.\nIMPORTANTE PARA HACER LA SOLICITUD : ENVIAR 2 FOTOS (1 de parada completa y una de su producto)\,\nasí como los metros que necesitan.\n\nY si tengo dudas o para más información a quien consultó?\nLa persona indicada para resolver tus dudas es el organizador\, por lo cual envía un email a balconetmedieval@gmail.com con todas tus dudas o solicitándoles la información de precio\, fechas de montaje\, inauguración\, etc. \n\n\n  \n \n  \n  \nMercados navideños: una tradición llena de magia\nSon una tradición que se remonta al siglo XIV. En aquella época\, los comerciantes se reunían en las plazas de las ciudades para vender sus productos y celebrar la llegada de la Navidad. \nHoy en día\, los mercados navideños se han convertido en una atracción turística popular en todo el mundo. \nDonde puedo consultar más mercados navideños\n\n\nLas ferias\, mercados y mercadillos navideños son una tradición navideña que se celebra en muchos países del mundo. En España\, estas ferias se han convertido en un atractivo turístico muy popular\, y atraen a miles de visitantes cada año. \nAquí encontraras un calendario de Ferias\, Mercados y mercadillos de navidad : Agenda de navidad 2023 – 2024
URL:https://demercadosmedievales.info/mercadomedieval/pre-inscripcion-mercado-de-navidad-ciudad-de-las-artes-y-las-ciencias-de-valencia-2023/
LOCATION:Valencia capital (Museo de las Artes y las Ciencias de Valencia) (***)\, Museo de las artes y ciencias de Valencia\, Valencia\, Valencia\, España
CATEGORIES:Balconet mercado temáticos,Mercados de navidad,Valencia
ATTACH;FMTTYPE=image/png:https://demercadosmedievales.info/wp-content/uploads/2023/10/Valencia_mercat_nadalenc_ciutat_artes_ciencias_2023.png
ORGANIZER;CN="Balconet Mercados Tem%C3%A1ticos":MAILTO:balconetmedieval@gmail.com
GEO:39.4561074;-0.3520842
X-APPLE-STRUCTURED-LOCATION;VALUE=URI;X-ADDRESS=Valencia capital (Museo de las Artes y las Ciencias de Valencia) (***) Museo de las artes y ciencias de Valencia Valencia Valencia España;X-APPLE-RADIUS=500;X-TITLE=Museo de las artes y ciencias de Valencia:geo:-0.3520842,39.4561074
END:VEVENT
END:VCALENDAR