BEGIN:VCALENDAR
VERSION:2.0
PRODID:-//Mercados Medievales - ECPv6.15.20//NONSGML v1.0//EN
CALSCALE:GREGORIAN
METHOD:PUBLISH
X-ORIGINAL-URL:https://demercadosmedievales.info
X-WR-CALDESC:Eventos para Mercados Medievales
REFRESH-INTERVAL;VALUE=DURATION:PT1H
X-Robots-Tag:noindex
X-PUBLISHED-TTL:PT1H
BEGIN:VTIMEZONE
TZID:Europe/Madrid
BEGIN:DAYLIGHT
TZOFFSETFROM:+0100
TZOFFSETTO:+0200
TZNAME:CEST
DTSTART:20220327T010000
END:DAYLIGHT
BEGIN:STANDARD
TZOFFSETFROM:+0200
TZOFFSETTO:+0100
TZNAME:CET
DTSTART:20221030T010000
END:STANDARD
BEGIN:DAYLIGHT
TZOFFSETFROM:+0100
TZOFFSETTO:+0200
TZNAME:CEST
DTSTART:20230326T010000
END:DAYLIGHT
BEGIN:STANDARD
TZOFFSETFROM:+0200
TZOFFSETTO:+0100
TZNAME:CET
DTSTART:20231029T010000
END:STANDARD
BEGIN:DAYLIGHT
TZOFFSETFROM:+0100
TZOFFSETTO:+0200
TZNAME:CEST
DTSTART:20240331T010000
END:DAYLIGHT
BEGIN:STANDARD
TZOFFSETFROM:+0200
TZOFFSETTO:+0100
TZNAME:CET
DTSTART:20241027T010000
END:STANDARD
BEGIN:DAYLIGHT
TZOFFSETFROM:+0100
TZOFFSETTO:+0200
TZNAME:CEST
DTSTART:20250330T010000
END:DAYLIGHT
BEGIN:STANDARD
TZOFFSETFROM:+0200
TZOFFSETTO:+0100
TZNAME:CET
DTSTART:20251026T010000
END:STANDARD
END:VTIMEZONE
BEGIN:VEVENT
DTSTART;TZID=Europe/Madrid:20241205T000000
DTEND;TZID=Europe/Madrid:20241208T235959
DTSTAMP:20260422T042513
CREATED:20241110T084320Z
LAST-MODIFIED:20241204T181744Z
UID:10001920-1733356800-1733702399@demercadosmedievales.info
SUMMARY:Mercado De Navidad De Chinchón 2024 (Madrid)
DESCRIPTION:Del 5 al 8 de diciembre\, la emblemática Plaza Mayor de Chinchón se transforma en un cuento de Navidad. En los diferentes podrás encontrar de Artesanía\, Alimentación y Restauración  \n\n\n\n\n\n\n\nFerias de NavidadLlegan las fechas de los mercados navideños\,  consulta el calendario de Ferias y Mercados  de navidad  \n\n\n\n\nMercado Navideño\n\n\n\n\n\n\n\n\n\n\n\n\n\n\n\n\n\n\n\n \n\n\n\nInformación básica del Mercado\n\n\n\nFecha de celebración Los dias 05 al 08 de diciembre  del  2024 \n\n\n\nDonde se realizaEn la localidad de Chinchón que pertenece a la provincia de MADRID / Chinchón es un municipio y localidad española del sureste de la Comunidad de Madrid. El término municipal cuenta con una población de 5240 habitantes. El casco histórico de la localidad\, con una notable plaza mayor\, tiene el estatus bien de interés cultural en la categoría de conjunto histórico \n\n\n\nUbicación del EventoEstará ubicado en la Plaza Mayor de Chinchón / La Plaza Mayor de Chinchón es un joya arquitectónica medieval. Sus 234 balcones de madera\, sus fachadas blancas y su ambiente acogedor la convierten en uno de los lugares más emblemáticos de España. \n\n\n\nInformación del Organizador\n\n\n\nEl organizador es el Ayuntamiento. Información e Inscripciones :coordinacion.culturayturismo@ciudad-chinchon.comTele. 644688294 \n\n\n\nPrecio :\n\n\n\n\n80€ artesano por metro lineal\n\n\n\n130 alimentación por metro lineal \n\n\n\n\nMás fechas  Puedes conocer mas ferias y mercados en está provincia\, consultando nuestra sección de Eventos en la provincia de Madrid  \n\n\n\notros mercados temáticos y FeriasSi quieres conocer cuando se realizan más ferias y mercados\, puedes consultarlos visitando nuestro   Calendario de Eventos \n\n\n\nCalendario 2024\n\n\n\nCalendario 2025\n\n\n\nSobre los Mercados Medievales\n\n\n\nLas ferias medievales son eventos que recrean la atmósfera de la Edad Media. Por lo general\, se llevan a cabo en pueblos o ciudades\, y presentan puestos de vendedores que venden artesanías\, alimentos y bebidas. También puede haber entretenimiento\, como justas\, música y baile. \n\n\n\n\n\n\n\nOrganizador:\n\n\n\n\n\nLocalización:\n\n\n\nChinchón es un municipio y localidad española del sureste de la Comunidad de Madrid. El término municipal cuenta con una población de 5240 habitantes. El casco histórico de la localidad\, con una notable plaza mayor\, tiene el estatus bien de interés cultural en la categoría de conjunto histórico
URL:https://demercadosmedievales.info/mercadomedieval/mercado-de-navidad-de-chinchon-2024-madrid/
LOCATION:Chinchón  (Madrid) (***)\, Chinchón\, Madrid\, 28370\, Spain
CATEGORIES:Comunidad de Madrid,Mercados de navidad
ATTACH;FMTTYPE=image/jpeg:https://demercadosmedievales.info/wp-content/uploads/2024/11/navidad_chinchon_cartel.jpg
ORGANIZER;CN="Rivendel mercados tem%C3%A1ticos":MAILTO:mercados@rivendelmercados.com
GEO:40.1402665;-3.4221687
END:VEVENT
BEGIN:VEVENT
DTSTART;TZID=Europe/Madrid:20241129T000000
DTEND;TZID=Europe/Madrid:20241201T235959
DTSTAMP:20260422T042513
CREATED:20241110T070728Z
LAST-MODIFIED:20241127T084425Z
UID:10001919-1732838400-1733097599@demercadosmedievales.info
SUMMARY:Mercado de Las Luces de Chinchón 2024 (Madrid)
DESCRIPTION:Del 5 al 8 de diciembre\, la emblemática Plaza Mayor de Chinchón se transforma en un cuento de Navidad. En los diferentes podrás encontrar de Artesanía\, Alimentación y Restauración  \n\n\n\n\n\n\n\nFerias de NavidadLlegan las fechas de los mercados navideños\,  consulta el calendario de Ferias de navidad . \n\n\n\n\n \n\n\n\nMercado  de las luces\n\n\n\n \n\n\n\nCartel \n\n\n\n\n\n\n\nProgramación \n\n\n\n\n\n\n\n Haz clic en la imagen para ampliarla \n\n\n\n\n\n\n\nInformación básica del Mercado\n\n\n\nFecha de celebración Los dias 29 de noviembre al 01 de diciembre  del  2024 \n\n\n\nDonde se realizaEn la localidad de Chinchón que pertenece a la provincia de MADRID   /  Chinchón es un municipio y localidad española del sureste de la Comunidad de Madrid. El término municipal cuenta con una población de 5240 habitantes. El casco histórico de la localidad\, con una notable plaza mayor\, tiene el estatus bien de interés cultural en la categoría de conjunto histórico \n\n\n\nUbicación del EventoEstará ubicado en la Plaza Mayor de Chinchón / La Plaza Mayor de Chinchón es un joya arquitectónica medieval. Sus 234 balcones de madera\, sus fachadas blancas y su ambiente acogedor la convierten en uno de los lugares más emblemáticos de España. \n\n\n\nInformación del Organizador\n\n\n\nLa empresa organizadora es RIVENDEL MERCADOS TEMATICOS \n\n\n\nInformación e Inscripciones :mercados@rivendelmercados.com Y su página Web donde se pueden inscribir :https://rivendelmercados.com/rivendelmercadosslu/ \n\n\n\nMás fechas  Puedes conocer mas ferias y mercados en está provincia\, consultando nuestra sección de Eventos en la provincia de Madrid  \n\n\n\nOtros eventosConsulta Aquí otras ferias y mercados que organizará la empresa Rivendel Mercados Temáticos \n\n\n\notros mercados temáticos y FeriasSi quieres conocer cuando se realizan más ferias y mercados\, puedes consultarlos visitando nuestro   Calendario de Eventos \n\n\n\nCalendario 2024\n\n\n\nCalendario 2025\n\n\n\nSobre los Mercados Medievales\n\n\n\nLas ferias medievales son eventos que recrean la atmósfera de la Edad Media. Por lo general\, se llevan a cabo en pueblos o ciudades\, y presentan puestos de vendedores que venden artesanías\, alimentos y bebidas. También puede haber entretenimiento\, como justas\, música y baile.  \n\n\n\n\n\n\n\nOrganizador\n\n\n\n\n\nLocalización\n\n\n\nChinchón es un municipio y localidad española del sureste de la Comunidad de Madrid. El término municipal cuenta con una población de 5240 habitantes. El casco histórico de la localidad\, con una notable plaza mayor\, tiene el estatus bien de interés cultural en la categoría de conjunto histórico
URL:https://demercadosmedievales.info/mercadomedieval/116695/
LOCATION:Chinchón  (Madrid) (***)\, Chinchón\, Madrid\, 28370\, Spain
CATEGORIES:Cartel,Comunidad de Madrid,Programación
ATTACH;FMTTYPE=image/jpeg:https://demercadosmedievales.info/wp-content/uploads/2024/11/mercado_luces_chinchon_progtama-1.jpg
ORGANIZER;CN="Rivendel mercados tem%C3%A1ticos":MAILTO:mercados@rivendelmercados.com
GEO:40.1402665;-3.4221687
END:VEVENT
BEGIN:VEVENT
DTSTART;VALUE=DATE:20231205
DTEND;VALUE=DATE:20231218
DTSTAMP:20260422T042513
CREATED:20231102T110048Z
LAST-MODIFIED:20231102T110840Z
UID:10000651-1701734400-1702857599@demercadosmedievales.info
SUMMARY:MERCADO NAVIDEÑO DE CHINCHON (Madrid) 2023
DESCRIPTION:El MERCADO NAVIDEÑO de Chinchón será del 05 al 17 de diciembre del 2023 en la plaza mayor en casetas de madera de 3×2 mts. \n\n    \nMERCADO NAVIDEÑO DE CHINCHON\nFECHAS : 05 al 17 de diciembre del 2023 \nLOCALIDAD Y PROVINCIA :  Chinchón \, MADRID \nUBICACION : Plaza Mayor \nTIPO DE PARADA : CASETAS DE MADERA DE 3X2 mts \nNUMERO DE CASETAS DISPONIBLES : 20 CASETAS \nCONTARA : ANIMACION Y ESPECTACULOS \nPLAZAS : Las plazas son limitadas. \nDATOS DEL ORGANIZADOR : MICHEL\nTELEFONO :\nMichel 653 19 67 41 \n    \n  \nOtros mercados y ferias organizados por MICHEL : \nNo hay eventos programados. \n  \nOtros mercados y ferias de Madrid : \nMercado Renacentista de San Sebastián de los Reyes (Madrid)- Evento en Madrid 202624 abril - 26 abrilMercado Goyesco de Torrejón de Ardoz (Madrid) 24 (tarde) al 26 de Abril del 202624 abril - 26 abrilMercado Medieval de El Escorial – Madrid 202624 abril - 26 abrilMercado Goyesco de Móstoles (Madrid) 202629 abril - 3 mayoXXIX Gran Mercado Medieval de El Álamo 2026 Cartel y Programa 🎪30 abril - 3 mayo \n  \n\n\n\n \n  \n \nFerias\, Mercados y mercadillos de navidad 2023 – 2024\nLas ferias\, mercados y mercadillos navideños son una tradición navideña que se celebra en muchos países del mundo. En España\, estas ferias se han convertido en un atractivo turístico muy popular\, y atraen a miles de visitantes cada año. Aquí encontraras un calendario de Ferias\, Mercados y mercadillos de navidad… Consulta el calendario de Ferias\, mercados y mercadillos de navidad \n \nAquí puedes consultar el calendario de Ferias y mercados medievales \n\nINFORMACION \n\n2023 calendario de mercados\n\n\nLOS MERCADOS Y FERIAS EN CADA PROVINCIA\nEMPRESAS QUE ORGANIZAN\nSUSCRIBETE A NUESTRO EMAIL \nGALERIA MEDIEVAL\nVESTUARIO\n\n\n\nMERCADOS MEDIEVALES – MERCADO NAVIDEÑO DE CHINCHON (Madrid) 2023\nEspaña\, Comunidad de Madrid\, Chinchón\,  MERCADOS NAVIDEÑOS\, MERCADO NAVIDEÑO DE CHINCHON (Madrid) 2023\,
URL:https://demercadosmedievales.info/mercadomedieval/mercado-navideno-de-chinchon-madrid-2023/
LOCATION:Chinchón  (Madrid) (***)\, Chinchón\, Madrid\, 28370\, Spain
CATEGORIES:Chinchón,Mercados de navidad,Michel-Recreaciones históricas eventos y espectáculos
ORGANIZER;CN="Michel - Recreaciones hist%C3%B3ricas eventos y espect%C3%A1culos":MAILTO:phartesanos@gmail.com
GEO:40.1402665;-3.4221687
END:VEVENT
BEGIN:VEVENT
DTSTART;VALUE=DATE:20230209
DTEND;VALUE=DATE:20230212
DTSTAMP:20260422T042513
CREATED:20231104T104403Z
LAST-MODIFIED:20240122T105606Z
UID:10000652-1675900800-1676159999@demercadosmedievales.info
SUMMARY:MERCADO MEDIEVAL DE CHINCHÓN (Madrid) Febrero 2024
DESCRIPTION:El MERCADO MEDIEVAL de Chinchón contará con animación y espectáculos\, será los días 09 al 11 de Febrero del 2024. \n \nMERCADO MEDIEVAL DE CHINCHÓN\nLa Feria medieval de Chinchón \nChinchón es un municipio y localidad española del sureste de la Comunidad de MADRID. Perteneciente a la comarca de Las Vegas \nFECHAS : se celebrará el 9\, 10 y 11 de febrero de 2024. (viernes tarde\, sábado y domingo) \nCONTARA : ANIMACION Y ESPECTACULOS \nPLAZAS : Está completo \, ya no hay plazas. \nDATOS DEL ORGANIZADOR:MICHEL\nTELEFONO :\nMichel 653 19 67 41 \n \nFERIA MEDIEVAL DE CHINCHÓN\nLa Feria medieval de Chinchón es un evento que se celebra en esta localidad española cada año. En 2024\, se celebrará el 9\, 10 y 11 de febrero. \nDurante el mercado\, las calles de Chinchón se llenan de puestos de artesanía\, comida y bebida medieval. También hay espectáculos de música\, danza y teatro. \nUna de las actividades más populares del mercado es el torneo medieval a caballo. En la plaza de San Roque\, los paladines se situarán uno frente al otro y cabalgarán hasta estrellar sus largas lanzas de madera contra los escudos y armaduras del rival. \nPara los niños\, hay atracciones infantiles como un tiovivo\, una noria y sillas voladoras. También hay un campamento medieval en la Plaza de San Roque con una exposición de armas\, instrumentos de tortura y máquinas de asedio a tamaño real. \nLas plazas para el mercado son limitadas. Para obtener más información\, puede ponerse en contacto con el organizador\, Michel\, en el teléfono 653 19 67 41. \nHorario mercado medieval\nEl horario del mercado medieval de chinchón es el siguiente: \nSábado 18 de 11:00 a 21:00. \nDomingo 19 de 11:00 a 19:00. \nDurante la Feria Medieval Chinchón se conmemora una de las visitas que hicieron los Reyes Católicos a Chinchón para visitar a sus leales amigos los Marqueses de Moya\, Andrés de Cabrera y Beatriz de Bobadilla\, Señores de Chinchón. \n\n\nFerias y mercados medievales\n\n\nLas Ferias y mercados medievales son eventos populares que recrean el ambiente y la atmósfera de la Edad Media. \nEstos eventos suelen tener lugar en diferentes partes de España y atraen a numerosos visitantes que desean sumergirse en la historia y disfrutar de una experiencia única. \n\n\n\nDurante estas Ferias y mercados medievales\, se recrea un pueblo o una ciudad medieval\, con puestos de artesanía\, alimentos\, entretenimiento y actividades relacionadas con la época.\nLos participantes\, vestidos con trajes medievales\, venden productos tradicionales como joyería\, armas\, vestimenta\, objetos de cuero\, cerámica y otros productos artesanales. Los alimentos y bebidas también desempeñan un papel importante en las ferias medievales.  + Leer más \n\nMercados Medievales de Madrid\, Feria Medieval de Chinchon\, España\, Comunidad de Madrid\, Chinchon\,
URL:https://demercadosmedievales.info/mercadomedieval/mercado-medieval-de-chinchon-madrid-febrero-2024/
LOCATION:Chinchón  (Madrid) (***)\, Chinchón\, Madrid\, 28370\, Spain
CATEGORIES:Chinchón,Mercado Medieval,Michel-Recreaciones históricas eventos y espectáculos
ATTACH;FMTTYPE=image/png:https://demercadosmedievales.info/wp-content/uploads/2023/11/Mercado-medieval-de-Chinchon-Madrid-2024-f.png
ORGANIZER;CN="Michel - Recreaciones hist%C3%B3ricas eventos y espect%C3%A1culos":MAILTO:phartesanos@gmail.com
GEO:40.1402665;-3.4221687
END:VEVENT
END:VCALENDAR