BEGIN:VCALENDAR
VERSION:2.0
PRODID:-//Mercados Medievales - ECPv6.15.20//NONSGML v1.0//EN
CALSCALE:GREGORIAN
METHOD:PUBLISH
X-ORIGINAL-URL:https://demercadosmedievales.info
X-WR-CALDESC:Eventos para Mercados Medievales
REFRESH-INTERVAL;VALUE=DURATION:PT1H
X-Robots-Tag:noindex
X-PUBLISHED-TTL:PT1H
BEGIN:VTIMEZONE
TZID:Europe/Madrid
BEGIN:DAYLIGHT
TZOFFSETFROM:+0100
TZOFFSETTO:+0200
TZNAME:CEST
DTSTART:20230326T010000
END:DAYLIGHT
BEGIN:STANDARD
TZOFFSETFROM:+0200
TZOFFSETTO:+0100
TZNAME:CET
DTSTART:20231029T010000
END:STANDARD
BEGIN:DAYLIGHT
TZOFFSETFROM:+0100
TZOFFSETTO:+0200
TZNAME:CEST
DTSTART:20240331T010000
END:DAYLIGHT
BEGIN:STANDARD
TZOFFSETFROM:+0200
TZOFFSETTO:+0100
TZNAME:CET
DTSTART:20241027T010000
END:STANDARD
BEGIN:DAYLIGHT
TZOFFSETFROM:+0100
TZOFFSETTO:+0200
TZNAME:CEST
DTSTART:20250330T010000
END:DAYLIGHT
BEGIN:STANDARD
TZOFFSETFROM:+0200
TZOFFSETTO:+0100
TZNAME:CET
DTSTART:20251026T010000
END:STANDARD
END:VTIMEZONE
BEGIN:VEVENT
DTSTART;TZID=Europe/Madrid:20240906T000000
DTEND;TZID=Europe/Madrid:20240908T235959
DTSTAMP:20260420T050957
CREATED:20240731T044447Z
LAST-MODIFIED:20240901T044659Z
UID:10001577-1725580800-1725839999@demercadosmedievales.info
SUMMARY:Mercado Renacentista de Fuensalida (Toledo) 2024 - Programación
DESCRIPTION:Mercado renacentista contará con  animación de calle\, exposiciones temáticas\, rincón y atracciones infantiles\, entre otros atractivos.\n \nTags:  Feria Medieval\,Convocatoria\,organizador\,montaje\,inscripciones\,cuando\,donde\,localización\,2024\,España \nMercado Renacentista\n\n\nCartel \n\n\n \n \nProgramación  \n\n \n\nInformación básica del Mercado\nFecha de celebración Los dias 06 al 08 de Septiembre del  2024Donde se realizaEn la localidad de Fuensalida  que pertenece a la provincia de TOLEDOUbicación del EventoEstará ubicado en plaza y calle del centro del municipio \nInformación del Organizador\nLa empresa organizadora es Eventos Bayarri  \nInformación e Inscripciones: \nComo participarPara inscribirte y participar en este puedes llamar al  Teléfono: 665356940 \, o Enviar un mensaje por WhatsApp 695.69.00.70ó bien puedes enviar un email : gerencia.eventosbayarri@gmail.com o a esté mail:  info.eventosbayarri@gmail.com \nMás fechasPuedes conocer mas ferias y mercados en está provincia\, consultando nuestra sección de Eventos en ToledoOtros eventosConsulta Aquí otras ferias y mercados que organizará la empresa Eventos BayarriOtros mercados temáticos y FeriasSi quieres conocer cuando se realizan más ferias y mercados\, puedes consultarlos visitando nuestro  Calendario de Eventos \nAcerca de Fuensalida\nFuensalida es un municipio y localidad española de la provincia de Toledo\, en la comunidad autónoma de Castilla-La Mancha. Cuenta con una población de 12 329 habitantes.  Linda con los términos municipales de Santa Cruz del Retamar y Las Ventas de Retamosa al norte\, Camarena\, Arcicóllar y Camarenilla al este\, Villamiel de Toledo y Huecas al sur\, y Santa Cruz del Retamar\, Novés y Portillo de Toledo al oeste\, todos de Toledo. \nCalendario 2024\nSobre los Mercados Medievales\nLas Ferias y mercados medievales son eventos populares que recrean el ambiente y la atmósfera de la Edad Media. Estos eventos suelen tener lugar en diferentes partes del mundo y atraen a numerosos visitantes que desean sumergirse en la historia y disfrutar de una experiencia única. Las ferias y mercados medievales suelen tener una gran cantidad de visitantes\, ya que ofrecen una oportunidad única de sumergirse en la historia y disfrutar de una experiencia diferente. También son muy populares entre los amantes de la cultura medieval\, los aficionados a la historia y las familias que buscan una actividad divertida y educativa. Consulta nuestro amplio calendario de eventos \nTags:  Feria Medieval\,2024\,Fuensalida\,Castilla La Mancha\,España
URL:https://demercadosmedievales.info/mercadomedieval/mercado-renacentista-de-fuensalida-toledo-2024/
LOCATION:Fuensalida (Toledo) (***)\, Fuensalida\, Toledo\, 45510\, Spain
CATEGORIES:Cartel,Eventos Bayarri,Mercado Medieval,Programación,Toledo
ATTACH;FMTTYPE=image/jpeg:https://demercadosmedievales.info/wp-content/uploads/2024/09/jornadas_condales_fuensalida_f.jpg
ORGANIZER;CN="Eventos Bayarri":MAILTO:gerencia.eventosbayarri@gmail.com
GEO:40.0510725;-4.2102716
END:VEVENT
BEGIN:VEVENT
DTSTART;TZID=Europe/Madrid:20240824T000000
DTEND;TZID=Europe/Madrid:20240824T235959
DTSTAMP:20260420T050957
CREATED:20240815T065344Z
LAST-MODIFIED:20240815T065554Z
UID:10001616-1724457600-1724543999@demercadosmedievales.info
SUMMARY:Mercado Medieval de Fuentenovilla (Guadalajara) 2024
DESCRIPTION:El Mercado Medieval será el día 24 de Agosto en el centro histórico de Fuentenovilla\, los artesanos pueden participar de manera gratuita. \n\n\n\n\n\n\n\n\n\nMercado Medieval\n\n\n\nDesde 2004\, Fuentenovilla reivindica su pasado con la ayuda de decenas de vecinos que se visten de época. La Jornada medieval conmemora\, entre otras cosas\, la fundación de Fuentenovilla -no existe fecha precisa ni acto determinado- por los caballeros de la orden de Calatrava\, hecho probado por la historia. \nLos festejos persiguen recordar la importancia que tuvieron los caballeros calatravos que lucharon contra los musulmanes durante la Reconquista; además permiten ver la huella que dejaron en esta villa durante su presencia que duró cuatro siglos\, dejando su cruz estampada en su escudo municipal. \n\n\n\nCartel y Programación \n\n\n\n** Próximamente dispondremos del cartel y del programa con las actividades previstas. \n\n\n\nInformación básica del Mercado\n\n\n\nFecha de celebraciónEl día 24 de Agosto (Sábado) del  2024 \n\n\n\nDonde se realizaEn la localidad de Fuentenovilla que pertenece a la provincia de GUADALAJARA \n\n\n\nUbicación del EventoEstará ubicado en el centro de la población \n\n\n\nPrecio Gratuito \n\n\n\nInformación del Organizador\n\n\n\nLa empresa organizadora es MICHEL (Professional history) \n\n\n\nComo participar\n\n\n\nInformación e Inscripciones:  phartesanos@gmail.com \n\n\n\nMás fechas  Puedes conocer mas ferias y mercados en está provincia\, consultando nuestra amplia sección de Eventos en Guadalajara \n\n\n\nOtros eventos  Consulta Aquí otras ferias y mercados que organizará la empresa Michel (Professional history) \n\n\n\notros mercados temáticos y FeriasSi quieres conocer cuando se realizan más ferias y mercados\, puedes consultarlos visitando nuestro  👀 Calendario de Eventos \n\n\n\nAcerca de Fuentenovilla\n\n\n\nFuentenovilla es un municipio y localidad española de la provincia de Guadalajara\, en la comunidad autónoma de Castilla-La Mancha.  \n\n\n\nCalendario 2024\n\n\n\nSobre los Mercados Medievales\n\n\n\nLas ferias medievales son eventos que recrean la atmósfera de la Edad Media. Por lo general\, se llevan a cabo en pueblos o ciudades\, y presentan puestos de vendedores que venden artesanías\, alimentos y bebidas. También puede haber entretenimiento\, como justas\, música y baile. \n\n\n\nTags:  Fuentenovilla\, Castilla La Mancha\,Feria Medieval\,Convocatoria\,2024\,España  \n  \n\n\n\n\n\nDetalles del organizador\n\n\n\n\n\nMapa de localización
URL:https://demercadosmedievales.info/mercadomedieval/mercado-medieval-de-fuentenovilla-guadalajara-2024/
LOCATION:Fuentenovilla (Guadalajara) (***)\, Centro histórico\, Fuentenovilla\, Guadalajara\, 19113\, España
CATEGORIES:Guadalajara,Mercado Medieval
ATTACH;FMTTYPE=image/jpeg:https://demercadosmedievales.info/wp-content/uploads/2024/08/medieval_fuentenovilla_f.jpg
ORGANIZER;CN="Michel - Recreaciones hist%C3%B3ricas eventos y espect%C3%A1culos":MAILTO:phartesanos@gmail.com
GEO:40.3651533;-3.0945694
X-APPLE-STRUCTURED-LOCATION;VALUE=URI;X-ADDRESS=Fuentenovilla (Guadalajara) (***) Centro histórico Fuentenovilla Guadalajara 19113 España;X-APPLE-RADIUS=500;X-TITLE=Centro histórico:geo:-3.0945694,40.3651533
END:VEVENT
BEGIN:VEVENT
DTSTART;TZID=Europe/Madrid:20240817T000000
DTEND;TZID=Europe/Madrid:20240817T235959
DTSTAMP:20260420T050957
CREATED:20240725T043157Z
LAST-MODIFIED:20240725T044851Z
UID:10001573-1723852800-1723939199@demercadosmedievales.info
SUMMARY:XII MERCADILLO MEDIEVAL de San Pablo de Los Montes (Toledo) 2024
DESCRIPTION:Mercadillo ambientado en la época medieval\, donde los artesanos tienen oportunidad de vender sus productos\, instalando sus puestos en las calles del pueblo\, decoradas también con lo típico de ésta época\, además de realizarse actuaciones y pasacalles para deleite de los visitantes. \n\n\n\nXII MERCADILLO MEDIEVAL\n\n\n \n\n\nInformación básica del Evento\n\n\n\nLa fecha de celebración será \n\n\n\n17/08/2024 \n\n\n\nHasta que fecha se pueden inscribir los artesanos y mercaderes ? \n\n\n\n09/08/2024 \n\n\n\nEl lugar de celebración será \n\n\n\nEl municipio de San Pablo de los Montes ( TOLEDO )  – San Pablo de los Montes es un municipio y localidad española de la provincia de Toledo\, en la comunidad autónoma de Castilla-La Mancha. \n\n\n\nEstará ubicado en \n\n\n\nEn la Plaza de la Constitución y Calle Toledo y alrededores. \n\n\n\nDescripción interesante del Evento \n\n\n\nMercadillo ambientado en la época medieval\, donde los artesanos tienen oportunidad de vender sus productos\, instalando sus puestos en las calles del pueblo\, decoradas también con lo típico de ésta época\, además de realizarse actuaciones y pasacalles para deleite de los visitantes. \n\n\n\nCuando será el Montaje \n\n\n\nDesde las 18:00 del día 16\, hasta las 9:00 del día 17 de agosto. \n\n\n\nSerá inaugurado el día \n\n\n\n17 de Agosto a las 10:00h \n\n\n\nServicios que proporcionara el organizador a los artesanos y mercaderes participantes  \n\n\n\nElectricidad \n\n\n\nOrganizador \n\n\n\nAyuntamiento de San Pablo de los Montes \n\n\n\nInformación e Inscripciones \n\n\n\n\nXIII Mercado Medieval\n\n\n\n\nWhatsApp 628152924 \n\n\n\nEmail de contacto :  registro@aytosanpablodelosmontes.es \n\n\n\nQue otro medio de contacto  proporciona el organizador ? \n\n\n\n925415181 \n\n\n\nRequisitos de participación ? \n\n\n\nProductos artesanales y de producción propia \n\n\n\nPrecio del metro lineal\, caseta de madera\, o de la carpa ? \n\n\n\nGratuito \nTags:  Feria Medieval\,Convocatoria\,\,2024\,San Pablo de Los Montes\,Castilla La Mancha\,España \nMás fechasPuedes conocer mas ferias y mercados en está provincia\, consultando nuestra sección de Eventos en ToledoOtros mercados temáticos y FeriasSi quieres conocer cuando se realizan más ferias y mercados\, puedes consultarlos visitando nuestro  Calendario de Eventos \nAcerca de San Pablo de Los Montes\nSan Pablo de los Montes es un municipio y localidad española de la provincia de Toledo\, en la comunidad autónoma de Castilla-La Mancha. \nCalendario 2024\nSobre los Mercados Medievales\nLas Ferias y mercados medievales son eventos populares que recrean el ambiente y la atmósfera de la Edad Media. Estos eventos suelen tener lugar en diferentes partes del mundo y atraen a numerosos visitantes que desean sumergirse en la historia y disfrutar de una experiencia única. Las ferias y mercados medievales suelen tener una gran cantidad de visitantes\, ya que ofrecen una oportunidad única de sumergirse en la historia y disfrutar de una experiencia diferente. También son muy populares entre los amantes de la cultura medieval\, los aficionados a la historia y las familias que buscan una actividad divertida y educativa. Consulta nuestro amplio calendario de eventos \n  \n 
URL:https://demercadosmedievales.info/mercadomedieval/xii-mercadillo-medieval-de-san-pablo-de-los-montes-toledo-2024/
LOCATION:San Pablo de Los Montes (Toledo) (***)\, San Pablo de los Montes\, Toledo\, 45120\, Spain
CATEGORIES:Cartel,Mercado Medieval,Toledo
ATTACH;FMTTYPE=image/jpeg:https://demercadosmedievales.info/wp-content/uploads/2024/07/Mercado-medieval-c-1030x595-Ayuntamiento-San-Pablo-de-los-Montes.jpg
ORGANIZER;CN="Ayuntamiento de San Pablo de los Montes":MAILTO:registro@aytosanpablodelosmontes.es
GEO:39.5416294;-4.3321114
END:VEVENT
BEGIN:VEVENT
DTSTART;TZID=Europe/Madrid:20240814T000000
DTEND;TZID=Europe/Madrid:20240817T235959
DTSTAMP:20260420T050957
CREATED:20240721T042422Z
LAST-MODIFIED:20240811T050517Z
UID:10001567-1723593600-1723939199@demercadosmedievales.info
SUMMARY:Mercado Medieval de Buendia (Cuenca) 2024
DESCRIPTION:Mercado medieval en la localidad de la alcarria conquense de Buendía \, paradas de artesanía\, alimentación\, complementos\, juguetes\, gastronomía\, taberna\, etc. \n\n\n\n\n\n \n \nTags:  2024\, buendia\, Castilla La Mancha\, convocatoria\, feria medieval \nMercado Medieval\n  \nCartel  \n \nProgramación PROXIMAMENTE \nInformación básica del Mercado\nFecha de celebración Los dias14 al 17 de  Agosto del  2024Donde se realizaEn la localidad de Buendia que pertenece a la provincia de  CUENCAUbicación del EventoEstará ubicado en el centro del municipio \nInformación del Organizador\nLa empresa DEGLADIS EVENTOS TEMATICOS   es la encargada de la organización y gestión de paradas/puestos de venta.Como participar ?Ponte en contacto con el organizador para conocer los requisitos de participación y solicitar tu participación: \nInformación e Inscripciones:EMAIL : Degladis.serviciostematicos@gmail.comTELEFONO : 674687996 \nMás fechasPuedes conocer mas ferias y mercados en está provincia\, consultando nuestra sección de Eventos en CuencaOtros eventosConsulta Aquí otras ferias y mercados que organizará la empresa Degladis servicios temáticosOtros mercados temáticos y FeriasSi quieres conocer cuando se realizan más ferias y mercados\, puedes consultarlos visitando nuestro  Calendario de Eventos \nAcerca de Buendia (Cuenca)\nLa localidad se encuentra en la provincia de Cuenca y linda con la provincia de Guadalajara y se encuentra junto al embalse al que da nombre. Da nombre al condado de Buendía\, otorgado a la familia Acuña por el infante don Alfonso en 1465 a favor de Pedro Vázquez de Acuña.\nMuy brevemente diremos que fueron los Visigodos quienes fundaron la ciudad\, probablemente\, durante el reinado de Leovigildo. Orcanes\, Luzones\, Arabes la han habitado en el pasado.\n \nLas Murallas\nEs bueno saber que\, en los tiempos antiguos\, Buendía estaba protegida por muros de piedra y mampostería como muchos otros pueblos relativamente importantes. En el siglo XV se existían cinco lugares diferentes\, puertas\, para pasar la muralla de Buendía: la «Puerta Calzada»\, el «Castillo»\, el «Camino del Convento» (En el área «Convento» ahora se sitúa el Cementerio de Buendía)\, la Botica (calle al final del Arrabal) y la colocada  en el camino a «la Isabela». La calle del Arrabal era el lugar en el que los extranjeros que intentaban entrar Buendía esperaban a que se les concediera el permiso para hacerlo. Todavía podemos ver restos de esta muralla.\n \nEl Pantano\nLlamamos «pantano» a la hermosa reserva de agua que alguna vez fue en el pasado dedicada al suministro de energía eléctrica y que\, hoy en día\, es en su mayoría dedicada al suministro de agua. Una gran cantidad de regiones de la España seca están recibiendo la bendición del agua del «pantano»\, incluyendo algunas áreas ecológicamente protegidas y tierras de agua como «Las Tablas de Daimiel». Las aguas «Pantano» llegan a las provincias españolas más meridionales.\n \nEl Pueblo\n\nCalles Buendía siguen el patrón urbano de los pueblos medievales ‘: En el centro del pueblo encontramos la iglesia y la plaza principal. Desde este punto\, en una disposición radial\, nos encontramos con las calles principales. Calles secundarias cortan las principales formando círculos casi concéntricos paralelos a la muralla de la ciudad. \nBuendía está muy cerca de Madrid. Se tarda sólo alrededor de 1 hora y 45 minutos para llegar a Buendía desde allí. Eso significa que Buendía es un lugar perfecto para que los madrileños nos visiten. \nEntre los incentivos turísticos es necesario incluir este lago que resulta ser el «Pantano». No hay ninguna otra capital de país europeo que tenga un lago tan importante tan cerca. Cuenca está también muy próxima: a unos 90 Km. Buendía tiene otras muchas cosas interesantes que visitar. \n\nCalendario 2024\nSobre los Mercados Medievales\nLas Ferias y mercados medievales son eventos populares que recrean el ambiente y la atmósfera de la Edad Media. Estos eventos suelen tener lugar en diferentes partes del mundo y atraen a numerosos visitantes que desean sumergirse en la historia y disfrutar de una experiencia única. Las ferias y mercados medievales suelen tener una gran cantidad de visitantes\, ya que ofrecen una oportunidad única de sumergirse en la historia y disfrutar de una experiencia diferente. También son muy populares entre los amantes de la cultura medieval\, los aficionados a la historia y las familias que buscan una actividad divertida y educativa. Consulta nuestro amplio calendario de eventos \n 
URL:https://demercadosmedievales.info/mercadomedieval/mercado-medieval-de-buendia-cuenca-2024/
LOCATION:Buendía (Cuenca) (***)\, Buendía\, Cuenca\, 16512
CATEGORIES:Cartel,Cuenca,Mercado Medieval
ATTACH;FMTTYPE=image/jpeg:https://demercadosmedievales.info/wp-content/uploads/2024/07/medieval_buendia_f-1.jpg
ORGANIZER;CN="Degladis servicios tem%C3%A1ticos":MAILTO:Degladis.serviciostematicos@gmail.com
GEO:40.3666644;-2.7568259
END:VEVENT
BEGIN:VEVENT
DTSTART;TZID=Europe/Madrid:20240809T000000
DTEND;TZID=Europe/Madrid:20240811T235959
DTSTAMP:20260420T050957
CREATED:20240730T092458Z
LAST-MODIFIED:20240730T100906Z
UID:10001575-1723161600-1723420799@demercadosmedievales.info
SUMMARY:Mercado Medieval de El Romeral\, Toledo
DESCRIPTION:Mercado medieval en la Plaza del Ayuntamiento\, con artesanía\, gastronomía\, espectáculos\, música\, juegos y atracciones medievales. \n\n\n\n\n\n\n\n\n\nMercado Medieval\n\n\n\nen horario de tarde noche\, a partir de las 8 de la tarde \n\n\n\nCartel  \n\n\n\n \n\n\n\n\nProgramación PROXIMAMENTE\n\n\n\n\nInformación básica del Mercado\n\n\n\nFecha de celebraciónLos dias 09 al 11 de Agosto del  2024Donde se realizaEn la localidad de El Romeral que pertenece a la provincia de TOLEDOUbicación del EventoEstará ubicado en el centro del municipio \n\n\n\nInformación del Organizador\n\n\n\nLa empresa organizadora es ARTESANOS REUNIDOS \n\n\n\nComo participarLos organizadores han facilitado los siguientes medios de contacto para que se inscriban y/o consulten los artesanos y mercaderes:Información e Inscripciones: artesanosreunidos@gmail.com Teléfono Móvil:  633.323.561 \n\n\n\nMás fechas de MálagaPuedes conocer mas ferias y mercados en está provincia\, consultando nuestra sección de Eventos en Toledo \n\n\n\nOtros eventos del mismo organizadorConsulta Aquí otras ferias y mercados que organizará la empresa ARTESANOS REUNIDOS \nOtros mercados temáticos y FeriasSi quieres conocer cuando se realizan más ferias y mercados\, puedes consultarlos visitando nuestro  Calendario de Eventos \n\n\n\nAcerca de El Romeral\n\n\n\nEl Romeral es un municipio y localidad española de la provincia de Toledo\, en la comunidad autónoma de Castilla-La Mancha. El Romeral dista de Toledo 62 km y 101 de Madrid. Está ubicado entre Tembleque (6 km al oeste)\, Lillo (10 km al este)\, La Guardia (9 km al norte) y Villacañas (12 km al sur) en la comarca de La Mancha Toledana. \n\n\n\nCalendario 2024\n\n\n\nSobre los Mercados Medievales\n\n\n\nLas Ferias y mercados medievales son eventos populares que recrean el ambiente y la atmósfera de la Edad Media. Estos eventos suelen tener lugar en diferentes partes del mundo y atraen a numerosos visitantes que desean sumergirse en la historia y disfrutar de una experiencia única. Las ferias y mercados medievales suelen tener una gran cantidad de visitantes\, ya que ofrecen una oportunidad única de sumergirse en la historia y disfrutar de una experiencia diferente. También son muy populares entre los amantes de la cultura medieval\, los aficionados a la historia y las familias que buscan una actividad divertida y educativa. Consulta nuestro amplio calendario de eventos \n\n\n\nTags: 2024\, Castilla La Mancha\, el romeral\, feria medieval \n 
URL:https://demercadosmedievales.info/mercadomedieval/mercado-medieval-de-el-romeral-toledo/
LOCATION:El Romeral (Toledo) (***)\, Calle Toledo\, El Romeral\, Toledo\, 45770
CATEGORIES:Cartel,Mercado Medieval,Toledo
ATTACH;FMTTYPE=image/jpeg:https://demercadosmedievales.info/wp-content/uploads/2024/07/medieval_el_romeral_f.jpg
ORGANIZER;CN="Artesanos reunidos":MAILTO:artesanosreunidos@gmail.com
GEO:39.7081588;-3.4344804
X-APPLE-STRUCTURED-LOCATION;VALUE=URI;X-ADDRESS=El Romeral (Toledo) (***) Calle Toledo El Romeral Toledo 45770;X-APPLE-RADIUS=500;X-TITLE=Calle Toledo:geo:-3.4344804,39.7081588
END:VEVENT
END:VCALENDAR