BEGIN:VCALENDAR
VERSION:2.0
PRODID:-//Mercados Medievales - ECPv6.15.20//NONSGML v1.0//EN
CALSCALE:GREGORIAN
METHOD:PUBLISH
X-ORIGINAL-URL:https://demercadosmedievales.info
X-WR-CALDESC:Eventos para Mercados Medievales
REFRESH-INTERVAL;VALUE=DURATION:PT1H
X-Robots-Tag:noindex
X-PUBLISHED-TTL:PT1H
BEGIN:VTIMEZONE
TZID:Europe/Madrid
BEGIN:DAYLIGHT
TZOFFSETFROM:+0100
TZOFFSETTO:+0200
TZNAME:CEST
DTSTART:20250330T010000
END:DAYLIGHT
BEGIN:STANDARD
TZOFFSETFROM:+0200
TZOFFSETTO:+0100
TZNAME:CET
DTSTART:20251026T010000
END:STANDARD
BEGIN:DAYLIGHT
TZOFFSETFROM:+0100
TZOFFSETTO:+0200
TZNAME:CEST
DTSTART:20260329T010000
END:DAYLIGHT
BEGIN:STANDARD
TZOFFSETFROM:+0200
TZOFFSETTO:+0100
TZNAME:CET
DTSTART:20261025T010000
END:STANDARD
BEGIN:DAYLIGHT
TZOFFSETFROM:+0100
TZOFFSETTO:+0200
TZNAME:CEST
DTSTART:20270328T010000
END:DAYLIGHT
BEGIN:STANDARD
TZOFFSETFROM:+0200
TZOFFSETTO:+0100
TZNAME:CET
DTSTART:20271031T010000
END:STANDARD
END:VTIMEZONE
BEGIN:VEVENT
DTSTART;TZID=Europe/Madrid:20260417T000000
DTEND;TZID=Europe/Madrid:20260419T235959
DTSTAMP:20260420T101905
CREATED:20260412T100048Z
LAST-MODIFIED:20260415T175347Z
UID:10003416-1776384000-1776643199@demercadosmedievales.info
SUMMARY:Mercado Romano Segovia Decus Romae 2026 - Programación
DESCRIPTION:Segovia capital – El Mercado Romano Segovia Decus Romae 2026 se celebrará del 17 al 19 de abril de 2026 en la Avenida Padre Claret de Segovia. Las inscripciones ya están cerradas. Por lo cual les ofrecemos la programación completa de las actividades que se van a desarrollar.   \n\n\n\n\n\n\n\n \n\n\n\nEl Mercado Romano Segovia Decus Romae 2026 está inspirado en la época del Imperio Romano\, ofreciendo una experiencia cultural única en un entorno histórico incomparable. \n\n\n\nDurante tres días\, artesanos y mercaderes recrearán la esencia de la antigua Roma con productos inspirados en la tradición clásica\, acompañados de ambientación\, indumentaria y actividades para todos los públicos. \n\n\n\n\n\n\n\n¿Eres artesano o amante de las ferias temáticas? > Descubre el mayor calendario de mercados medievales 2026. Síguenos en nuestro Instagram oficial o conecta con nosotros vía WhatsApp para recibir novedades sobre plazos de inscripción y fechas de eventos. No olvides suscribirte a nuestra Newsletter para no perderte ninguna publicación. \n\n\n\n\n\n\n\n \n\n\n\n \n\n\n\nℹ Información del evento\n\n\n\n\nEvento : Mercado Romano Segovia Decus Romae dentro del evento cultural MMXXVI Segovia Decus Romae\n\n\n\nFechas :  17 al 19 de abril del 2026 \n\n\n\nHorario al publico : Viernes y Sábado de 11:00 a 22:00 horas y Domingo de 11:00 a 21:00\n\n\n\nUbicación : Avenida Padre Claret en Segovia capital\n\n\n\nHorario :\n\n\n\nEntrada al público visitante : Acceso gratuito al público visitante\n\n\n\n\n \n\n\n\n🎭 Cartel y Programa \n\n\n\n🧧Cartel del Evento cultural MMXXVI Segovia Decus Romae que incluye el Mercado Romano Segovia Decus Romae \n\n\n\nMercado Romano Segovia Decus Romae 2026\n\n\n\n \n\n\n\n🎭Programación  \n\n\n\nPrograma de Segovia Decus Romae 2026 pagina 1\n\n\n\n \n\n\n\nPrograma de Segovia Decus Romae 2026 pagina 2\n\n\n\n \n\n\n\nℹ Información básica para participar ( Las inscripciones están cerradas )\n\n\n\nInformación básica para participar como expositor\, artesano y/o mercader : \n\n\n\n\nEvento :  Mercado Romano Segovia Decus Romae 2026\n\n\n\nLa fecha de celebración será  : Del 17 al 19 de abril del 2026\n\n\n\nHorario de apertura y cierre al publico : Viernes y Sábado de 11:00 a 22:00 horas y Domingo de 11:00 a 21:00\n\n\n\nPlazo de Inscripción : Hasta el 15 de abril\n\n\n\nUbicación : Avenida Padre Claret \n\n\n\nMunicipio y Provincia : Segovia capital  \, Segovia\n\n\n\nTipo de productos a exponer y vender:  Artesanía y alimentación\n\n\n\nMontaje : 16 de abril\n\n\n\nDesmontaje : 19 de abril\n\n\n\nInauguración : 17 abril 11:00h\n\n\n\nRequisitos de participación en el Mercado Romano Segovia Decus Romae:\n\nVenta de productos de artesanía y gastronomía inspirados en la época romana.\n\n\n\nIndumentaria del personal acorde a la temática romana.\n\n\n\nEstar al corriente y aportar la documentación requerida en cada momento.\n\n\n\n\n\nUso y cuidado responsable del material facilitado\n\n\n\nOrganiza :  FES/FECOSE en colaboración con la empresa municipal de Turismo del Ayuntamiento de Segovia\n\nInformaciónA través del correo electrónico agrupaciones@fessegovia.esIndica el teléfono para recibir mensajes por WhatsApp\n\n\n\n\n\n\n \n\n\n\n📍 Descripción de la localidad y como llegar\n\n\n\nSegovia es una de las ciudades más monumentales de España y está declarada Patrimonio de la Humanidad por la UNESCO. Destaca por su impresionante Acueducto de Segovia\, una de las obras de ingeniería romana mejor conservadas del mundo. \n\n\n\nEntre sus tesoros históricos también sobresalen el Alcázar de Segovia y la Catedral de Segovia. Su riqueza patrimonial\, junto con su prestigiosa gastronomía\, la convierten en un destino turístico de primer nivel. \n\n\n\n \n\n\n\n🚗Como llegar Mercado Romano Segovia Decus Romae 2026 \n\n\n\nSegovia cuenta con excelentes conexiones por carretera: \n\n\n\n\nDesde Madrid: 90 km por la AP-6 y la AP-61 (aprox. 1 hora).\n\n\n\nDesde Valladolid: 115 km por la A-601 (1 hora y 20 minutos).\n\n\n\nDesde Ávila: 65 km por la N-110 (1 hora).\n\n\n\nDesde Salamanca: 160 km por la A-50 y la AP-51.\n\n\n\n\n📍 Introduce en tu GPS: Avenida Padre Claret\, Segovia. \n\n\n\n\n\n\n\n\n\n🗓 Eventos más próximos \n\n\n\nMercado Barroco de La Granja de San Ildefonso 20265 junio - 7 junio \n\n\n\n\n\n\n\n Mercado Romano Segovia Decus Romae 2026 \n\n\n\nEvento :  Mercado Romano Segovia Decus Romae 2026 ℹ Información del evento🎭 Cartel y Programa ℹ Información básica para participar ( Las inscripciones están cerradas )Mercados medievales y temáticos\n\n\n\n\n\n\n\n \n\n\n\nMercados medievales y temáticos\n\n\n\nAdemás de este evento\, la provincia acoge otras ferias de artesanía y mercados temáticos. A continuación\, destacamos tres opciones adicionales donde también puedes solicitar tu participación\, así optimizamos tu logística facilitándote el acceso a la información clave para el montaje y la solicitud de plazas: \n\n\n\n\nPróximas Ferias y Mercados en España: Consulta las localidades confirmadas y las fechas de los próximos eventos para planificar tu ruta anual.\n\n\n\nGuía de Organizadores de Mercados y Ferias: Accede al listado de empresas organizadoras para solicitar bases de participación\, precios de metros y condiciones de montaje.\n\n\n\n\n \n\n\n\nMercados Medievales 2026 Calendario de Ferias y Mercados : \n\n\n\nMercados Medievales en la RED\n\n\n\n¿Eres artesano o mercader y buscas nuevos eventos para exponer tus productos? España ofrece una de las agendas de ferias temáticas y mercados medievales más dinámicas de Europa. Estos eventos son el escaparate perfecto para la artesanía de autor\, combinando un gran flujo de visitantes con entornos de venta estratégicos. \n\n\n\nSi tu objetivo es ampliar tu ruta de mercados y asegurar tu participación en las mejores plazas\, esta es tu plataforma profesional de referencia. \n\n\n\n\n\n\n\n \n\n\n\nÚnete a la Red de Artesanos y Mercaderes \n\n\n\nLas plazas en los mejores mercados se agotan rápido. No te quedes fuera de las convocatorias más importantes del año. Únete a nuestros canales exclusivos para profesionales y recibe alertas sobre nuevas aperturas de plazos e inscripciones: \n\n\n\nComunidad y Visibilidad: Conecta con nosotros en Instagram\, Facebook y nuestra Newsletter profesional. \n\n\n\nAlertas Inmediatas: Únete a nuestro Telegram o WhatsApp para recibir avisos de última hora.
URL:https://demercadosmedievales.info/mercadomedieval/mercado-romano-segovia-decus-romae-2026/
LOCATION:Segovia capital (***)\, Segovia\, Segovia\, España
CATEGORIES:Cartel,Castilla y Leon,eventos 2026,Mercado romano,Mercados tematicos,Programación,Segovia
ATTACH;FMTTYPE=image/jpeg:https://demercadosmedievales.info/wp-content/uploads/2026/04/mercado-romano-segovia-decus-romae-1080-1.jpg
ORGANIZER;CN="FES / FECOSE fEDERACI%C3%93N EMPRESARIAL SEGOVIANA":MAILTO:agrupaciones@fessegovia.es
GEO:40.9429032;-4.1088069
END:VEVENT
BEGIN:VEVENT
DTSTART;TZID=Europe/Madrid:20260508T000000
DTEND;TZID=Europe/Madrid:20260510T235959
DTSTAMP:20260420T101905
CREATED:20260401T175247Z
LAST-MODIFIED:20260401T182024Z
UID:10003124-1778198400-1778457599@demercadosmedievales.info
SUMMARY:Mercado Medieval de Villajoyosa 2026 (Alicante) Fechas\, Cartel\, Información
DESCRIPTION:Del 8 al 10 de mayo de 2026\, Villajoyosa (Alicante) acogerá una nueva edición de su Mercado Medieval\, una propuesta cultural que transforma diferentes espacios del municipio en un escenario inspirado en la Edad Media. \n\n\n\n\n\n\n\n \n\n\n\nContenido Mercado Medieval de VillajoyosaInformación para artesanosCartel oficial del Mercado Medieval de VillajoyosaProgramación del Mercado Medieval de Villajoyosa 2026Villajoyosa\, historia y color junto al MediterráneoComo llegar al Mercado Medieval de Villajoyosa 2026🔗 Otros Mercados Medievales y feriasMercados Medievales 2026: Fechas y Localidades ConfirmadasPara más información puedes consultar :¿Te apuntas? Síguenos y no te pierdas de nada.En Resumen…\n\n\n\n \n\n\n\n \n\n\n\nMercado Medieval de Villajoyosa\n\n\n\nEl Mercado Medieval de Villajoyosa 2026 se celebrará del 8 al 10 de mayo\, ofreciendo durante tres días un ambiente único donde vecinos y visitantes podrán recorrer un mercado ambientado con puestos de artesanía\, alimentación y gastronomía. En él se podrán encontrar productos tradicionales y elaboraciones pensadas para el consumo directo\, todo ello acompañado de una completa programación para todos los públicos. \n\n\n\nEl evento contará con zona infantil\, campamento\, animación\, talleres de oficio\, artesanía y alimentación\, creando una experiencia dinámica y familiar en un entorno privilegiado. Se trata de un mercado de carácter anual\, enmarcado dentro de los eventos culturales y ferias temáticas de la localidad\, que tendrá lugar en un parque cercano al río. \n\n\n\nZONA INFANTIL – CAMPAMENTO – ANIMACION – TALLERES DE OFICIO – ARTESANIA – ALIMENTACIÓN  \n\n\n\n\n\n\n\n \n\n\n\nInformación para artesanos\n\n\n\n\nEvento : Mercado Medieval de Villajoyosa\n\n\n\nFecha: 8 al 10 de Mayo 2026\n\n\n\nPeriodicidad: Anual\n\n\n\nCategorías: Mercado medieval\, Eventos culturales\, Ferias temáticas\n\n\n\nLugar: Parque cerca del Rio\n\n\n\nPoblación: Villajoyosa ( ALICANTE ) Villajoyosa​ ​ es un municipio de la Comunidad Valenciana\, España. Perteneciente a la provincia de Alicante y situado en la Costa Blanca\, en la comarca de la Marina Baja\, de la que es su capital\, su población es de 36 891 habitantes.\n\n\n\nOferta a exponer : \n\nAlimentación\n\n\n\nGastronomía\n\n\n\nArtesanía y complementos\n\n\n\n\n\nSerá inaugurado : El dia 08 de Mayo \n\n\n\nServicios que proporcionara el organizador: Agua\, Luz y Vigilancia Nocturna\n\n\n\nOrganizador del Mercado Medieval de Villajoyosa : ANUBIS TEMATICA\n\nCorreo electrónico :  artesanos@anubistematica.com\n\n\n\nTeléfono / WhatsApp : Oficinas: 966-851-604 Móvil: 663-049-625\n\n\n\n\n\n\n \n\n\n\nCartel oficial del Mercado Medieval de Villajoyosa\n\n\n\nMercado Medieval de Villajoyosa 2026 Alicante\n\n\n\n \n\n\n\nProgramación del Mercado Medieval de Villajoyosa 2026\n\n\n\nLa programación incluirá : \n\n\n\n\nZONA INFANTIL\n\n\n\nCAMPAMENTO  \n\n\n\nANIMACION  \n\n\n\nTALLERES DE OFICIO\n\n\n\n ARTESANIA \n\n\n\n ALIMENTACIÓN \n\n\n\n\n \n\n\n\n \n\n\n\nVillajoyosa\, historia y color junto al Mediterráneo\n\n\n\nVillajoyosa es una localidad costera de la provincia de Alicante\, conocida por su patrimonio histórico\, su tradición marinera y sus emblemáticas casas de colores. Su casco antiguo y su entorno urbano ofrecen un escenario ideal para la celebración de mercados medievales y eventos culturales. \n\n\n\n\n\n\n\nComo llegar al Mercado Medieval de Villajoyosa 2026\n\n\n\nLlegar a Villajoyosa es sencillo gracias a su buena conexión por carretera y transporte público. \n\n\n\n🚗 En coche:Se accede fácilmente por la autopista AP-7 (salida Villajoyosa) o por la carretera nacional N-332\, que conecta con ciudades cercanas como Alicante y Benidorm. \n\n\n\n\n\n \n\n\n\n🔗 Otros Mercados Medievales y ferias\n\n\n\n\n👉 Consulta más mercados en Alicante👉 Descubre ferias en Mayo 2026👉 Encuentra eventos para artesanos en España\n\n\n\n\n \n\n\n\nMercados Medievales 2026: Fechas y Localidades Confirmadas\n\n\n\n\n\n\n\nEspaña cuenta con una de las agendas de ferias temáticas más ricas del mundo\, combinando gastronomía tradicional\, artesanía de autor y espectáculos en vivo. Si buscas un plan diferente para el fin de semana o quieres conocer el patrimonio de una forma única\, esta es tu guía definitiva. Leer más \n\n\n\n \n\n\n\nPara más información puedes consultar :\n\n\n\n\nPuedes Consultar en esté enlace las  Ferias y Mercados en España\n\n\n\nHaz clic en ESTE enlace :  Conoce los Organizadores de Mercados y Ferias\n\n\n\n\n \n\n\n\n¿Te apuntas? Síguenos y no te pierdas de nada.\n\n\n\n\nTelegram\n\n\n\nNewsletter\n\n\n\nWhatsApp\n\n\n\nInstagram\n\n\n\nPor supuesto en Facebook\n\n\n\n\n \n\n\n\nEn Resumen…\n\n\n\n🏰✨ Mercado Medieval de Villajoyosa ✨🏰Del 8 al 10 de mayo\, Villajoyosa se llena de historia\, color y sabor con su esperado Mercado Medieval. \n\n\n\n🧺 Artesanía tradicional🍖 Gastronomía de época🌿 Ambiente medieval único \n\n\n\nUn plan perfecto para disfrutar en familia y con amigos junto al Mediterráneo.¡No te lo pierdas!
URL:https://demercadosmedievales.info/mercadomedieval/nuevo-mercado-medieval-de-villajoyosa-2026-alicante/
LOCATION:Villajoyosa (Alicante) (***)\, Villajoyosa\, Alicante\, 03570\, España
CATEGORIES:Alicante,Cartel,Comunidad valenciana,Mercado Medieval,Programación
ATTACH;FMTTYPE=image/jpeg:https://demercadosmedievales.info/wp-content/uploads/2026/03/medieval_villajoyosa_fb.jpg
ORGANIZER;CN="Anubis tematica":MAILTO:artesanos@anubistematica.com
GEO:38.5124744;-0.232687
END:VEVENT
END:VCALENDAR