BEGIN:VCALENDAR
VERSION:2.0
PRODID:-//Mercados Medievales - ECPv6.15.20//NONSGML v1.0//EN
CALSCALE:GREGORIAN
METHOD:PUBLISH
X-ORIGINAL-URL:https://demercadosmedievales.info
X-WR-CALDESC:Eventos para Mercados Medievales
REFRESH-INTERVAL;VALUE=DURATION:PT1H
X-Robots-Tag:noindex
X-PUBLISHED-TTL:PT1H
BEGIN:VTIMEZONE
TZID:Europe/Madrid
BEGIN:DAYLIGHT
TZOFFSETFROM:+0100
TZOFFSETTO:+0200
TZNAME:CEST
DTSTART:20220327T010000
END:DAYLIGHT
BEGIN:STANDARD
TZOFFSETFROM:+0200
TZOFFSETTO:+0100
TZNAME:CET
DTSTART:20221030T010000
END:STANDARD
BEGIN:DAYLIGHT
TZOFFSETFROM:+0100
TZOFFSETTO:+0200
TZNAME:CEST
DTSTART:20230326T010000
END:DAYLIGHT
BEGIN:STANDARD
TZOFFSETFROM:+0200
TZOFFSETTO:+0100
TZNAME:CET
DTSTART:20231029T010000
END:STANDARD
BEGIN:DAYLIGHT
TZOFFSETFROM:+0100
TZOFFSETTO:+0200
TZNAME:CEST
DTSTART:20240331T010000
END:DAYLIGHT
BEGIN:STANDARD
TZOFFSETFROM:+0200
TZOFFSETTO:+0100
TZNAME:CET
DTSTART:20241027T010000
END:STANDARD
END:VTIMEZONE
BEGIN:VEVENT
DTSTART;VALUE=DATE:20231027
DTEND;VALUE=DATE:20231102
DTSTAMP:20260422T092120
CREATED:20230927T081203Z
LAST-MODIFIED:20231022T093748Z
UID:10000118-1698364800-1698883199@demercadosmedievales.info
SUMMARY:MERCADO MEDIEVAL DE GRANADA 2023 - Palacio de Congresos ( Granada )
DESCRIPTION:Bases de participación y Programación de actividades del MERCADO MEDIEVAL de la explanada del Palacio de Congresos de Granada. \n \nMERCADO MEDIEVAL DE GRANADA 2023\nLOCALIDAD Y PROVINCIA : Granada \, GRANADA\nFECHAS :  27 de Octubre al 01 de Noviembre 2023\nUBICACIÓN:  Explanada del Palacio de Congresos – El Palacio de Exposiciones y Congresos de Granada es un edificio de convenciones situado en la ciudad andaluza de Granada\, cuya principal función es la celebración de congresos y exposiciones feriales\, así como conciertos y espectáculos\nDATOS DEL ORGANIZADOR :\nAka Eventos\nTelefonos : 722162332 y 633902226\nEmail asociacionaka@hotmail.com \nCartel\n \n  \nProgramación de actividades\n \n  \n______________ \nmercadosmedievales.net – MERCADO MEDIEVAL en Granada capital ( Palacio de Congresos ) 2023 \nEspaña\, Extremadura\, Granada capital\, Granada\, Andalucía\, Cartel del MERCADO MEDIEVAL DE GRANADA 2023\, Programación de actividades del MERCADO MEDIEVAL\, DE GRANADA 2023
URL:https://demercadosmedievales.info/mercadomedieval/mercado-medieval-en-granada-capital-palacio-de-congresos-granada-2023/
LOCATION:Granada (Palacio de Congresos) (***)\, Explanada del Palacio de Congresos\, Granada\, Granada\, España
CATEGORIES:Aka Eventos,Granada capiral,Mercado Medieval
ATTACH;FMTTYPE=image/jpeg:https://demercadosmedievales.info/wp-content/uploads/2023/09/Granada_medieval_palacio_congresos_cartel_2023.jpg
ORGANIZER;CN="Aka Eventos Tem%C3%A1ticos":MAILTO:info@akaeventos.com
GEO:37.1663598;-3.5979968
X-APPLE-STRUCTURED-LOCATION;VALUE=URI;X-ADDRESS=Granada (Palacio de Congresos) (***) Explanada del Palacio de Congresos Granada Granada España;X-APPLE-RADIUS=500;X-TITLE=Explanada del Palacio de Congresos:geo:-3.5979968,37.1663598
END:VEVENT
END:VCALENDAR