BEGIN:VCALENDAR
VERSION:2.0
PRODID:-//Mercados Medievales - ECPv6.15.20//NONSGML v1.0//EN
CALSCALE:GREGORIAN
METHOD:PUBLISH
X-ORIGINAL-URL:https://demercadosmedievales.info
X-WR-CALDESC:Eventos para Mercados Medievales
REFRESH-INTERVAL;VALUE=DURATION:PT1H
X-Robots-Tag:noindex
X-PUBLISHED-TTL:PT1H
BEGIN:VTIMEZONE
TZID:Europe/Madrid
BEGIN:DAYLIGHT
TZOFFSETFROM:+0100
TZOFFSETTO:+0200
TZNAME:CEST
DTSTART:20230326T010000
END:DAYLIGHT
BEGIN:STANDARD
TZOFFSETFROM:+0200
TZOFFSETTO:+0100
TZNAME:CET
DTSTART:20231029T010000
END:STANDARD
BEGIN:DAYLIGHT
TZOFFSETFROM:+0100
TZOFFSETTO:+0200
TZNAME:CEST
DTSTART:20240331T010000
END:DAYLIGHT
BEGIN:STANDARD
TZOFFSETFROM:+0200
TZOFFSETTO:+0100
TZNAME:CET
DTSTART:20241027T010000
END:STANDARD
BEGIN:DAYLIGHT
TZOFFSETFROM:+0100
TZOFFSETTO:+0200
TZNAME:CEST
DTSTART:20250330T010000
END:DAYLIGHT
BEGIN:STANDARD
TZOFFSETFROM:+0200
TZOFFSETTO:+0100
TZNAME:CET
DTSTART:20251026T010000
END:STANDARD
END:VTIMEZONE
BEGIN:VEVENT
DTSTART;TZID=Europe/Madrid:20241031T000000
DTEND;TZID=Europe/Madrid:20241103T235959
DTSTAMP:20260421T205225
CREATED:20241013T184213Z
LAST-MODIFIED:20241014T104952Z
UID:10001817-1730332800-1730678399@demercadosmedievales.info
SUMMARY:Mercat de Halloween de Badalona (2024) Barcelona
DESCRIPTION:Mercado con temática de Halloween en el centro de Badalona\, de cuatro dias de duración del Jueves 31 de octubre al domingo 03 de Noviembre del 2024  \n\n\n\n\n\n\nMercado de Halloween\nImagina un ambiente envuelto en una bruma tenue\, con faroles de calabaza iluminando callejones adornados con telarañas y esqueletos. El aire se llena del aroma de manzanas caramelizadas y de incienso\, creando una atmósfera mágica y un poco tétrica. \nCartel \n \nProgramación – Próximamente\n** Próximamente dispondremos del cartel y del programa con las actividades previstas. \nInformación básica del Mercado\nFecha de celebración Los dias 31 de octubre al 03 de noviembre  del  2024 \nDonde se realizaEn la localidad de Badalona  que pertenece a la provincia de  BARCELONA  / Badalona es una ciudad y municipio de la comarca del Barcelonés\, en la provincia de Barcelona\, Cataluña\, España. Alcanzó la condición de ciudad en 1897. Está a 10 km de distancia del centro de Barcelona. \nUbicación del EventoEstará ubicado en la Rambla del Gorg \nInformación del Organizador\nLa empresa organizadora es Galaico Edicions \nComo participar\nInformación e Inscripciones:Teléfono  661572101Email galaikocat@gmail.com \nMás fechas Puedes conocer mas ferias y mercados en está provincia\, consultando nuestra sección de Eventos en Barcelona \nOtros eventosConsulta Aquí otras ferias y mercados que organizará la empresa Galaico Edicions \notros mercados temáticos y FeriasSi quieres conocer cuando se realizan más ferias y mercados\, puedes consultarlos visitando nuestro   Calendario de Eventos \nCalendario 2024\nSobre los Mercados Medievales\nLas ferias medievales son eventos que recrean la atmósfera de la Edad Media. Por lo general\, se llevan a cabo en pueblos o ciudades\, y presentan puestos de vendedores que venden artesanías\, alimentos y bebidas. También puede haber entretenimiento\, como justas\, música y baile. \nTags:  Mercado de Halloween\,Badalona\,Caraliña\,Catalunya\,Feria Medieval\,Convocatoria\,2024\,España  \n\n\n\n\n\n\n\nDetalles del organizador\n\n\n\n\n\nLocalización\n\n\n\nBadalona es una ciudad y municipio de la comarca del Barcelonés\, en la provincia de Barcelona\, Cataluña\, España. Alcanzó la condición de ciudad en 1897. Está a 10 km de distancia del centro de Barcelona.
URL:https://demercadosmedievales.info/mercadomedieval/mercat-de-halloween-de-badalona-2024-barcelona/
LOCATION:Badalona (Barcelona) (***)\, Badalona\, Barcelona\, España
CATEGORIES:Barcelona,Ferias / Mercados de Halloween,Mercado de Halloween
ATTACH;FMTTYPE=image/jpeg:https://demercadosmedievales.info/wp-content/uploads/2024/10/halloween-badalona-2024-f.jpg
ORGANIZER;CN="Galaico edicions":MAILTO:galaikocat@gmail.com
GEO:41.4469883;2.2450325
END:VEVENT
END:VCALENDAR