BEGIN:VCALENDAR
VERSION:2.0
PRODID:-//Mercados Medievales - ECPv6.15.20//NONSGML v1.0//EN
CALSCALE:GREGORIAN
METHOD:PUBLISH
X-WR-CALNAME:Mercados Medievales
X-ORIGINAL-URL:https://demercadosmedievales.info
X-WR-CALDESC:Eventos para Mercados Medievales
REFRESH-INTERVAL;VALUE=DURATION:PT1H
X-Robots-Tag:noindex
X-PUBLISHED-TTL:PT1H
BEGIN:VTIMEZONE
TZID:Europe/Madrid
BEGIN:DAYLIGHT
TZOFFSETFROM:+0100
TZOFFSETTO:+0200
TZNAME:CEST
DTSTART:20250330T010000
END:DAYLIGHT
BEGIN:STANDARD
TZOFFSETFROM:+0200
TZOFFSETTO:+0100
TZNAME:CET
DTSTART:20251026T010000
END:STANDARD
BEGIN:DAYLIGHT
TZOFFSETFROM:+0100
TZOFFSETTO:+0200
TZNAME:CEST
DTSTART:20260329T010000
END:DAYLIGHT
BEGIN:STANDARD
TZOFFSETFROM:+0200
TZOFFSETTO:+0100
TZNAME:CET
DTSTART:20261025T010000
END:STANDARD
BEGIN:DAYLIGHT
TZOFFSETFROM:+0100
TZOFFSETTO:+0200
TZNAME:CEST
DTSTART:20270328T010000
END:DAYLIGHT
BEGIN:STANDARD
TZOFFSETFROM:+0200
TZOFFSETTO:+0100
TZNAME:CET
DTSTART:20271031T010000
END:STANDARD
END:VTIMEZONE
BEGIN:VEVENT
DTSTART;TZID=Europe/Madrid:20260416T000000
DTEND;TZID=Europe/Madrid:20260419T235959
DTSTAMP:20260420T093307
CREATED:20260219T204746Z
LAST-MODIFIED:20260413T174715Z
UID:10003241-1776297600-1776643199@demercadosmedievales.info
SUMMARY:GastroGusta 2026 Miajadas (Caceres)
DESCRIPTION:La feria GastroGusta 2026 Miajadas\, evento gastronómico y multisectorial en stand\, se celebrará del 16 al 19 de abril de 2026 en el Recinto Ferial de Miajadas. Durante cuatro días\, productores y marcas del sector alimentario ofrecerán sus especialidades en un espacio profesional equipado. \n\n\n\n\n\n\n\n \n\n\n\nGastroGusta 2026 Miajadas\n\n\n\nEl municipio de Miajadas\, en la provincia de Cáceres\, acogerá una nueva edición de GastroGusta\, una feria anual dedicada a la gastronomía y productos gourmet en formato stand. \n\n\n\nCartel de GastroGusta 2026\n\n\n\nCartel de GastroGusta 2026 Miajadas  feria gastronómica en el Recinto Ferial  \n\n\n\n \n\n\n\nProgramación de GastroGusta 2026\n\n\n\n\n\n\n\n \n\n\n\n\n\n\n\n \n\n\n\n\n\n\n\n \n\n\n\n\n\n\n\n \n\n\n\nInformación básica del GastroGusta 2026 Miajadas\n\n\n\nNombre del evento: GastroGusta 2026 Miajadas – Feria Gastronómica y MultisectorialFechas: 16 al 19 de abril de 2026Horario: 10:30 a 20:30Ubicación: Recinto FerialMunicipio: MiajadasProvincia: CACERESPeriodicidad: Anual \n\n\n\nMontaje: 16 abril desde las 15:00Desmontaje: 19 abril desde las 19:00 \n\n\n\nProductos: Gastronomía\, quesos\, cecinas\, embutidos\, encurtidos\, dulces \n\n\n\nServicios incluidos: Stand\, luz\, agua\, seguridad\, conciertos \n\n\n\nRequisitos: Seguro RC\, manipulador alimentos\, estar al corriente de pago \n\n\n\nOrganiza: GastroGusta Eventos \n\n\n\nInscripciones y contacto:📲 WhatsApp / Teléfono: 663 88 27 11📧 gastrogusta@gmail.com \n\n\n\n \n\n\n\nSobre Miajadas\, Caceres \n\n\n\nMiajadas es conocida como la “Capital Europea del Tomate” y destaca por su fuerte tradición agroalimentaria. Su ubicación estratégica en Extremadura la convierte en un punto de encuentro ideal para productores y distribuidores. \n\n\n\nSe encuentra bien comunicada por la A-5 (Autovía del Suroeste)\, con fácil acceso desde Cáceres\, Mérida y Madrid. \n\n\n\n\n\n \n\n\n\nEvento : GastroGusta 2026 MiajadasGastroGusta 2026 MiajadasCartel de GastroGusta 2026Programación de GastroGusta 2026Información básica del GastroGusta 2026 MiajadasSobre Miajadas\, CaceresMercados Medievales 2026: Fechas y Localidades ConfirmadasPara más información puedes consultar :¿Te apuntas? Síguenos y no te pierdas de nada.En Resumen…\n\n\n\n \n\n\n\n \n\n\n\nMercados Medievales 2026: Fechas y Localidades Confirmadas\n\n\n\n\n\n\n\nEspaña cuenta con una de las agendas de ferias temáticas más ricas del mundo\, combinando gastronomía tradicional\, artesanía de autor y espectáculos en vivo. Si buscas un plan diferente para el fin de semana o quieres conocer el patrimonio de una forma única\, esta es tu guía definitiva. Leer más \n\n\n\nPara más información puedes consultar :\n\n\n\n\nPuedes Consultar en esté enlace las  Ferias y Mercados en España\n\n\n\nHaz clic en ESTE enlace :  Conoce los Organizadores de Mercados y Ferias\n\n\n\n\n¿Te apuntas? Síguenos y no te pierdas de nada.\n\n\n\n\nTelegram\n\n\n\nNewsletter\n\n\n\nWhatsApp\n\n\n\nInstagram\n\n\n\nPor supuesto en Facebook\n\n\n\n\nEn Resumen…
URL:https://demercadosmedievales.info/mercadomedieval/gastrogusta-2026-miajadas-caceres/
LOCATION:Miajadas (Caceres)\, Miajadas\, Caceres\, Spain
CATEGORIES:Cartel,eventos 2026,Feria gastronomica,Mercados tematicos,Multisectorial,Programación
ATTACH;FMTTYPE=image/jpeg:https://demercadosmedievales.info/wp-content/uploads/2026/02/gastrogusta_miajadas_fb.jpg
END:VEVENT
END:VCALENDAR