BEGIN:VCALENDAR
VERSION:2.0
PRODID:-//Mercados Medievales - ECPv6.15.20//NONSGML v1.0//EN
CALSCALE:GREGORIAN
METHOD:PUBLISH
X-WR-CALNAME:Mercados Medievales
X-ORIGINAL-URL:https://demercadosmedievales.info
X-WR-CALDESC:Eventos para Mercados Medievales
REFRESH-INTERVAL;VALUE=DURATION:PT1H
X-Robots-Tag:noindex
X-PUBLISHED-TTL:PT1H
BEGIN:VTIMEZONE
TZID:Europe/Madrid
BEGIN:DAYLIGHT
TZOFFSETFROM:+0100
TZOFFSETTO:+0200
TZNAME:CEST
DTSTART:20220327T010000
END:DAYLIGHT
BEGIN:STANDARD
TZOFFSETFROM:+0200
TZOFFSETTO:+0100
TZNAME:CET
DTSTART:20221030T010000
END:STANDARD
BEGIN:DAYLIGHT
TZOFFSETFROM:+0100
TZOFFSETTO:+0200
TZNAME:CEST
DTSTART:20230326T010000
END:DAYLIGHT
BEGIN:STANDARD
TZOFFSETFROM:+0200
TZOFFSETTO:+0100
TZNAME:CET
DTSTART:20231029T010000
END:STANDARD
BEGIN:DAYLIGHT
TZOFFSETFROM:+0100
TZOFFSETTO:+0200
TZNAME:CEST
DTSTART:20240331T010000
END:DAYLIGHT
BEGIN:STANDARD
TZOFFSETFROM:+0200
TZOFFSETTO:+0100
TZNAME:CET
DTSTART:20241027T010000
END:STANDARD
BEGIN:DAYLIGHT
TZOFFSETFROM:+0100
TZOFFSETTO:+0200
TZNAME:CEST
DTSTART:20250330T010000
END:DAYLIGHT
BEGIN:STANDARD
TZOFFSETFROM:+0200
TZOFFSETTO:+0100
TZNAME:CET
DTSTART:20251026T010000
END:STANDARD
END:VTIMEZONE
BEGIN:VEVENT
DTSTART;TZID=Europe/Madrid:20241221T000000
DTEND;TZID=Europe/Madrid:20241222T235959
DTSTAMP:20260419T192135
CREATED:20240923T095036Z
LAST-MODIFIED:20241218T202500Z
UID:10001757-1734739200-1734911999@demercadosmedievales.info
SUMMARY:Mercado Medieval Barrio de Cristo de Aldaia 2024 (Valencia)
DESCRIPTION:El Mercado Medieval contará con granja de animales\, la actuación del Bufón verse mua\, Talleres participativos y el Sábado 21 espectáculo de fuego a las 20h  \n\n\nMercado Medieval\n\n\n\nEn horario de 11:00 a 14:00 y de 16:00 a 22:00 horas podrás disfrutar de recorridos en tren\, ver varios animales\, realizar diversos talleres y actividades\, pasear por los diferentes puestos de comida y souvenirs y visitar a Papá Noel. \n\n\n\nCartel  \n\n\n\n\n\n\n\n \n\n\n\nProgramación – Próximamente\n\n\n\n** Próximamente dispondremos del cartel y del programa con las actividades previstas. \n\n\n\nInformación básica del Mercado\n\n\n\nFecha de celebración Los dias 21 y 22 de diciembre  del  2024 \n\n\n\nDonde se realizaEn la localidad de Aldaia  que pertenece a la provincia de VALENCIA /  Aldaya​ (oficialmente en valenciano: Aldaia) es un municipio de la Comunidad Valenciana\, España. Está situado en la zona oeste del área metropolitana de Valencia\, en la provincia de Valencia. Contaba con 32 204 habitantes en 2020 (INE). \n\n\n\nUbicación del EventoEstará ubicado en el Barrio del Cristo \n\n\n\nDescripción del evento\n\n\n\nFECHA: 21 y 22 de diciembre del 2024 \n\n\n\nUBICACIÓN: en el Barrio del Cristo \n\n\n\nLOCALIDAD Y PROVINCIA : Aldaia \, Valencia \n\n\n\nMONTAJE: Sábado día 21 a las 8 de la mañana \n\n\n\nINAUGURACIÓN: Sábado día 21 a las 11 de la mañana \n\n\n\nACTIVIDADES PREVISTAS : \n\n\n\n\n Granja de animales\,\n\n\n\n la actuación del Bufón verse mua\, \n\n\n\nTalleres participativos Sábado y Domingo a las 13h\n\n\n\ny el Sábado 21 espectáculo de fuego a las 20h\n\n\n\n\nInformación del Organizador\n\n\n\nEl Palleter Medieval es la empresa encargada de la organización y gestión de paradas/puestos de venta.Encargada de la organización y gestión de paradas/puestos de venta\, además de la decoración romana así como también de  la ambientación. \n\n\n\nComo participar \n\n\n\nPara más Información e Inscripciones: \n\n\n\nTeléfono : 653 555 365    e-mail: elpalletermedieval@gmail.com \n\n\n\nMás fechas  Puedes conocer mas ferias y mercados en está provincia\, consultando nuestra sección de Eventos en Valencia \n\n\n\nOtros eventos del organizadorConsulta Aquí otras ferias y mercados que organizará la empresa El Palleter Medieval \n\n\n\nCalendario 2024\n\n\n\nSobre los Mercados Medievales\n\n\n\nLas ferias medievales son eventos que recrean la atmósfera de la Edad Media. Por lo general\, se llevan a cabo en pueblos o ciudades\, y presentan puestos de vendedores que venden artesanías\, alimentos y bebidas. También puede haber entretenimiento\, como justas\, música y baile. \n\n\n\n\n\n\n\nDetalles del organizador\n\n\n\n\n\nLocalización\n\n\n\nAldaya​ (oficialmente en valenciano: Aldaia) es un municipio de la Comunidad Valenciana\, España. Está situado en la zona oeste del área metropolitana de Valencia\, en la provincia de Valencia. Contaba con 32 204 habitantes en 2020 (INE). \n\n\n\nBarrio del Cristo (barriada compartida con el municipio vecino de Cuart de Poblet).
URL:https://demercadosmedievales.info/mercadomedieval/mercado-medieval-barrio-de-cristo-de-aldaia-2024-valencia-2/
LOCATION:Barrio del Cristo – Aldaia/Quart de Poblet (Valencia) (***)\, Barrio del Cristo\, Aldaia\, Valencia\, 46960\, España
CATEGORIES:Cartel,Mercado Medieval,Valencia
ATTACH;FMTTYPE=image/jpeg:https://demercadosmedievales.info/wp-content/uploads/2024/09/navidad_aldaia_2024_F.jpg
ORGANIZER;CN="El Palleter medieval":MAILTO:elpalletermedieval@gmail.com
GEO:39.4756813;-0.4607269
X-APPLE-STRUCTURED-LOCATION;VALUE=URI;X-ADDRESS=Barrio del Cristo – Aldaia/Quart de Poblet (Valencia) (***) Barrio del Cristo Aldaia Valencia 46960 España;X-APPLE-RADIUS=500;X-TITLE=Barrio del Cristo:geo:-0.4607269,39.4756813
END:VEVENT
BEGIN:VEVENT
DTSTART;VALUE=DATE:20231202
DTEND;VALUE=DATE:20231204
DTSTAMP:20260419T192135
CREATED:20231001T051810Z
LAST-MODIFIED:20231001T051812Z
UID:10000143-1701475200-1701647999@demercadosmedievales.info
SUMMARY:Mercado Medieval en el Barrio del Cristo de Aldaia ( Valencia ) 2023
DESCRIPTION:Abiertas las inscripciones para participar en el Mercado Medieval\, que entre sus actividades previstas para el público visitante contará con : Granja de animales\, talleres artesanos\, Juegos infantiles\, feria de atracciones y más. \nMercado Medieval\nFECHAS : 02 y 03 de Diciembre 2023\nLOCALIDAD Y PROVINCIA : ALDAIA\, VALENCIA\nMOTIVO : mercado tradicional en el mes de Diciembre \nSi quieres participar como artesano / vendedor en este mercado/feria debes ponerte en contacto con el organizador del mismo\nDATOS DEL ORGANIZADOR : EL PALLETER MEDIEVAL\nTeléfono : 653 555 365 \ne-mail: elpalletermedieval@gmail.com \n  \n  \nCartel :\n \n  \n  \n  \nmercadosmedievales.net – Mercado Medieval en el Barrio del Cristo de Aldaia ( Valencia ) 2023\nBarrio del Cristo\, Aldaia\, Valencia\, Comunidad Valenciana \n  \nMercado Medieval en el Barrio del Cristo de Aldaia ( Valencia ) 2023\nAbiertas las inscripciones para participar en el Mercado Medieval\, que entre sus actividades previstas para el público visitante contará con : Granja de animales\, talleres artesanos\, Juegos infantiles\, feria de atracciones y más.
URL:https://demercadosmedievales.info/mercadomedieval/mercado-medieval-en-el-barrio-del-cristo-de-aldaia-valencia-2023/
LOCATION:Barrio del Cristo – Aldaia/Quart de Poblet (Valencia) (***)\, Barrio del Cristo\, Aldaia\, Valencia\, 46960\, España
CATEGORIES:Aldaia,El Palleter medieval,Mercado Medieval
ATTACH;FMTTYPE=image/jpeg:https://demercadosmedievales.info/wp-content/uploads/2023/10/Aldaia_barrio_cristo_2024_facebook.jpg
ORGANIZER;CN="El Palleter medieval":MAILTO:elpalletermedieval@gmail.com
GEO:39.4756813;-0.4607269
X-APPLE-STRUCTURED-LOCATION;VALUE=URI;X-ADDRESS=Barrio del Cristo – Aldaia/Quart de Poblet (Valencia) (***) Barrio del Cristo Aldaia Valencia 46960 España;X-APPLE-RADIUS=500;X-TITLE=Barrio del Cristo:geo:-0.4607269,39.4756813
END:VEVENT
END:VCALENDAR