BEGIN:VCALENDAR
VERSION:2.0
PRODID:-//Mercados Medievales - ECPv6.15.20//NONSGML v1.0//EN
CALSCALE:GREGORIAN
METHOD:PUBLISH
X-WR-CALNAME:Mercados Medievales
X-ORIGINAL-URL:https://demercadosmedievales.info
X-WR-CALDESC:Eventos para Mercados Medievales
REFRESH-INTERVAL;VALUE=DURATION:PT1H
X-Robots-Tag:noindex
X-PUBLISHED-TTL:PT1H
BEGIN:VTIMEZONE
TZID:Europe/Madrid
BEGIN:DAYLIGHT
TZOFFSETFROM:+0100
TZOFFSETTO:+0200
TZNAME:CEST
DTSTART:20230326T010000
END:DAYLIGHT
BEGIN:STANDARD
TZOFFSETFROM:+0200
TZOFFSETTO:+0100
TZNAME:CET
DTSTART:20231029T010000
END:STANDARD
BEGIN:DAYLIGHT
TZOFFSETFROM:+0100
TZOFFSETTO:+0200
TZNAME:CEST
DTSTART:20240331T010000
END:DAYLIGHT
BEGIN:STANDARD
TZOFFSETFROM:+0200
TZOFFSETTO:+0100
TZNAME:CET
DTSTART:20241027T010000
END:STANDARD
BEGIN:DAYLIGHT
TZOFFSETFROM:+0100
TZOFFSETTO:+0200
TZNAME:CEST
DTSTART:20250330T010000
END:DAYLIGHT
BEGIN:STANDARD
TZOFFSETFROM:+0200
TZOFFSETTO:+0100
TZNAME:CET
DTSTART:20251026T010000
END:STANDARD
END:VTIMEZONE
BEGIN:VEVENT
DTSTART;VALUE=DATE:20240510
DTEND;VALUE=DATE:20240513
DTSTAMP:20260420T063010
CREATED:20240312T063640Z
LAST-MODIFIED:20240312T064052Z
UID:10001023-1715299200-1715558399@demercadosmedievales.info
SUMMARY:Mercado Bandolero de Badolatosa (SEVILLA) 2024
DESCRIPTION:El mercado Bandolero de Badolatosa presenta su VII edición donde se revivirá con ilusión nuevamente el pasado Bandolero de la localidad. \n \n\n\n\n\n\n\n\n\n✨Nombre del Evento*\n\n\n\n\nMercado Bandolero de Badolatosa\n\n\n\n\n\n\n\n\n\n\n\n\n\nDetalles del Mercado o Feria\n\n\n\n\n\n\n\n\n📅 Cual es la fecha de celebración ?\n\n\n\n\nDel 10 al 12 de Mayo 2024\n\n\n\n\n\n\n\n\n🗓 Hasta que fecha se pueden inscribir los artesanos y mercaderes ?\n\n\n\n\nHasta completar las plazas\n\n\n\n\n\n\n\n\n🏡 Donde se va a celebrar ? Localidad y provincia\n\n\n\n\nBADOLATOSA en la provincia de SEVILLA\n\n\n\n\n\n\n\n\n📍 Cual será la ubicación dentro de la localidad (calle\, Plaza\, vía\, etc.)\n\n\n\n\nAvenida Cuba\n\n\n\n\n\n\n\n\n💬 Descripción del Evento : (Indica la temática\, características\, etc.)\n\n\n\n\nEl mercado Bandolero de Badolatosa presenta su VII edición donde se revivirá con ilusión nuevamente el pasado Bandolero de la localidad. Junto al mercado se presentan una serie de actividades relacionadas con la temática.\n\nBadolatosa revive durante esos días su pasado bandolero con una gran variedad de actividades que van desde animaciones callejeras\, tren turístico y exhibición de cetrería\, entre otras\, hasta la promoción de su rica gastronomía.\n\n\n\n\n\n\n\n\n\n🗓 Dia y hora de Montaje :\n\n\n\n\n10 de Mayo del 2024\n\n\n\n\n\n\n\n\n⏰ Fecha y hora de Inauguración\n\n\n\n\n10 de Mayo durante la mañana\n\n\n\n\n\n\n\n\n📋 Servicios que proporcionara el organizador a los artesanos y mercaderes participantes \n\n\n\n\n\n\n\n\nSeguridad\n\n\n\n\n\n\n\n\nAgua\n\n\n\n\n\n\n\n\nElectricidad\n\n\n\n\n\n\n\n\n\nOtro: Animación de calle\n\n\n\n\n\n\n\n\n\n\n\n\n\n\n\n\n\n\nInformación sobre el organizador del Mercado Bandolero: \n⚜ Quien organiza la Feria y/o Mercado ?\n\n\n\n\n\n\nMALIK MERCADOS TEMATICOS\n\n\n\n\n\n\n\n\n📞Teléfono de contacto :\n\n\n\n\n657665994 / 676928928\n\n\n\n\n\n\n\n\n💌 Email de contacto : *\n\n\n\n\nasociacionmalik@hotmail.com\n\n\n\n\n\n\nCuales son los Requisitos de participación ?\n\n\n\n\n\n\nConsúltanos escribiendo al correo electrónico o mediante llamada\n\n\n\n\n\n\n\n\n🏷Precio del metro lineal\, parada de madera\, carpa ?\n\n\n\n\nConsúltanos escribiendo al correo electrónico o mediante llamada\n\n\n\n\n\n\n\n\nMercado Bandolero\n\n\n\n\n Acerca de Badolatosa\, localidad donde se celebra el Mercado Bandolero\nBadolatosa es un municipio español de la provincia de Sevilla. \nEl municipio de Badolatosa se extiende por la parte más oriental de la provincia de Sevilla. Dista de la capital a 130 kilometros. Se encuentra a 235 metros de altitud\, a orillas del río Genil\, en terreno con pendientes de cierta consideración se inclinan hacia dicho río. \nEn sus proximidades se encuentra el embalse de Malpasillo\, de donde se suministra agua para el abastecimiento del pueblo\, aunque en condiciones precarias por razones de regulación del embalse de cabecera (Iznajar). \nLa localidad de Badolatosa pertenece a la comarca de la Campiña y está situada al este de la provincia\, en el lí­mite con las de Málaga y Córdoba. \nSu paisaje\, en pleno Valle del Genil\, está formado por terrenos de suaves ondulaciones dedicados al cultivo de cereal y extensos olivares. \nEn su término están integrados los embalses de Malpasillo y Cordobilla\, catalogados como parajes naturales por su interés ecológico y paisajístico. \nCuenta con monumentos interesantes\, como la Iglesia de Nuestra Señora del Socorro y la Ermita de la Fuensanta en la aldea de Corcoya\, lugar donde fue entregado el indulto concedido a José Marí­a «el Tempranillo» por el Rey Fernando VII en 1932. \nEl municipio forma parte de la llamada Ruta Tierras de José María el Tempranillo\, junto con las vecinas localidades de Casariche\, Corcoya\, Jauja\, Alameda y Benamejí. \n\nCalendario de Mercado Medieval y Ferias 2024 :\n\n\nEnero\nFebrero\nMarzo\nAbril\nMayo\nJunio\nJulio\nAgosto\nSeptiembre\nOctubre\nNoviembre\nDiciembre\n\n Las Ferias y mercados medievales\n\n\nLas ferias medievales son eventos que recrean la atmósfera de la Edad Media. Por lo general\, se llevan a cabo en pueblos o ciudades\, y presentan puestos de vendedores que venden artesanías\, alimentos y bebidas. También puede haber entretenimiento\, como justas\, música y baile. . \nLos Mercados  Medievales son una forma popular de aprender sobre la historia de la Edad Media y experimentar la cultura de la época. También son una actividad divertida para toda la familia. \nMercado Bandolero\, mercado medieval\, convocatoria\,plazo\,inscripcion\,badolatosa\, sevilla\,2024\,
URL:https://demercadosmedievales.info/mercadomedieval/mercado-bandolero-de-badolatosa-sevilla-2024/
LOCATION:Badolatosa (Sevilla) (***)\, Badolatosa\, Sevilla\, 41570\, Spain
CATEGORIES:Malik mercados tematicos,Mercado bandolero,Sevilla
ATTACH;FMTTYPE=image/jpeg:https://demercadosmedievales.info/wp-content/uploads/2024/03/bandolero_badolatosa_f-552-x-276-px.jpg
ORGANIZER;CN="Malik Culture Eventos":MAILTO:asociacionmalim@hotmail.com
GEO:37.3048161;-4.6748274
END:VEVENT
BEGIN:VEVENT
DTSTART;VALUE=DATE:20240510
DTEND;VALUE=DATE:20240513
DTSTAMP:20260420T063010
CREATED:20240312T063901Z
LAST-MODIFIED:20240312T064007Z
UID:10001027-1715299200-1715558399@demercadosmedievales.info
SUMMARY:Badolatosa\, Mercado Bandolero (SEVILLA) 2024
DESCRIPTION:El mercado Bandolero de Badolatosa presenta su VII edición donde se revivirá con ilusión nuevamente el pasado Bandolero de la localidad. \n \n\n\n\n\n\n\n\n\n✨Nombre del Evento*\n\n\n\n\nMercado Bandolero de Badolatosa\n\n\n\n\n\n\n\n\n\n\n\n\n\nDetalles del Mercado o Feria\n\n\n\n\n\n\n\n\n📅 Cual es la fecha de celebración ?\n\n\n\n\nDel 10 al 12 de Mayo 2024\n\n\n\n\n\n\n\n\n🗓 Hasta que fecha se pueden inscribir los artesanos y mercaderes ?\n\n\n\n\nHasta completar las plazas\n\n\n\n\n\n\n\n\n🏡 Donde se va a celebrar ? Localidad y provincia\n\n\n\n\nBADOLATOSA en la provincia de SEVILLA\n\n\n\n\n\n\n\n\n📍 Cual será la ubicación dentro de la localidad (calle\, Plaza\, vía\, etc.)\n\n\n\n\nAvenida Cuba\n\n\n\n\n\n\n\n\n💬 Descripción del Evento : (Indica la temática\, características\, etc.)\n\n\n\n\nEl mercado Bandolero de Badolatosa presenta su VII edición donde se revivirá con ilusión nuevamente el pasado Bandolero de la localidad. Junto al mercado se presentan una serie de actividades relacionadas con la temática.\n\nBadolatosa revive durante esos días su pasado bandolero con una gran variedad de actividades que van desde animaciones callejeras\, tren turístico y exhibición de cetrería\, entre otras\, hasta la promoción de su rica gastronomía.\n\n\n\n\n\n\n\n\n\n🗓 Dia y hora de Montaje :\n\n\n\n\n10 de Mayo del 2024\n\n\n\n\n\n\n\n\n⏰ Fecha y hora de Inauguración\n\n\n\n\n10 de Mayo durante la mañana\n\n\n\n\n\n\n\n\n📋 Servicios que proporcionara el organizador a los artesanos y mercaderes participantes \n\n\n\n\n\n\n\n\nSeguridad\n\n\n\n\n\n\n\n\nAgua\n\n\n\n\n\n\n\n\nElectricidad\n\n\n\n\n\n\n\n\n\nOtro: Animación de calle\n\n\n\n\n\n\n\n\n\n\n\n\n\n\n\n\n\n\nInformación sobre el organizador del Mercado Bandolero: \n⚜ Quien organiza la Feria y/o Mercado ?\n\n\n\n\n\n\nMALIK MERCADOS TEMATICOS\n\n\n\n\n\n\n\n\n📞Teléfono de contacto :\n\n\n\n\n657665994 / 676928928\n\n\n\n\n\n\n\n\n💌 Email de contacto : *\n\n\n\n\nasociacionmalik@hotmail.com\n\n\n\n\n\n\nCuales son los Requisitos de participación ?\n\n\n\n\n\n\nConsúltanos escribiendo al correo electrónico o mediante llamada\n\n\n\n\n\n\n\n\n🏷Precio del metro lineal\, parada de madera\, carpa ?\n\n\n\n\nConsúltanos escribiendo al correo electrónico o mediante llamada\n\n\n\n\n\n\n\n\nMercado Bandolero\n\n\n\n\n Acerca de Badolatosa\, localidad donde se celebra el Mercado Bandolero\nBadolatosa es un municipio español de la provincia de Sevilla. \nEl municipio de Badolatosa se extiende por la parte más oriental de la provincia de Sevilla. Dista de la capital a 130 kilómetros. Se encuentra a 235 metros de altitud\, a orillas del río Genil\, en terreno con pendientes de cierta consideración se inclinan hacia dicho río. \nEn sus proximidades se encuentra el embalse de Malpasillo\, de donde se suministra agua para el abastecimiento del pueblo\, aunque en condiciones precarias por razones de regulación del embalse de cabecera (Iznajar). \nLa localidad de Badolatosa pertenece a la comarca de la Campiña y está situada al este de la provincia\, en el lí­mite con las de Málaga y Córdoba. \nSu paisaje\, en pleno Valle del Genil\, está formado por terrenos de suaves ondulaciones dedicados al cultivo de cereal y extensos olivares. \nEn su término están integrados los embalses de Malpasillo y Cordobilla\, catalogados como parajes naturales por su interés ecológico y paisajístico. \nCuenta con monumentos interesantes\, como la Iglesia de Nuestra Señora del Socorro y la Ermita de la Fuensanta en la aldea de Corcoya\, lugar donde fue entregado el indulto concedido a José Marí­a «el Tempranillo» por el Rey Fernando VII en 1932. \nEl municipio forma parte de la llamada Ruta Tierras de José María el Tempranillo\, junto con las vecinas localidades de Casariche\, Corcoya\, Jauja\, Alameda y Benamejí. \n\nCalendario de Mercado Medieval y Ferias 2024 :\n\n\nEnero\nFebrero\nMarzo\nAbril\nMayo\nJunio\nJulio\nAgosto\nSeptiembre\nOctubre\nNoviembre\nDiciembre\n\n Las Ferias y mercados medievales\n\n\nLas ferias medievales son eventos que recrean la atmósfera de la Edad Media. Por lo general\, se llevan a cabo en pueblos o ciudades\, y presentan puestos de vendedores que venden artesanías\, alimentos y bebidas. También puede haber entretenimiento\, como justas\, música y baile. . \nLos Mercados  Medievales son una forma popular de aprender sobre la historia de la Edad Media y experimentar la cultura de la época. También son una actividad divertida para toda la familia. \nMercado Bandolero\, mercado medieval\, convocatoria\,plazo\,inscripcion\,badolatosa\, sevilla\,2024\,
URL:https://demercadosmedievales.info/mercadomedieval/badolatosa-mercado-bandolero-sevilla-2024/
LOCATION:Badolatosa (Sevilla) (***)\, Badolatosa\, Sevilla\, 41570\, Spain
CATEGORIES:Malik mercados tematicos,Mercado bandolero,Sevilla
ATTACH;FMTTYPE=image/jpeg:https://demercadosmedievales.info/wp-content/uploads/2024/03/bandolero_badolatosa_f-552-x-276-px.jpg
ORGANIZER;CN="Malik Culture Eventos":MAILTO:asociacionmalim@hotmail.com
GEO:37.3048161;-4.6748274
END:VEVENT
END:VCALENDAR