BEGIN:VCALENDAR
VERSION:2.0
PRODID:-//Mercados Medievales - ECPv6.15.20//NONSGML v1.0//EN
CALSCALE:GREGORIAN
METHOD:PUBLISH
X-WR-CALNAME:Mercados Medievales
X-ORIGINAL-URL:https://demercadosmedievales.info
X-WR-CALDESC:Eventos para Mercados Medievales
REFRESH-INTERVAL;VALUE=DURATION:PT1H
X-Robots-Tag:noindex
X-PUBLISHED-TTL:PT1H
BEGIN:VTIMEZONE
TZID:Europe/Madrid
BEGIN:DAYLIGHT
TZOFFSETFROM:+0100
TZOFFSETTO:+0200
TZNAME:CEST
DTSTART:20240331T010000
END:DAYLIGHT
BEGIN:STANDARD
TZOFFSETFROM:+0200
TZOFFSETTO:+0100
TZNAME:CET
DTSTART:20241027T010000
END:STANDARD
BEGIN:DAYLIGHT
TZOFFSETFROM:+0100
TZOFFSETTO:+0200
TZNAME:CEST
DTSTART:20250330T010000
END:DAYLIGHT
BEGIN:STANDARD
TZOFFSETFROM:+0200
TZOFFSETTO:+0100
TZNAME:CET
DTSTART:20251026T010000
END:STANDARD
BEGIN:DAYLIGHT
TZOFFSETFROM:+0100
TZOFFSETTO:+0200
TZNAME:CEST
DTSTART:20260329T010000
END:DAYLIGHT
BEGIN:STANDARD
TZOFFSETFROM:+0200
TZOFFSETTO:+0100
TZNAME:CET
DTSTART:20261025T010000
END:STANDARD
END:VTIMEZONE
BEGIN:VEVENT
DTSTART;TZID=Europe/Madrid:20250104T100000
DTEND;TZID=Europe/Madrid:20250104T180000
DTSTAMP:20260422T005528
CREATED:20241217T181327Z
LAST-MODIFIED:20241217T182118Z
UID:10002019-1735984800-1736013600@demercadosmedievales.info
SUMMARY:🎪 MERCAT DE REIXOS EN CATARROJA (VALENCIA) 2025
DESCRIPTION:El próximo 4 de enero de 2025\, Catarroja (VALENCIA) acogerá el Mercat de Reixos\, un evento especial para celebrar la víspera de la llegada de los Reyes Magos.  \n\n\n \n\n\n\n\n\n\n\nConvocatoria Abierta para Artesanos y Mercaderes🎪 MERCAT DE REIXOS EN CATARROJA (VALENCIA)\n\n\n\nEl próximo 4 de enero de 2025\, Catarroja (VALENCIA) acogerá el Mercat de Reixos\, un evento especial para celebrar la víspera de la llegada de los Reyes Magos. Esta feria temática contará con un ambiente festivo y navideño\, ideal para la venta de productos artesanales y tradicionales\, con la participación de mercaderes\, artesanos y artistas. \n\n\n\n\n\n\n\n\n\n\n\nDetalles del Evento\n\n\n\n📅 Fecha: Sábado\, 4 de enero de 2025📍 Ubicación: Centro de Catarroja\, VALENCIA🛠️ Participación: Se buscan artesanos\, mercaderes y comerciantes con productos únicos\, de calidad y temáticos.🎉 Ambiente: \n\n\n\n\nDecoración temática navideña\n\n\n\nActividades de entretenimiento familiar\n\n\n\nMúsica\, animación y espectáculos\n\n\n\n\nEl evento cuenta con todos los permisos y el apoyo del Ayuntamiento de Catarroja\, garantizando una organización profesional y una alta afluencia de público\, perfecto para visibilizar y vender productos artesanales. \n\n\n\n\n\n\n\nRequisitos para Participar\n\n\n\n\nPuestos de artesanía\, productos navideños\, alimentos tradicionales o artículos temáticos.\n\n\n\nMercaderes con material único y de calidad.\n\n\n\n\n\n\n\n\nContacto para Inscripciones\n\n\n\n📞 Teléfono: 698 960 426📱 Instagram: @mismiisi_tarotymacrame \n\n\n\n ¡Te esperan en Catarroja para vivir juntos la magia del Mercat de Reixos! ✨ \n\n\n\nAcerca de Catarroja\n\n\n\nCatarroja es un encantador municipio ubicado en la provincia de Valencia\, España. Forma parte de la comarca de la Huerta Sur y se encuentra a tan solo unos kilómetros de la ciudad de Valencia. \n\n\n\n\n\n\n\n  \n\n\n\n\nMERCADOS MEDIEVALES Y TEMATICOS \n\n\n\nInformación de los próximos mercados medievales\, temáticos\, de artesanía a nivel nacional además de ofrecer información sobre servicios de alquiler de casetas\, venta de paradas\, cooperativas\, decoración y más.  \n\n\n\nwww.mercados medievales.net \n\n\n\n\nMercatDeReixos\, Catarroja2025\, MercadoNavideño\, Artesanía\, FeriasTemáticas\, ReyesMagos\, ValenciaEventos\, MercadoDeArtesanos\, Navidad2025\, ApoyoLocal\, ArtesanosYMercaderes. MercadosNavideños\, FeriaTradicional\, EventoNavideño\, CulturaYTradición\, ComunidadValenciana\, AyuntamientoDeCatarroja\, OportunidadDeVenta\, Reixos2025 \n\n\n\n\n\n\n\n\n\nLugar :\n\n\n\nCatarroja es un municipio y localidad española de la provincia de Valencia\, en la Comunidad Valenciana. El término municipal\, ubicado en la comarca de la Huerta Sur\, tiene una población de 30 142 habitantes. Está situado a unos 8 kilómetros​de la ciudad de Valencia.
URL:https://demercadosmedievales.info/mercadomedieval/%f0%9f%8e%aa-mercat-de-reixos-en-catarroja-valencia-2025/
LOCATION:Catarroja (Valencia) (***)\, Catarroja\, Valencia\, 46470\, España
CATEGORIES:Mercados de navidad,Valencia
ATTACH;FMTTYPE=image/jpeg:https://demercadosmedievales.info/wp-content/uploads/2024/12/reyes_catarroja_2025-F.jpg
GEO:39.4038783;-0.4034584
END:VEVENT
END:VCALENDAR