BEGIN:VCALENDAR
VERSION:2.0
PRODID:-//Mercados Medievales - ECPv6.15.20//NONSGML v1.0//EN
CALSCALE:GREGORIAN
METHOD:PUBLISH
X-WR-CALNAME:Mercados Medievales
X-ORIGINAL-URL:https://demercadosmedievales.info
X-WR-CALDESC:Eventos para Mercados Medievales
REFRESH-INTERVAL;VALUE=DURATION:PT1H
X-Robots-Tag:noindex
X-PUBLISHED-TTL:PT1H
BEGIN:VTIMEZONE
TZID:Europe/Madrid
BEGIN:DAYLIGHT
TZOFFSETFROM:+0100
TZOFFSETTO:+0200
TZNAME:CEST
DTSTART:20230326T010000
END:DAYLIGHT
BEGIN:STANDARD
TZOFFSETFROM:+0200
TZOFFSETTO:+0100
TZNAME:CET
DTSTART:20231029T010000
END:STANDARD
BEGIN:DAYLIGHT
TZOFFSETFROM:+0100
TZOFFSETTO:+0200
TZNAME:CEST
DTSTART:20240331T010000
END:DAYLIGHT
BEGIN:STANDARD
TZOFFSETFROM:+0200
TZOFFSETTO:+0100
TZNAME:CET
DTSTART:20241027T010000
END:STANDARD
BEGIN:DAYLIGHT
TZOFFSETFROM:+0100
TZOFFSETTO:+0200
TZNAME:CEST
DTSTART:20250330T010000
END:DAYLIGHT
BEGIN:STANDARD
TZOFFSETFROM:+0200
TZOFFSETTO:+0100
TZNAME:CET
DTSTART:20251026T010000
END:STANDARD
END:VTIMEZONE
BEGIN:VEVENT
DTSTART;VALUE=DATE:20240601
DTEND;VALUE=DATE:20240603
DTSTAMP:20260420T131446
CREATED:20240526T074404Z
LAST-MODIFIED:20240526T102207Z
UID:10001333-1717200000-1717372799@demercadosmedievales.info
SUMMARY:Mercado Medieval de Sendaviva de Arguedas (Navarra) 2024
DESCRIPTION:Mercado Medieval en Sendaviva\, parque de la naturaleza de Navarra en Arguedas (Navarra). Los días  1 y 2 de Junio.\n \nTags:  2024\, Arguedas\, convocatoria\, cuando\, donde\, España\, feria medieval\, inscripciones\, localización\, Mercado Medieval de Sendaviva de Arguedas (Navarra)\, montaje\, organizador\, sendaviva \nMercado Medieval de Sendaviva\nArguedas\, Navarra \n🎫 Cartel \n \n📋 Programación \n** Próximamente dispondremos del cartel y del programa con las actividades previstas. \nInformación básica del Mercado\nFecha de celebración\n Los dias 01 y 02 de junio del  2024 \nDonde se realiza\nEstará ubicado en Sendaviva en la localidad de Arguedas  que pertenece a la Comunidad Foral de NAVARRA \nUbicación del Evento\nEstará ubicado en el parque temático Sendaviva de Arguedas \nInformación del Organizador\nLa empresa organizadora es MICHEL\nInformación e Inscripciones:  \nphartesanos@gmail.com \nMás fechas de Navarra\nPuedes conocer mas ferias y mercados en está provincia\, consultando nuestra sección de Eventos en Navarra \nOtros eventos de  \nConsulta Aquí otras ferias y mercados que organizará la empresa Michel (Professional history) \nOtros mercados temáticos y Ferias\nSi quieres conocer cuando se realizan más ferias y mercados\, puedes consultarlos visitando nuestro  👀 Calendario de Eventos \nAcerca de Sendaviva\nSendaviva situado en la localidad de Arguedas (Navarra)\, a 80 km de Pamplona\, a 103 km de Zaragoza y a 174 km de San Sebastián. Linda con el Parque Natural de las Bardenas Reales\, declaradas Reserva de la Biosfera por la UNESCO. Es el mayor Parque Temático de España\, con 120 hectáreas de extensión. Cuenta con 30 atracciones\, además de poder disfrutar de las distintas aventuras por el mundo animal (de los 5 continentes).\nLos niños se divertirán con los «planes molones». Y a lo largo del día te encontrarás con distintos shows. \nAcerca de Arguedas\nArguedas es un municipio español con categoría histórica de villa perteneciente a la Comunidad Foral de Navarra\, situado en la merindad de Tudela\, en la Ribera de Navarra a medio camino entre Pamplona y Zaragoza. \nCalendario 2024\nSobre los Mercados Medievales\nLas ferias medievales son eventos que recrean la atmósfera de la Edad Media. Por lo general\, se llevan a cabo en pueblos o ciudades\, y presentan puestos de vendedores que venden artesanías\, alimentos y bebidas. También puede haber entretenimiento\, como justas\, música y baile.
URL:https://demercadosmedievales.info/mercadomedieval/mercado-medieval-de-sendaviva-de-arguedas-navarra-2024/
LOCATION:Sendaviva (Arguedas\, Navarra) (***)\, Arguedas\, Navarra\, 31513
CATEGORIES:Cartel,Comunidad Foral de Navarra,Mercado Medieval
ATTACH;FMTTYPE=image/jpeg:https://demercadosmedievales.info/wp-content/uploads/2024/05/medieval_arguedas_f.jpg
ORGANIZER;CN="Michel - Recreaciones hist%C3%B3ricas eventos y espect%C3%A1culos":MAILTO:phartesanos@gmail.com
GEO:42.1883773;-1.5796342
END:VEVENT
END:VCALENDAR