BEGIN:VCALENDAR
VERSION:2.0
PRODID:-//Mercados Medievales - ECPv6.15.20//NONSGML v1.0//EN
CALSCALE:GREGORIAN
METHOD:PUBLISH
X-ORIGINAL-URL:https://demercadosmedievales.info
X-WR-CALDESC:Eventos para Mercados Medievales
REFRESH-INTERVAL;VALUE=DURATION:PT1H
X-Robots-Tag:noindex
X-PUBLISHED-TTL:PT1H
BEGIN:VTIMEZONE
TZID:Europe/Madrid
BEGIN:DAYLIGHT
TZOFFSETFROM:+0100
TZOFFSETTO:+0200
TZNAME:CEST
DTSTART:20230326T010000
END:DAYLIGHT
BEGIN:STANDARD
TZOFFSETFROM:+0200
TZOFFSETTO:+0100
TZNAME:CET
DTSTART:20231029T010000
END:STANDARD
BEGIN:DAYLIGHT
TZOFFSETFROM:+0100
TZOFFSETTO:+0200
TZNAME:CEST
DTSTART:20240331T010000
END:DAYLIGHT
BEGIN:STANDARD
TZOFFSETFROM:+0200
TZOFFSETTO:+0100
TZNAME:CET
DTSTART:20241027T010000
END:STANDARD
BEGIN:DAYLIGHT
TZOFFSETFROM:+0100
TZOFFSETTO:+0200
TZNAME:CEST
DTSTART:20250330T010000
END:DAYLIGHT
BEGIN:STANDARD
TZOFFSETFROM:+0200
TZOFFSETTO:+0100
TZNAME:CET
DTSTART:20251026T010000
END:STANDARD
END:VTIMEZONE
BEGIN:VEVENT
DTSTART;TZID=Europe/Madrid:20241205T000000
DTEND;TZID=Europe/Madrid:20241208T235959
DTSTAMP:20260420T123454
CREATED:20241020T111942Z
LAST-MODIFIED:20241020T113634Z
UID:10001849-1733356800-1733702399@demercadosmedievales.info
SUMMARY:Mercado Navideño de Palma del Rio 2024 (Cordoba)
DESCRIPTION:Artesanía\, Gastronomía\, Pasacalles\, Pintacaras\, Atracciones\, Espectáculos y mucho más en el Mercado Navideño de Palma del Río.  \n\n\n\n\n\n\n\n\nMercado navideño\n \n \nProgramación – Próximamente\n** Próximamente dispondremos del cartel y del programa con las actividades previstas. \nInformación básica del Mercado\nLa fecha de celebración será 5 al 8 de diciembre del del  2024 \nHasta que fecha se pueden inscribir los artesanos y mercaderes ?Hasta completar plazasEl lugar de celebración será Palma del Río CORDOBA  / Palma del Río es un municipio español situado en la provincia de Córdoba\, comunidad autónoma de Andalucía. En el año 2023 contaba con una población de 20.688 habitantes. Estará ubicado enPlaza de Andalucía en el Centro ciudad (ayuntamiento) \nDescripción interesante del EventoMercado navideño\, Artesanía\, Gastronomía\, Pasacalles\, Pintacaras\, Atracciones\, Espectáculos y mucho más… Cuando será el Montaje5 de diciembre a partir de las 9:30Será inaugurado el día5 de diciembre a las 17:30hServicios que proporcionara el organizador a los artesanos y mercaderes participantes SeguridadAguaElectricidad \n \nInformación del Organizador\nEventos temáticos rayo Información e Inscripciones621307012WhatsApp 621307012Email de contacto : eventostematicosrayo@gmail.comRequisitos de participación ?Decoración y vestimenta navideña Precio del metro lineal\, caseta de madera\, o de la carpa ?A consultar \nMás fechas  Puedes conocer mas ferias y mercados en está provincia\, consultando nuestra sección de Eventos en Córdoba \nOtros eventos del organizadorConsulta Aquí otras ferias y mercados que organizará la empresa Eventos temáticos rayo \notros mercados temáticos y FeriasSi quieres conocer cuando se realizan más ferias y mercados\, puedes consultarlos visitando nuestro   Calendario de Eventos \nCalendario 2024\nSobre los Mercados Medievales\nLas ferias medievales son eventos que recrean la atmósfera de la Edad Media. Por lo general\, se llevan a cabo en pueblos o ciudades\, y presentan puestos de vendedores que venden artesanías\, alimentos y bebidas. También puede haber entretenimiento\, como justas\, música y baile. \n\n\n\n\n\n\n\nOrganizador\n\n\n\n\n\nLocalización\n\n\n\nPalma del Río es un municipio español situado en la provincia de Córdoba\, comunidad autónoma de Andalucía. En el año 2023 contaba con una población de 20.688 habitantes. 
URL:https://demercadosmedievales.info/mercadomedieval/mercado-navideno-de-palma-del-rio-2024-cordoba/
LOCATION:Palma del Río (Córdoba) (***)\, Palma del Rio\, Córdoba\, España
CATEGORIES:Cordoba,Mercados de navidad
ATTACH;FMTTYPE=image/jpeg:https://demercadosmedievales.info/wp-content/uploads/2024/10/MERCADO-NAVIDENO-RAYO-palma-del-rio-2024-.jpg
ORGANIZER;CN="eventos tematicos rayo":MAILTO:eventostematicosrayo@gmail.com
GEO:37.6982171;-5.2801691
END:VEVENT
END:VCALENDAR