BEGIN:VCALENDAR
VERSION:2.0
PRODID:-//Mercados Medievales - ECPv6.15.20//NONSGML v1.0//EN
CALSCALE:GREGORIAN
METHOD:PUBLISH
X-ORIGINAL-URL:https://demercadosmedievales.info
X-WR-CALDESC:Eventos para Mercados Medievales
REFRESH-INTERVAL;VALUE=DURATION:PT1H
X-Robots-Tag:noindex
X-PUBLISHED-TTL:PT1H
BEGIN:VTIMEZONE
TZID:Europe/Madrid
BEGIN:DAYLIGHT
TZOFFSETFROM:+0100
TZOFFSETTO:+0200
TZNAME:CEST
DTSTART:20230326T010000
END:DAYLIGHT
BEGIN:STANDARD
TZOFFSETFROM:+0200
TZOFFSETTO:+0100
TZNAME:CET
DTSTART:20231029T010000
END:STANDARD
BEGIN:DAYLIGHT
TZOFFSETFROM:+0100
TZOFFSETTO:+0200
TZNAME:CEST
DTSTART:20240331T010000
END:DAYLIGHT
BEGIN:STANDARD
TZOFFSETFROM:+0200
TZOFFSETTO:+0100
TZNAME:CET
DTSTART:20241027T010000
END:STANDARD
BEGIN:DAYLIGHT
TZOFFSETFROM:+0100
TZOFFSETTO:+0200
TZNAME:CEST
DTSTART:20250330T010000
END:DAYLIGHT
BEGIN:STANDARD
TZOFFSETFROM:+0200
TZOFFSETTO:+0100
TZNAME:CET
DTSTART:20251026T010000
END:STANDARD
END:VTIMEZONE
BEGIN:VEVENT
DTSTART;TZID=Europe/Madrid:20240802T000000
DTEND;TZID=Europe/Madrid:20240804T235959
DTSTAMP:20260422T185442
CREATED:20240623T075746Z
LAST-MODIFIED:20240729T094926Z
UID:10001472-1722556800-1722815999@demercadosmedievales.info
SUMMARY:Mercado Almedina Mora 2024 de Almedina (Ciudad Real) - Programación -
DESCRIPTION:Durante un fin de semana de Agosto entero\, el pueblo de Almedina vuelve a sus orígenes árabes. Las calles se iluminan con más de 25.00 velas\, se organizan distintas jornadas\, un mercado medieval\, una zona gastronómica y todo tipo de espectáculos de bufones\, juglares\, músicos\, etc. Los vecinos participan en la organización y toman parte en las actividades de esta festividad\, siendo una de las más conocidas del municipio. \n \nTags:  2024\, Almedina Mora\, Castilla-La Mancha\, convocatoria\, España\, feria medieval \nAlmedina Mora\nCartel\n \nProgramación \n \n \n \nAlmedina Mora es una fiesta que se celebra en la localidad de Almedina\, en la provincia de Ciudad Real\, España. Es una celebración de la herencia árabe de la ciudad y presenta una variedad de actividades\, que incluyen: \n\nEncendido de velas: Más de 25.000 velas se encienden por todo el pueblo\, creando una atmósfera mágica.\nMercado medieval: Existe un mercado medieval donde se puede comprar artesanía\, comida y bebidas tradicionales.\nZona gastronómica: Existe una zona gastronómica donde poder probar la comida tradicional manchega.\nEspectáculos: Espectáculo de Fuego\, Danza del vientre y caballo\, combate a pie.\nRecreaciones: Escuela de Caballeros\, Torneo de Caballeros\, Combate a pie.\n\nEl festival se lleva a cabo durante un fin de semana de agosto. Las fechas exactas varían de un año a otro\, este año será del 02 al 04 de Agosto del 2024 \nInformación básica del Mercado\nFecha de celebración Los dias 02 al 04 de Agosto del  2024 \nDonde se realizaEn la localidad de Almedina que pertenece a la provincia de  CIUDAD REAL \nInformación del Organizador\nLa entidad organizadora es el Ayuntamiento de Almedina \nComo participar\nInformación e Inscripciones:Teléfono : 926 35 66 42Página web del Ayuntamiento : https://almedina.es/ \nMás fechasPuedes conocer mas ferias y mercados en está provincia\, consultando nuestra sección de Eventos en Ciudad Real \nOtros mercados temáticos y FeriasSi quieres conocer cuando se realizan más ferias y mercados\, puedes consultarlos visitando nuestro  Calendario de Eventos \nAcerca de Almedina\nAlmedina es un municipio español situado al sureste de la provincia de Ciudad Real\, en la comunidad autónoma de Castilla-La Mancha y perteneciente a la comarca del Campo de Montiel\, lindando con las estribaciones de Sierra Morena al sur y al este con la provincia de Albacete. \nCalendario 2024\nSobre los Mercados Medievales\nLas Ferias y mercados medievales son eventos populares que recrean el ambiente y la atmósfera de la Edad Media. Estos eventos suelen tener lugar en diferentes partes del mundo y atraen a numerosos visitantes que desean sumergirse en la historia y disfrutar de una experiencia única. Las ferias y mercados medievales suelen tener una gran cantidad de visitantes\, ya que ofrecen una oportunidad única de sumergirse en la historia y disfrutar de una experiencia diferente. También son muy populares entre los amantes de la cultura medieval\, los aficionados a la historia y las familias que buscan una actividad divertida y educativa. Consulta nuestro amplio calendario de eventos \nTags:  Feria Medieval\,Convocatoria\,Almedina Mora\,Castilla La Mancha\,2024\,España
URL:https://demercadosmedievales.info/mercadomedieval/mercado-almedina-mora-2024-de-almedina-ciudad-real/
LOCATION:Almedina (Ciudad Real) (***)\, Almedina\, Ciudad Real\, 13328
CATEGORIES:Cartel,Ciudad Real,Mercado Medieval,Programación
ATTACH;FMTTYPE=image/jpeg:https://demercadosmedievales.info/wp-content/uploads/2024/07/medieval_almedina_f.jpg
GEO:38.6243347;-2.9544372
END:VEVENT
END:VCALENDAR