BEGIN:VCALENDAR
VERSION:2.0
PRODID:-//Mercados Medievales - ECPv6.15.20//NONSGML v1.0//EN
CALSCALE:GREGORIAN
METHOD:PUBLISH
X-WR-CALNAME:Mercados Medievales
X-ORIGINAL-URL:https://demercadosmedievales.info
X-WR-CALDESC:Eventos para Mercados Medievales
REFRESH-INTERVAL;VALUE=DURATION:PT1H
X-Robots-Tag:noindex
X-PUBLISHED-TTL:PT1H
BEGIN:VTIMEZONE
TZID:Europe/Madrid
BEGIN:DAYLIGHT
TZOFFSETFROM:+0100
TZOFFSETTO:+0200
TZNAME:CEST
DTSTART:20230326T010000
END:DAYLIGHT
BEGIN:STANDARD
TZOFFSETFROM:+0200
TZOFFSETTO:+0100
TZNAME:CET
DTSTART:20231029T010000
END:STANDARD
BEGIN:DAYLIGHT
TZOFFSETFROM:+0100
TZOFFSETTO:+0200
TZNAME:CEST
DTSTART:20240331T010000
END:DAYLIGHT
BEGIN:STANDARD
TZOFFSETFROM:+0200
TZOFFSETTO:+0100
TZNAME:CET
DTSTART:20241027T010000
END:STANDARD
BEGIN:DAYLIGHT
TZOFFSETFROM:+0100
TZOFFSETTO:+0200
TZNAME:CEST
DTSTART:20250330T010000
END:DAYLIGHT
BEGIN:STANDARD
TZOFFSETFROM:+0200
TZOFFSETTO:+0100
TZNAME:CET
DTSTART:20251026T010000
END:STANDARD
END:VTIMEZONE
BEGIN:VEVENT
DTSTART;TZID=Europe/Madrid:20241019T000000
DTEND;TZID=Europe/Madrid:20241020T235959
DTSTAMP:20260420T101959
CREATED:20240918T061032Z
LAST-MODIFIED:20241005T190612Z
UID:10001734-1729296000-1729468799@demercadosmedievales.info
SUMMARY:Mercado Medieval de Alberic 2024 (Valencia)
DESCRIPTION:En este Mercado Medieval se desarrollarán diversas actividades de animación teatral y musical\, malabares\, rincón y atracciones infantiles…  \n\n\n\n\n\n\nMercado Medieval\nEl mercado se celebrará los días 19 y 20 de octubre en el centro del municipio de Alberic. La organización estará a cargo de La Fragua de Vulcano\, una empresa con amplia experiencia en la realización de eventos medievales. \nEl mercado se celebrará los días 19 y 20 de octubre en el centro del municipio de Alberic. La organización estará a cargo de La Fragua de Vulcano\, una empresa con amplia experiencia en la realización de eventos medievales. \nCartel \n \nProgramación – Próximamente\n** Próximamente dispondremos del cartel y del programa con las actividades previstas. \nAnimación teatral y musical\, malabares\, zancudos\, circo\, rincón y atracciones infantiles…\nInformación básica del Mercado\nFecha de celebración Los dias 19 y 20 de octubre  del  2024 \nDonde se realizaEn la localidad de Alberic que pertenece a la provincia de VALENCIA    / Alberique​​​ ​ es un municipio y localidad española de la provincia de Valencia\, en la Comunidad Valenciana. Cuenta con una población de 10 519 habitantes. Además\, forman parte del término las urbanizaciones de montaña de San Cristóbal\, Monte Júcar\, El Vedat y El Figueral. \n\n\n\nDescripción del evento \nMERCADO MEDIEVALALBERIC (VALENCIA)19 Y 20 DE OCTUBRE \nUn año más\, y ya es la cuarta ocasión\, La Fragua de Vulcano será la encargada de llevar a cabo este Mercado Temático\, en esta ocasión de temática Medieval\, en el centro del municipio de más de 10.000 habitantes\, a 10 kilómetros de Alzira y a unos 45 kilómetros de Valencia capital.En este Mercado Medieval se desarrollarán diversas actividades de animación teatral y musical\, malabares\, zancudos\, circo\, rincón y atracciones infantiles… \nMontaje: Pendiente de confirmaciónPara más información e inscripciones:contratacion@espectaculosamb.com \n\n\n\nInformación del Organizador\nLa empresa organizadora es LA FRAGUA DE VULCANO \nInformación e Inscripciones:contratacion@espectaculosamb.com \nMás fechasPuedes conocer mas ferias y mercados en está provincia\, consultando nuestra sección de Eventos en Valencia \nOtros eventosConsulta Aquí otras ferias y mercados que organizará la empresa La Fragua de Vulcano \nOtros mercados temáticos y FeriasSi quieres conocer cuando se realizan más ferias y mercados\, puedes consultarlos visitando nuestro  👀 Calendario de Eventos \nCalendario 2024\nSobre los Mercados Medievales\nLas ferias medievales son eventos que recrean la atmósfera de la Edad Media. Por lo general\, se llevan a cabo en pueblos o ciudades\, y presentan puestos de vendedores que venden artesanías\, alimentos y bebidas. También puede haber entretenimiento\, como justas\, música y baile. \n\n\n\n\n\n\n\nDetalles del organizador\n\n\n\n\n\nLocalización\n\n\n\nAlberique​​​ ​ es un municipio y localidad española de la provincia de Valencia\, en la Comunidad Valenciana. Cuenta con una población de 10 519 habitantes. Además\, forman parte del término las urbanizaciones de montaña de San Cristóbal\, Monte Júcar\, El Vedat y El Figueral.
URL:https://demercadosmedievales.info/mercadomedieval/mercado-medieval-de-alberic-2024-valencia/
LOCATION:Alberic (Valencia) (***)\, Alberic\, Valencia\, 46260
CATEGORIES:Cartel,Mercado Medieval,Valencia
ATTACH;FMTTYPE=image/jpeg:https://demercadosmedievales.info/wp-content/uploads/2024/10/medieval-alberic-2024-f.jpg
ORGANIZER;CN="La Fragua de Vulcano":MAILTO:lafragua@espectaculosamb.com
GEO:39.118077;-0.5222379
END:VEVENT
END:VCALENDAR