BEGIN:VCALENDAR
VERSION:2.0
PRODID:-//Mercados Medievales - ECPv6.15.20//NONSGML v1.0//EN
CALSCALE:GREGORIAN
METHOD:PUBLISH
X-WR-CALNAME:Mercados Medievales
X-ORIGINAL-URL:https://demercadosmedievales.info
X-WR-CALDESC:Eventos para Mercados Medievales
REFRESH-INTERVAL;VALUE=DURATION:PT1H
X-Robots-Tag:noindex
X-PUBLISHED-TTL:PT1H
BEGIN:VTIMEZONE
TZID:Europe/Madrid
BEGIN:DAYLIGHT
TZOFFSETFROM:+0100
TZOFFSETTO:+0200
TZNAME:CEST
DTSTART:20230326T010000
END:DAYLIGHT
BEGIN:STANDARD
TZOFFSETFROM:+0200
TZOFFSETTO:+0100
TZNAME:CET
DTSTART:20231029T010000
END:STANDARD
BEGIN:DAYLIGHT
TZOFFSETFROM:+0100
TZOFFSETTO:+0200
TZNAME:CEST
DTSTART:20240331T010000
END:DAYLIGHT
BEGIN:STANDARD
TZOFFSETFROM:+0200
TZOFFSETTO:+0100
TZNAME:CET
DTSTART:20241027T010000
END:STANDARD
BEGIN:DAYLIGHT
TZOFFSETFROM:+0100
TZOFFSETTO:+0200
TZNAME:CEST
DTSTART:20250330T010000
END:DAYLIGHT
BEGIN:STANDARD
TZOFFSETFROM:+0200
TZOFFSETTO:+0100
TZNAME:CET
DTSTART:20251026T010000
END:STANDARD
END:VTIMEZONE
BEGIN:VEVENT
DTSTART;VALUE=DATE:20240620
DTEND;VALUE=DATE:20240909
DTSTAMP:20260422T154947
CREATED:20240326T141916Z
LAST-MODIFIED:20240326T174825Z
UID:10001082-1718841600-1725839999@demercadosmedievales.info
SUMMARY:MERCADO DE VERANO DEL PUERTO DEPORTIVO DE AGUADULCE (Roquetas de Mar\, Almería) 2024
DESCRIPTION:MERCADO DE VERANO del puerto deportivo de Aguadulce en casetas de madera del 20 de Junio al 08 de Septiembre. \n \n Detalles del MERCADO DE VERANO\nMERCADO DE VERANO DEL PUERTO DEPORTIVO DE AGUADULCE (Roquetas de Mar\, Almería) 2024\nCuando se celebra ?\n Los dias  20 de Junio al 08 de Septiembre  del  2024\n.\nEn que localidad y provincia ?\nEn Aguadulce que pertenece a la Roquetas de Mar provincia de  ALMERIA \n.\nCual será la ubicación ? \n.  En el Puerto deportivo de Aguadulce\n.\nPara conocer la fecha de más mercados y ferias temáticas \, AQUÍ\n. \n Quién organiza EL EVENTO? La empresa RASTRILLO DE CULTURAS  es la encargada de la organización y gestión de paradas/puestos de venta.\n.\n Como participar ? Ponte en contacto con el organizador para conocer los requisitos de participación y solicitar tu participación.\nA Continuación Te Los Facilitamos :\n. RASTRILLO DE CULTURAS\nE-mail : rastrillodeculturas@gmail.com\nTeléfono : 605.988.643\n. \n Acerca de PUERTO DEPORTIVO DE AGUADULCE\nEl puerto deportivo de Aguadulce\, se encuentra en la localidad de Roquetas de Mar\, a escasos 8 kilómetros de la capital. \n\nEste puerto alberga una gran variedad de restaurantes y ha pasado a ser unos de los sitios de ocio más emblemáticos de la provincia de Almería.\nEsta zona está poblada de hoteles y de una importante infraestructura turística\, que lo hacen perfecto como base de operaciones para visitar los alrededores de la costa de Almería\, así como disfrutar de sus playas y atractivos de una manera más tranquila.\nDiseñado dentro de un enclave turístico de prestigio reconocido\, se sitúa junto a lugares de descanso como Playa Serena y Las Marinas o cerca de lugares emblemáticos como el Castillo de Santa Ana y La Alcazaba de Almería.\n\n\nCalendario de Mercados Medievales y Ferias temáticas 2024 :\n\n\nEnero\nFebrero\nMarzo\nAbril\nMayo\nJunio\nJulio\nAgosto\nSeptiembre\nOctubre\nNoviembre\nDiciembre\n\n Las Ferias y mercados medievales\n\n\nLas ferias medievales son eventos que recrean la atmósfera de la Edad Media. Por lo general\, se llevan a cabo en pueblos o ciudades\, y presentan puestos de vendedores que venden artesanías\, alimentos y bebidas. También puede haber entretenimiento\, como justas\, música y baile. . \nLos Mercados  Medievales son una forma popular de aprender sobre la historia de la Edad Media y experimentar la cultura de la época. También son una actividad divertida para toda la familia.
URL:https://demercadosmedievales.info/mercadomedieval/mercado-de-verano-del-puerto-deportivo-de-aguadulce-roquetas-de-mar-almeria-2024/
LOCATION:Aguadulce (Almería) (***)\, Roquetas de Mar\, Almeria\, España
CATEGORIES:Almería,Mercado de Verano
ATTACH;FMTTYPE=image/jpeg:https://demercadosmedievales.info/wp-content/uploads/2024/03/verano_aguadulce_2024_556x276.jpg
GEO:36.7630032;-2.613927
END:VEVENT
END:VCALENDAR