BEGIN:VCALENDAR
VERSION:2.0
PRODID:-//Mercados Medievales - ECPv6.15.20//NONSGML v1.0//EN
CALSCALE:GREGORIAN
METHOD:PUBLISH
X-ORIGINAL-URL:https://demercadosmedievales.info
X-WR-CALDESC:Eventos para Mercados Medievales
REFRESH-INTERVAL;VALUE=DURATION:PT1H
X-Robots-Tag:noindex
X-PUBLISHED-TTL:PT1H
BEGIN:VTIMEZONE
TZID:Europe/Madrid
BEGIN:DAYLIGHT
TZOFFSETFROM:+0100
TZOFFSETTO:+0200
TZNAME:CEST
DTSTART:20250330T010000
END:DAYLIGHT
BEGIN:STANDARD
TZOFFSETFROM:+0200
TZOFFSETTO:+0100
TZNAME:CET
DTSTART:20251026T010000
END:STANDARD
BEGIN:DAYLIGHT
TZOFFSETFROM:+0100
TZOFFSETTO:+0200
TZNAME:CEST
DTSTART:20260329T010000
END:DAYLIGHT
BEGIN:STANDARD
TZOFFSETFROM:+0200
TZOFFSETTO:+0100
TZNAME:CET
DTSTART:20261025T010000
END:STANDARD
BEGIN:DAYLIGHT
TZOFFSETFROM:+0100
TZOFFSETTO:+0200
TZNAME:CEST
DTSTART:20270328T010000
END:DAYLIGHT
BEGIN:STANDARD
TZOFFSETFROM:+0200
TZOFFSETTO:+0100
TZNAME:CET
DTSTART:20271031T010000
END:STANDARD
END:VTIMEZONE
BEGIN:VEVENT
DTSTART;TZID=Europe/Madrid:20260606T000000
DTEND;TZID=Europe/Madrid:20260607T235959
DTSTAMP:20260420T085611
CREATED:20260319T105124Z
LAST-MODIFIED:20260319T113233Z
UID:10003329-1780704000-1780876799@demercadosmedievales.info
SUMMARY:III Jornadas del Cañón de El Arenal 2026 (Ávila) / Mercado de oficios
DESCRIPTION:Las III Jornadas del Cañón sobre el Carlismo se celebran en El Arenal (Ávila) del 06 y 07 de junio de 2026. Un evento con historia\, cultura y tradición\, ideal para artesanos y mercaderes que deseen participar en un mercado único en su entorno. \n\n\n\n\n\n\n\n \n\n\n\nÍndice III Jornadas del Cañón de El Arenal Información de las III Jornadas del CañónEmpresa organizadora Cartel de las Jornadas del CañónSobre El Arenal \, ÁvilaCómo llegar a El Arenal (Ávila)Mercados Medievales 2026: Fechas y Localidades ConfirmadasPara más información puedes consultar :¿Te apuntas? Síguenos y no te pierdas de nada.En Resumen..\n\n\n\n \n\n\n\nIII Jornadas del Cañón de El Arenal \n\n\n\nSe celebrará en El Arenal (Ávila) las III Jornadas del Cañón\, unas jornadas que rememoran los actos que tuvieron lugar en este municipio del Sur de la Sierra de Gredos el año 1838 durante la I Guerra Carlista. \n\n\n\nEste año 2026\, El Arenal vuelve a celebrar este acontecimiento con gran cantidad de actividades entre ellas un mercado de oficios\, ya sería su III edición \, los días 06 y 07 de Junio del 2026 \n\n\n\n \n\n\n\nInformación de las III Jornadas del Cañón\n\n\n\n\nFecha:   06 y 07 de junio del 2026\n\n\n\nLugar: en el centro del municipio\n\n\n\nPoblación: El Arenal en la provincia de Avila\n\n\n\nPeriodicidad: Anual\n\n\n\nOferta a exponer:  Artesania\, Alimentación\, Gastronomía\, Complementos\,etc\n\n\n\nServicios que proporcionara el organizador: electricidad\, agua y seguridad\n\n\n\n\nInscripciones : Presenta la solicitud al organizador del evento con la siguiente información: \n\n\n\n\nAsunto: Nombre del Mercado.\n\n\n\nIMPORTANTE PARA HACER LA SOLICITUD : ENVIAR 2 FOTOS (1 de parada completa y una de su producto).\n\n\n\nDatos personales : Nombre de las personas que van a trabajar en la parada y su dni\n\n\n\nEn caso de alimentación\, facilitar el carnet de manipulación de alimentos\n\n\n\nDocumentación en regla : autónomos y seguridad social\n\n\n\nIndicar el tipo de vehículo y si lo solicitan el número de la matricula\n\n\n\nRequisitos específicos (indicando los metros que necesitan.\, electricidad\, agua\, etc.).\n\n\n\n\nEmpresa organizadora \n\n\n\nLa organización y decoración de este evento están a cargo de Anayao Eventos. Para más detalles sobre el proceso de inscripción\, tarifas y requisitos específicos\, contacta a través de los Teléfonos / WhatsApp: Sagrario: 607 715 790 \, Oficina: 671 069 441 \n\n\n\nCartel de las Jornadas del Cañón\n\n\n\n\n\n\n\n \n\n\n\nSobre El Arenal \, Ávila\n\n\n\nEl Arenal (Ávila) es un encantador municipio situado en pleno corazón de la Sierra de Gredos. Además\, destaca por su entorno natural\, su tranquilidad y su tradición\, lo que lo convierte en un destino ideal para ferias\, mercados y turismo rural durante todo el año. \n\n\n\n\n\n\n\nCómo llegar a El Arenal (Ávila)\n\n\n\nLlegar a El Arenal es sencillo\, especialmente en coche\, ya que se encuentra bien conectado con varias ciudades cercanas. \n\n\n\nEn cocheDesde Ávila\, se puede acceder por la N-502 en dirección a Arenas de San Pedro\, y posteriormente continuar por la AV-923 hasta llegar a El Arenal. \n\n\n\nDesde Madrid\, el trayecto más habitual es por la A-5 hasta Talavera de la Reina\, y después continuar por la N-502 hacia la Sierra de Gredos. \n\n\n\nUbicaciónEl Arenal está situado en la vertiente sur de la Sierra de Gredos\, rodeado de naturaleza\, gargantas y paisajes de gran valor ecológico. \n\n\n\n\n\n \n\n\n\n \n\n\n\nMercados Medievales 2026: Fechas y Localidades Confirmadas\n\n\n\n\n\n\n\nEspaña cuenta con una de las agendas de ferias temáticas más ricas del mundo\, combinando gastronomía tradicional\, artesanía de autor y espectáculos en vivo. Si buscas un plan diferente para el fin de semana o quieres conocer el patrimonio de una forma única\, esta es tu guía definitiva. Leer más \n\n\n\nPara más información puedes consultar :\n\n\n\n\nPuedes Consultar en esté enlace las  Ferias y Mercados en España\n\n\n\nHaz clic en ESTE enlace :  Conoce los Organizadores de Mercados y Ferias\n\n\n\n\n¿Te apuntas? Síguenos y no te pierdas de nada.\n\n\n\n\nTelegram\n\n\n\nNewsletter\n\n\n\nWhatsApp\n\n\n\nInstagram\n\n\n\nPor supuesto en Facebook\n\n\n\n\nEn Resumen..
URL:https://demercadosmedievales.info/mercadomedieval/iii-jornadas-del-canon-de-el-arenal/
LOCATION:El Arenal (Ávila)\, El Arenal\, Ávila\, España
CATEGORIES:Avila,Castilla y Leon,Feria de oficios,Feria tradicional,Mercado tradicional
ATTACH;FMTTYPE=image/jpeg:https://demercadosmedievales.info/wp-content/uploads/2026/03/canon_arenal_fb.jpg
END:VEVENT
END:VCALENDAR