BEGIN:VCALENDAR
VERSION:2.0
PRODID:-//Mercados Medievales - ECPv6.15.20//NONSGML v1.0//EN
CALSCALE:GREGORIAN
METHOD:PUBLISH
X-ORIGINAL-URL:https://demercadosmedievales.info
X-WR-CALDESC:Eventos para Mercados Medievales
REFRESH-INTERVAL;VALUE=DURATION:PT1H
X-Robots-Tag:noindex
X-PUBLISHED-TTL:PT1H
BEGIN:VTIMEZONE
TZID:Europe/Madrid
BEGIN:DAYLIGHT
TZOFFSETFROM:+0100
TZOFFSETTO:+0200
TZNAME:CEST
DTSTART:20250330T010000
END:DAYLIGHT
BEGIN:STANDARD
TZOFFSETFROM:+0200
TZOFFSETTO:+0100
TZNAME:CET
DTSTART:20251026T010000
END:STANDARD
BEGIN:DAYLIGHT
TZOFFSETFROM:+0100
TZOFFSETTO:+0200
TZNAME:CEST
DTSTART:20260329T010000
END:DAYLIGHT
BEGIN:STANDARD
TZOFFSETFROM:+0200
TZOFFSETTO:+0100
TZNAME:CET
DTSTART:20261025T010000
END:STANDARD
BEGIN:DAYLIGHT
TZOFFSETFROM:+0100
TZOFFSETTO:+0200
TZNAME:CEST
DTSTART:20270328T010000
END:DAYLIGHT
BEGIN:STANDARD
TZOFFSETFROM:+0200
TZOFFSETTO:+0100
TZNAME:CET
DTSTART:20271031T010000
END:STANDARD
END:VTIMEZONE
BEGIN:VEVENT
DTSTART;TZID=Europe/Madrid:20260701T000000
DTEND;TZID=Europe/Madrid:20260705T235959
DTSTAMP:20260422T120311
CREATED:20260210T203843Z
LAST-MODIFIED:20260323T121054Z
UID:10003211-1782864000-1783295999@demercadosmedievales.info
SUMMARY:Mercado Templario de O Burgo en Culleredo del 1 al 5 de julio
DESCRIPTION:Desde el Miércoles 01 al Domingo 05 de Julio se celebrará en el Paseo Marítimo de O Burgo\, en el municipio de Culleredo\, el Mercado Templario de O Burgo\, donde todos los asistentes podrán disfrutar con actuaciones musicales\, pasacalles\, exhibiciones\, espectáculos y demás actos programados. \n\n\n\n\n\n\n\n \n\n\n\n \n\n\n\n\nÍndice Mercado Templario de O BurgoArtesanos y Mercaderes\, información para participar en el Mercado Templario de O BurgoSobre Culleredo\, historia que fluye junto al mar🚗 Cómo llegarMercados Medievales 2026: Fechas y Localidades ConfirmadasPara más información puedes consultar :¿Te apuntas? Síguenos y no te pierdas de nada.En Resumen…\n\n\n\n\n \n\n\n\nMercado Templario de O Burgo\n\n\n\nDurante los primeros días de julio\, O Burgo (Culleredo) viajará siglos atrás en el tiempo con la celebración del Mercado Templario de O Burgo\, un evento que ya se ha convertido en una cita imprescindible del verano gallego. \n\n\n\nA lo largo del Paseo Marítimo de O Burgo\, el mercado recreará el ambiente de la época templaria con puestos de artesanía\, productos tradicionales y una cuidada ambientación medieval que acompañará cada paseo. Además\, la ubicación junto a la ría aporta un encanto especial\, convirtiendo la visita en una experiencia única. \n\n\n\nEl evento\, organizado por Lucus Events\, está pensado para todos los públicos\, combinando ocio\, cultura y entretenimiento en un entorno abierto y muy concurrido. Por ello\, tanto familias como amantes de la historia y los mercados temáticos encontrarán un plan perfecto para disfrutar del verano. \n\n\n\nDurante cinco días\, Culleredo se llenará de vida\, historia y sabor medieval\, invitando a dejarse llevar por la magia templaria en uno de los enclaves más agradables de la comarca. \n\n\n\n \n\n\n\nArtesanos y Mercaderes\, información para participar en el Mercado Templario de O Burgo\n\n\n\n\nEvento:  Mercado Templario de O Burgo\n\n\n\nFechas:  01 al 05 de Julio del 2026\n\n\n\nHorario: \n\n\n\nUbicación:  Paseo Marítimo de O Burgo\, Culleredo\,  LA CORUÑA\n\n\n\nInauguración:  el día 01 de Julio posiblemente a las 17h\n\n\n\nPeriodicidad: Anual\n\n\n\nProductos permitidos: artesanía\, mercaderías varias\, alimentación\, gastronomía\n\n\n\nServicios incluidos: agua\, electricidad\, vigilancia disuasoria\n\n\n\nOrganiza : LUCUS EVENTS\n\nInscripciones solo por email lucusevents@gmail.com \n\n\n\n671 58 36 95 ( Solo para consultas o dudas )\n\n\n\n\n\n\n \n\n\n\n\n\n\n\n \n\n\n\n \n\n\n\nSobre Culleredo\, historia que fluye junto al mar\n\n\n\nCulleredo es un municipio de la provincia de A Coruña\, situado a escasos minutos de la ciudad y muy bien comunicado. O Burgo\, una de sus zonas más emblemáticas\, destaca por su paseo marítimo y su animada vida social\, especialmente en verano. \n\n\n\n🚗 Cómo llegar\n\n\n\nCulleredo cuenta con excelentes accesos por carretera desde A Coruña\, a través de la N-550 y la AP-9\, además de transporte público regular que conecta fácilmente con el Paseo Marítimo de O Burgo. \n\n\n\n\n\n \n\n\n\n \n\n\n\nMercados Medievales 2026: Fechas y Localidades Confirmadas\n\n\n\n\n\n\n\nEspaña cuenta con una de las agendas de ferias temáticas más ricas del mundo\, combinando gastronomía tradicional\, artesanía de autor y espectáculos en vivo. Si buscas un plan diferente para el fin de semana o quieres conocer el patrimonio de una forma única\, esta es tu guía definitiva. Leer más \n\n\n\nPara más información puedes consultar :\n\n\n\n\nPuedes Consultar en esté enlace las  Ferias y Mercados en España\n\n\n\nHaz clic en ESTE enlace :  Conoce los Organizadores de Mercados y Ferias\n\n\n\n\n¿Te apuntas? Síguenos y no te pierdas de nada.\n\n\n\n\nTelegram\n\n\n\nNewsletter\n\n\n\nWhatsApp\n\n\n\nInstagram\n\n\n\nPor supuesto en Facebook\n\n\n\n\nEn Resumen…
URL:https://demercadosmedievales.info/mercadomedieval/mercado-templario-de-o-burgo-en-culleredo-del-1-al-5-de-julio/
LOCATION:O Burgo (La Coruña) (***)\, O Burgo\, A Coruña\, 15670
CATEGORIES:Galicia,La Coruña,Mercado templario
ATTACH;FMTTYPE=image/jpeg:https://demercadosmedievales.info/wp-content/uploads/2026/02/templario_o_burgo_culleredo_2026_fb.jpg
ORGANIZER;CN="Lucus Events":MAILTO:lucusevents@gmail.com
GEO:43.3158805;-8.3643761
END:VEVENT
END:VCALENDAR