BEGIN:VCALENDAR
VERSION:2.0
PRODID:-//Mercados Medievales - ECPv6.15.20//NONSGML v1.0//EN
CALSCALE:GREGORIAN
METHOD:PUBLISH
X-ORIGINAL-URL:https://demercadosmedievales.info
X-WR-CALDESC:Eventos para Mercados Medievales
REFRESH-INTERVAL;VALUE=DURATION:PT1H
X-Robots-Tag:noindex
X-PUBLISHED-TTL:PT1H
BEGIN:VTIMEZONE
TZID:Europe/Madrid
BEGIN:DAYLIGHT
TZOFFSETFROM:+0100
TZOFFSETTO:+0200
TZNAME:CEST
DTSTART:20250330T010000
END:DAYLIGHT
BEGIN:STANDARD
TZOFFSETFROM:+0200
TZOFFSETTO:+0100
TZNAME:CET
DTSTART:20251026T010000
END:STANDARD
BEGIN:DAYLIGHT
TZOFFSETFROM:+0100
TZOFFSETTO:+0200
TZNAME:CEST
DTSTART:20260329T010000
END:DAYLIGHT
BEGIN:STANDARD
TZOFFSETFROM:+0200
TZOFFSETTO:+0100
TZNAME:CET
DTSTART:20261025T010000
END:STANDARD
BEGIN:DAYLIGHT
TZOFFSETFROM:+0100
TZOFFSETTO:+0200
TZNAME:CEST
DTSTART:20270328T010000
END:DAYLIGHT
BEGIN:STANDARD
TZOFFSETFROM:+0200
TZOFFSETTO:+0100
TZNAME:CET
DTSTART:20271031T010000
END:STANDARD
END:VTIMEZONE
BEGIN:VEVENT
DTSTART;TZID=Europe/Madrid:20260430T000000
DTEND;TZID=Europe/Madrid:20260503T235959
DTSTAMP:20260420T092359
CREATED:20260406T101223Z
LAST-MODIFIED:20260406T111018Z
UID:10003299-1777507200-1777852799@demercadosmedievales.info
SUMMARY:Mercado Romano de Alcalá de Henares 2026 – Complutum Renacida 🎪 Fechas\, Cartel y  Programación
DESCRIPTION:Descubre el Mercado Romano de Alcalá de Henares 2026 dentro de Complutum Renacida\, del 30 de abril al 3 de mayo: artesanía\, gastronomía\, espectáculos y recreación histórica en sus calles más emblemáticas. \n\n\n\n\n\n\n\n \n\n\n\n \n\n\n\n\n\n\n\n¿Eres artesano o amante de las ferias temáticas? > Descubre el mayor calendario de mercados medievales 2026. Síguenos en nuestro Instagram oficial o conecta con nosotros vía WhatsApp para recibir novedades sobre plazos de inscripción y fechas de eventos. No olvides suscribirte a nuestra Newsletter para no perderte ninguna publicación. \n\n\n\n\n\n\n\n \n\n\n\nContenido Mercado Romano de Alcalá de HenaresComplutum Renacida¿Qué puedes encontrar en el Mercado Romano de Alcalá de Henares 2026?Mapa del Mercado Romano de Alcalá de Henares 2026Cartel del Mercado Romano de Alcalá de Henares 2026Programa Mercado Romano de Alcalá de Henares 2026 – Complutum RenacidaCartel del Gran Circus Maximus (Venta de entradas)Información para expositores (artesanos y mercaderes)Como llegar al Mercado Romano de Alcalá de Henares Eventos más próximos Mercados Medievales 2026: Calendario de Fechas y LocalidadesInformación clave sobre Mercados medievales y temáticosÚnete a la Red de Artesanos y MercaderesDescripción del Evento\n\n\n\n \n\n\n\nMercado Romano de Alcalá de Henares\n\n\n\nComplutum Renacida\n\n\n\nEl mercado romano de Alcalá de Henares se celebra anualmente como parte del evento de recreación histórica conocido como Complutum Renacida. \n\n\n\nPara el año 2026\, las fechas confirmadas para el evento principal son: \n\n\n\n\nFechas: del 30 de abril al 3 de mayo de 2026.\n\n\n\nUbicación: El mercado romano estará ubicado en  Calles San Juan\, Sandoval y Rojas y Huerta del Obispo.  \n\n\n\n\n¿Qué puedes encontrar en el Mercado Romano de Alcalá de Henares 2026?\n\n\n\nEste evento transforma la ciudad en la antigua Roma del siglo IV d.C. e incluye: \n\n\n\nActividades gratuitas: Visitas guiadas al yacimiento de Complutum y a la Casa de los Grifos\, además de pasacalles y teatro de calle. \n\n\n\nPuestos de artesanía y gastronomía: Un mercado de época con productos artesanales\, comida y bebidas inspiradas en la antigüedad. \n\n\n\nCircus Maximus: Espectáculos de gladiadores y carreras de cuadrigas (normalmente requieren entrada previa). \n\n\n\nRecreación histórica: Campamentos romanos con más de 100 recreadores que muestran la vida cotidiana de las legiones\, talleres de oficios antiguos y desfiles militares. \n\n\n\n \n\n\n\nMapa del Mercado Romano de Alcalá de Henares 2026 \n\n\n\n  PROXIMAMENTE \n\n\n\nCartel del Mercado Romano de Alcalá de Henares 2026 \n\n\n\nPROXIMAMENTE \n\n\n\n \n\n\n\nPrograma Mercado Romano de Alcalá de Henares 2026 – Complutum Renacida\n\n\n\nPROXIMAMENTE \n\n\n\n \n\n\n\nCartel del Gran Circus Maximus (Venta de entradas)\n\n\n\n\n\n\n\n \n\n\n\n \n\n\n\n\n\n\n\n \n\n\n\nMercado Romano de Alcalá de Henares 2026 \n\n\n\nInformación para expositores (artesanos y mercaderes)\n\n\n\n\nLos interesados en participar deberán enviar:\n\nDatos de contacto\n\n\n\nDescripción del puesto o actividad\n\n\n\nFotografías de los productos o espectáculos\n\n\n\n\n\n📩 Correo electrónico: artesanos@musicalsport.com\n\n\n\n\n \n\n\n\n\nOrganiza: Musical Sport\n\n\n\n📞 Teléfono: 923 186 801🕐 Horario de atención telefónica:De lunes a viernes de 10:00 a 12:00\n\n\n\n\n \n\n\n\nFoto del Mercado Romano de Alcalá de Henares 2025\n\n\n\n \n\n\n\nComo llegar al Mercado Romano de Alcalá de Henares \n\n\n\nEl Mercado Romano de Alcalá de Henares se celebra en el casco histórico\, concretamente en las calles San Juan\, Sandoval y Rojas y Huerta del Obispo\, dentro del festival histórico Complutum Renacida. \n\n\n\n🚗 En cocheSe puede llegar fácilmente desde Madrid por la A-2 (Autovía de Barcelona). La salida hacia Alcalá de Henares está bien señalizada y conduce directamente al centro histórico\, donde hay varios aparcamientos públicos cercanos. \n\n\n\n🚆 En trenLa ciudad cuenta con estación de Cercanías Renfe (línea C-2 y C-7) que conecta Alcalá con Madrid en unos 35 minutos. Desde la estación se puede llegar caminando al centro histórico en unos 15-20 minutos. \n\n\n\n🚌 En autobúsVarias líneas interurbanas salen desde el Intercambiador de Avenida de América en Madrid y llegan a Alcalá de Henares con paradas próximas al casco histórico. \n\n\n\n👉 Una vez en el centro\, solo hay que seguir las indicaciones del evento hacia el área del mercado romano\, donde las calles se transforman en un auténtico escenario de la antigua Roma. ⚔️🏛️ \n\n\n\n\n\n \n\n\n\n \n\n\n\n \n\n\n\nEventos más próximos \n\n\n\nMercado Renacentista de San Sebastián de los Reyes (Madrid)- Evento en Madrid 202624 abril - 26 abrilMercado Goyesco de Torrejón de Ardoz (Madrid) 24 (tarde) al 26 de Abril del 202624 abril - 26 abrilMercado Medieval de El Escorial – Madrid 202624 abril - 26 abril\n\n\n\n \n\n\n\n \n\n\n\nMercados Medievales 2026: Calendario de Fechas y Localidades\n\n\n\n \n\n\n\nMercados Medievales en la RED\n\n\n\n¿Eres artesano o mercader y buscas nuevos eventos para exponer tus productos? España ofrece una de las agendas de ferias temáticas y mercados medievales más dinámicas de Europa. Estos eventos son el escaparate perfecto para la artesanía de autor\, combinando un gran flujo de visitantes con entornos de venta estratégicos. \n\n\n\nSi tu objetivo es ampliar tu ruta de mercados y asegurar tu participación en las mejores plazas\, esta es tu plataforma profesional de referencia. \n\n\n\n \n\n\n\nInformación clave sobre Mercados medievales y temáticos\n\n\n\nOptimizamos tu logística facilitándote el acceso a la información clave para el montaje y la solicitud de plazas: \n\n\n\n\nPróximas Ferias y Mercados en España: Consulta las localidades confirmadas y las fechas de los próximos eventos para planificar tu ruta anual.\n\n\n\nGuía de Organizadores de Mercados y Ferias: Accede al listado de empresas organizadoras para solicitar bases de participación\, precios de metros y condiciones de montaje.\n\n\n\n\n\n\n\n\n \n\n\n\nÚnete a la Red de Artesanos y Mercaderes\n\n\n\nLas plazas en los mejores mercados se agotan rápido. No te quedes fuera de las convocatorias más importantes del año. Únete a nuestros canales exclusivos para profesionales y recibe alertas sobre nuevas aperturas de plazos e inscripciones: \n\n\n\n\nAlertas Inmediatas: Únete a nuestro Telegram o WhatsApp para recibir avisos de última hora.\n\n\n\nComunidad y Visibilidad: Conecta con nosotros en Instagram\, Facebook y nuestra Newsletter profesional.\n\n\n\n\n\n\n\n\n \n\n\n\nDescripción del Evento
URL:https://demercadosmedievales.info/mercadomedieval/mercado-romano-de-alcala-de-henares-2026/
LOCATION:Alcalá de Henares (Madrid) (***)\, Alcalá de Henares\, Comunidad de Mmadrid\, 28800\, España
CATEGORIES:Comunidad de Madrid,Mercado romano
ATTACH;FMTTYPE=image/jpeg:https://demercadosmedievales.info/wp-content/uploads/2026/04/mercado-romano-alcala-henares-2026-fb.jpg
ORGANIZER;CN="Musical Sport":MAILTO:artesanos@musicalsport.com
GEO:40.4843898;-3.3688023
END:VEVENT
END:VCALENDAR