BEGIN:VCALENDAR
VERSION:2.0
PRODID:-//Mercados Medievales - ECPv6.15.20//NONSGML v1.0//EN
CALSCALE:GREGORIAN
METHOD:PUBLISH
X-ORIGINAL-URL:https://demercadosmedievales.info
X-WR-CALDESC:Eventos para Mercados Medievales
REFRESH-INTERVAL;VALUE=DURATION:PT1H
X-Robots-Tag:noindex
X-PUBLISHED-TTL:PT1H
BEGIN:VTIMEZONE
TZID:Europe/Madrid
BEGIN:DAYLIGHT
TZOFFSETFROM:+0100
TZOFFSETTO:+0200
TZNAME:CEST
DTSTART:20250330T010000
END:DAYLIGHT
BEGIN:STANDARD
TZOFFSETFROM:+0200
TZOFFSETTO:+0100
TZNAME:CET
DTSTART:20251026T010000
END:STANDARD
BEGIN:DAYLIGHT
TZOFFSETFROM:+0100
TZOFFSETTO:+0200
TZNAME:CEST
DTSTART:20260329T010000
END:DAYLIGHT
BEGIN:STANDARD
TZOFFSETFROM:+0200
TZOFFSETTO:+0100
TZNAME:CET
DTSTART:20261025T010000
END:STANDARD
BEGIN:DAYLIGHT
TZOFFSETFROM:+0100
TZOFFSETTO:+0200
TZNAME:CEST
DTSTART:20270328T010000
END:DAYLIGHT
BEGIN:STANDARD
TZOFFSETFROM:+0200
TZOFFSETTO:+0100
TZNAME:CET
DTSTART:20271031T010000
END:STANDARD
END:VTIMEZONE
BEGIN:VEVENT
DTSTART;TZID=Europe/Madrid:20260904T000000
DTEND;TZID=Europe/Madrid:20260906T235959
DTSTAMP:20260420T122323
CREATED:20260406T185505Z
LAST-MODIFIED:20260407T172909Z
UID:10003402-1788480000-1788739199@demercadosmedievales.info
SUMMARY:🏛️ Convocatoria abierta – Mercado Medieval en Fuenlabrada (Madrid) 2026
DESCRIPTION:Se abre el plazo de inscripción para participar en el Mercado Medieval en Fuenlabrada 2026\, que se celebrará los días 4 (tarde)\, 5 y 6 de septiembre en el centro de Fuenlabrada. \n\n\n\n\n\n\n\n \n\n\n\n \n\n\n\n\n\n\n\n¿Eres artesano o amante de las ferias temáticas? > Descubre el mayor calendario de mercados medievales 2026. Síguenos en nuestro Instagram oficial o conecta con nosotros vía WhatsApp para recibir novedades sobre plazos de inscripción y fechas de eventos. No olvides suscribirte a nuestra Newsletter para no perderte ninguna publicación. \n\n\n\n\n\n\n\n \n\n\n\nContenidoMercado Medieval en FuenlabradaCartel del Mercado Medieval en FuenlabradaInformación para artesanos y mercaderesRequisitos (Siempre hay que consultar los requisitos con el organizador):📍 Fuenlabrada\, Madrid🚗 Como llegar al Mercado Medieval en FuenlabradaEn coche🚶‍♂️ Acceso al mercadoEventos más próximos Mercados Medievales 2026: Calendario de Fechas y LocalidadesInformación clave sobre Mercados medievales y temáticosÚnete a la Red de Artesanos y MercaderesDescripcíon del Evento\n\n\n\n \n\n\n\nMercado Medieval en Fuenlabrada\n\n\n\nEl Mercado Medieval  se desarrollará en una ubicación céntrica y con gran afluencia de público\, ofreciendo un ambiente medieval con animación\, decoración temática y actividades para todos los públicos. \n\n\n\n \n\n\n\nCartel del Mercado Medieval en Fuenlabrada\n\n\n\nProximamente  \n\n\n\n \n\n\n\nInformación para artesanos y mercaderes\n\n\n\n\nEvento: Mercado Medieval en Fuenlabrada\n\n\n\nTemática : Medieval\n\n\n\nFechas:  04 (tarde) al 09 de septiembre del 2026\n\n\n\nHorario: Durante todo el día\n\n\n\nUbicación:  PLAZA DE ESPAÑA Y CALLE LA PLAZA\n\n\n\nMunicipio y Provincia : Fuenlabrada\, Madrid\n\n\n\nInauguración: 04 de septiembre por la tarde\n\n\n\nPeriodicidad: Anual\n\n\n\nProductos permitidos: Artesanía\, alimentación\, gastronomía\n\n\n\nServicios incluidos: Animación\, seguridad\, luz\, publicidad\n\n\n\nRequisitos : Se detalla más abajo\n\n\n\nOrganiza: TEMPUS AEVUS\n\ntempusaevus@gmail.com \n\n\n\n 622 712 382\n\n\n\n\n\n\n€Consultar con el organizador \n\n\n\n \n\n\n\nLas personas interesadas en participar deberán presentar su solicitud indicando los siguientes datos: \n\n\n\n\nMercado que le interesa : Mercado Medieval en Fuenlabrada\n\n\n\nNombre y apellidos\n\n\n\nDirección completa\n\n\n\nDNI o CIF\n\n\n\nNúmero de móvil\n\n\n\nCorreo electrónico\n\n\n\nArtículo a la venta\n\n\n\nMetros del puesto (incluyendo fondo)\n\n\n\nPotencia de luz necesaria\n\n\n\nMatrícula del vehículo\n\n\n\nObservaciones\n\n\n\n\n \n\n\n\nRequisitos (Siempre hay que consultar los requisitos con el organizador):\n\n\n\n\nParada de Madera o hierro y vestuario de temática medieval\n\n\n\nAlta en la Seguridad Social y último recibo.\n\n\n\nSeguro de responsabilidad civil último recibo.\n\n\n\nPara alimentación deberá contar con:\n\n– Carné de manipulador de alimentos.\n\n\n\n– Registro sanitario de los productos.\n\n\n\n\n\nPara productos cosméticos\, jabones\, cremas\, etc.:\n\n– Declaración responsable de actividades de fabricación de productos cosméticos.\n\n\n\n\n\n\n \n\n\n\n📍 Fuenlabrada\, Madrid\n\n\n\nFuenlabrada es una de las ciudades más dinámicas del sur de la Comunidad de Madrid\, con una amplia oferta cultural\, comercial y de ocio. \n\n\n\nGracias a su crecimiento en las últimas décadas\, se ha consolidado como un importante núcleo urbano\, combinando zonas modernas con espacios tradicionales donde se celebran eventos y actividades para todos los públicos. \n\n\n\nSu excelente ubicación y conexiones hacen de Fuenlabrada un lugar ideal para acoger eventos como mercados temáticos\, atrayendo tanto a vecinos como a visitantes de toda la región. \n\n\n\n🚗 Como llegar al Mercado Medieval en Fuenlabrada\n\n\n\nEn coche\n\n\n\n\nDesde Madrid: acceso directo por la A-42 (Carretera de Toledo) (aprox. 25 minutos).\n\n\n\nTambién conexiones por la M-50 y M-506.\n\n\n\nFácil acceso a la zona centro donde se ubican la Plaza de España y Calle La Plaza.\n\n\n\n\n \n\n\n\n🚶‍♂️ Acceso al mercado\n\n\n\nLa zona de la Plaza de España y Calle La Plaza es céntrica y fácilmente accesible a pie desde diferentes puntos de la ciudad. \n\n\n\n\n\n \n\n\n\n\n\n\n\n \n\n\n\nEventos más próximos \n\n\n\nMercado Renacentista de San Sebastián de los Reyes (Madrid)- Evento en Madrid 202624 abril - 26 abrilMercado Goyesco de Torrejón de Ardoz (Madrid) 24 (tarde) al 26 de Abril del 202624 abril - 26 abrilMercado Medieval de El Escorial – Madrid 202624 abril - 26 abril\n\n\n\n \n\n\n\n \n\n\n\nMercados Medievales 2026: Calendario de Fechas y Localidades\n\n\n\n \n\n\n\nMercados Medievales en la RED\n\n\n\n¿Eres artesano o mercader y buscas nuevos eventos para exponer tus productos? España ofrece una de las agendas de ferias temáticas y mercados medievales más dinámicas de Europa. Estos eventos son el escaparate perfecto para la artesanía de autor\, combinando un gran flujo de visitantes con entornos de venta estratégicos. \n\n\n\nSi tu objetivo es ampliar tu ruta de mercados y asegurar tu participación en las mejores plazas\, esta es tu plataforma profesional de referencia. \n\n\n\n \n\n\n\nInformación clave sobre Mercados medievales y temáticos\n\n\n\nOptimizamos tu logística facilitándote el acceso a la información clave para el montaje y la solicitud de plazas: \n\n\n\n\nPróximas Ferias y Mercados en España: Consulta las localidades confirmadas y las fechas de los próximos eventos para planificar tu ruta anual.\n\n\n\nGuía de Organizadores de Mercados y Ferias: Accede al listado de empresas organizadoras para solicitar bases de participación\, precios de metros y condiciones de montaje.\n\n\n\n\n\n\n\n\n \n\n\n\nÚnete a la Red de Artesanos y Mercaderes\n\n\n\nLas plazas en los mejores mercados se agotan rápido. No te quedes fuera de las convocatorias más importantes del año. Únete a nuestros canales exclusivos para profesionales y recibe alertas sobre nuevas aperturas de plazos e inscripciones: \n\n\n\n\nAlertas Inmediatas: Únete a nuestro Telegram o WhatsApp para recibir avisos de última hora.\n\n\n\nComunidad y Visibilidad: Conecta con nosotros en Instagram\, Facebook y nuestra Newsletter profesional.\n\n\n\n\n\n\n\n\n \n\n\n\nDescripcíon del Evento
URL:https://demercadosmedievales.info/mercadomedieval/mercado-medieval-en-fuenlabrada-2026/
LOCATION:Fuenlabrada (Madrid) (***)\, Fuenlabrada\, Comunidad de Madrid\, España
CATEGORIES:Comunidad de Madrid,Comunidades y Ciudades Autónomas,eventos 2026,Mercado Medieval,Mercados tematicos
ATTACH;FMTTYPE=image/jpeg:https://demercadosmedievales.info/wp-content/uploads/2026/04/mercado-medieval-fuenlabrada-septiembre-2026-fb.jpg
ORGANIZER;CN="Tempus Aevus":MAILTO:tempusaevus@gmail.com
GEO:40.2503981;-3.8291636
END:VEVENT
BEGIN:VEVENT
DTSTART;TZID=Europe/Madrid:20260905T000000
DTEND;TZID=Europe/Madrid:20260905T235959
DTSTAMP:20260420T122323
CREATED:20260326T172937Z
LAST-MODIFIED:20260326T175746Z
UID:10003360-1788566400-1788652799@demercadosmedievales.info
SUMMARY:XXVII Jornadas Medievales Fuentidueña de Tajo 2026 (Madrid)
DESCRIPTION:Las XXVII Jornadas Medievales Fuentidueña de Tajo se celebrarán el 5 de septiembre de 2026\, y además lo harán con un mercado artesanal en pleno corazón del municipio. Inscripciones hasta Junio. \n\n\n\n\n\n\n\n \n\n\n\nContenido XXVII Jornadas Medievales Fuentidueña de TajoInformación para expositores : Como llegar a las XXVII Jornadas Medievales Fuentidueña de TajoMercados Medievales 2026: Fechas y Localidades ConfirmadasPara más información puedes consultar :¿Te apuntas? Síguenos y no te pierdas de nada.En Resumen\n\n\n\n \n\n\n\nXXVII Jornadas Medievales Fuentidueña de Tajo\n\n\n\nEl próximo 5 de septiembre de 2026\, Fuentidueña de Tajo (Madrid) celebrará la XXVII edición de sus Jornadas Medievales\, un evento ya consolidado que reúne tradición\, artesanía y ambiente histórico. \n\n\n\nDurante toda la jornada\, la Plaza de la Constitución se transformará en un espacio medieval donde artesanos y visitantes podrán disfrutar de productos únicos y un entorno cultural atractivo. \n\n\n\n \n\n\n\nInformación para expositores : \n\n\n\n\nLa fecha de celebración será 5 de septiembre de 2026\n\n\n\nHorario de apertura y cierre al publico11:00 a 21:30 horas\n\n\n\nPlazo de InscripciónJunio 2026\n\n\n\nUbicación dentro del municipio:Plaza de la Constitución\n\n\n\nPoblación (Municipio y Provincia) :Fuentidueña de Tajo (MADRID)\n\n\n\nPeriodicidad:anual\n\n\n\nTipo de productos a exponer y vender: Artesanía\n\n\n\nFecha de Montaje5 de septiembre de 2026\n\n\n\nFecha de Desmontaje5 de septiembre de 2026\n\n\n\nFecha y hora de inauguración5 de septiembre 11 horas\n\n\n\nServicios que proporcionara el organizador a los artesanos y mercaderes participantesParada y luz\n\n\n\nOrganiza Ayuntamiento de Fuentidueña de Tajo\n\n\n\nInformación e Inscripciones email y teléfono\n\nTeléfono de contacto918728002Email de contacto :adl@aytofuentiduenatajo.es\n\n\n\n\n\nRequisitos de participaciónartesanos\, artistas y productos singulares\n\n\n\nPrecio del metro linealGratuito\n\n\n\n\n \n\n\n\nComo llegar a las XXVII Jornadas Medievales Fuentidueña de Tajo\n\n\n\nFuentidueña de Tajo es un municipio español situado en el extremo suroriental de la Comunidad de Madrid\, en la linde con las provincias de Toledo y Cuenca. El término municipal\, atravesado por el río Tajo y ubicado en las comarcas de Las Vegas y la Alcarria de Chinchón. Se puede acceder fácilmente por la A-3\, que conecta Madrid con Valencia. \n\n\n\n\n\n \n\n\n\nMercados Medievales 2026: Fechas y Localidades Confirmadas\n\n\n\n\n\n\n\nEspaña cuenta con una de las agendas de ferias temáticas más ricas del mundo\, combinando gastronomía tradicional\, artesanía de autor y espectáculos en vivo. Si buscas un plan diferente para el fin de semana o quieres conocer el patrimonio de una forma única\, esta es tu guía definitiva. Leer más \n\n\n\nPara más información puedes consultar :\n\n\n\n\nPuedes Consultar en esté enlace las  Ferias y Mercados en España\n\n\n\nHaz clic en ESTE enlace :  Conoce los Organizadores de Mercados y Ferias\n\n\n\n\n¿Te apuntas? Síguenos y no te pierdas de nada.\n\n\n\n\nTelegram\n\n\n\nNewsletter\n\n\n\nWhatsApp\n\n\n\nInstagram\n\n\n\nPor supuesto en Facebook\n\n\n\n\nEn Resumen
URL:https://demercadosmedievales.info/mercadomedieval/jornadas-medievales-fuentiduena/
LOCATION:Fuentidueña del Tajo (Madrid) (***)\, Fuentidueña del Tajo\, Madrid\, España
CATEGORIES:Comunidad de Madrid,Mercado Medieval
ATTACH;FMTTYPE=image/jpeg:https://demercadosmedievales.info/wp-content/uploads/2026/03/medieval_fuentiduena_tajo_fb.jpg
ORGANIZER;CN="Ayuntamiento de Fuentidue%C3%B1a del Tajo":MAILTO:adl@aytofuentiduenatajo.es
GEO:40.1188967;-3.1616515
END:VEVENT
END:VCALENDAR