BEGIN:VCALENDAR
VERSION:2.0
PRODID:-//Mercados Medievales - ECPv6.15.20//NONSGML v1.0//EN
CALSCALE:GREGORIAN
METHOD:PUBLISH
X-ORIGINAL-URL:https://demercadosmedievales.info
X-WR-CALDESC:Eventos para Mercados Medievales
REFRESH-INTERVAL;VALUE=DURATION:PT1H
X-Robots-Tag:noindex
X-PUBLISHED-TTL:PT1H
BEGIN:VTIMEZONE
TZID:Europe/Madrid
BEGIN:DAYLIGHT
TZOFFSETFROM:+0100
TZOFFSETTO:+0200
TZNAME:CEST
DTSTART:20250330T010000
END:DAYLIGHT
BEGIN:STANDARD
TZOFFSETFROM:+0200
TZOFFSETTO:+0100
TZNAME:CET
DTSTART:20251026T010000
END:STANDARD
BEGIN:DAYLIGHT
TZOFFSETFROM:+0100
TZOFFSETTO:+0200
TZNAME:CEST
DTSTART:20260329T010000
END:DAYLIGHT
BEGIN:STANDARD
TZOFFSETFROM:+0200
TZOFFSETTO:+0100
TZNAME:CET
DTSTART:20261025T010000
END:STANDARD
BEGIN:DAYLIGHT
TZOFFSETFROM:+0100
TZOFFSETTO:+0200
TZNAME:CEST
DTSTART:20270328T010000
END:DAYLIGHT
BEGIN:STANDARD
TZOFFSETFROM:+0200
TZOFFSETTO:+0100
TZNAME:CET
DTSTART:20271031T010000
END:STANDARD
END:VTIMEZONE
BEGIN:VEVENT
DTSTART;TZID=Europe/Madrid:20260721T000000
DTEND;TZID=Europe/Madrid:20260728T235959
DTSTAMP:20260420T110329
CREATED:20260401T072425Z
LAST-MODIFIED:20260404T064543Z
UID:10003387-1784592000-1785283199@demercadosmedievales.info
SUMMARY:Mercado Medieval y Zoco Artesano en San Juan de los Terreros 2026 (Almeria) 🔥 Mercado de verano
DESCRIPTION:Mercado Medieval y Zoco Artesano en San Juan de los Terreros 2026 junto al mar\, artesanía y zoco con gran afluencia turística en julio. \n\n\n\n\n\n\n\n \n\n\n\nContenido  Mercado Medieval y Zoco Artesano en San Juan de los Terreros 2026ℹ Información para expositores📍 Descripción de la localidad y cómo llegar🚗 Cómo llegar al Mercado Medieval y Zoco Artesano en San Juan de los Terreros 2026Un Mercado de verano🔗 Otros MercadosMercados Medievales 2026: Fechas y Localidades ConfirmadasPara más información puedes consultar :¿Te apuntas? Síguenos y no te pierdas de nada.En Resumen\n\n\n\n \n\n\n\nMercado Medieval y Zoco Artesano en San Juan de los Terreros 2026\n\n\n\n \n\n\n\nℹ Información para expositores\n\n\n\n\nNombre del evento: Mercado Medieval y Zoco Artesano en San Juan de los Terreros 2026\n\n\n\nFechas: Del 21 al 28 de julio de 2026\n\n\n\nUbicación: Explanada del Paseo Marítimo \n\n\n\nMunicipio: San Juan de los Terreros\, Pulpí \n\n\n\nProvincia :  Almeria\n\n\n\nOrganiza: EVENTOS MOXACAR \n\nContacto: 📲 670 202 690 (también WhatsApp)\n\n\n\n\n\nCategoría: Mercados Medievales\,   Zoco Artesano\n\n\n\n\n\n\n \n\n\n\n📍 Descripción de la localidad y cómo llegar\n\n\n\nSan Juan de los Terreros\, es una localidad y pedanía española perteneciente al municipio de Pulpí\, en la provincia de Almería\, comunidad autónoma de Andalucía. Es conocida por sus playas\, cerca del límite con la Región de Murcia. es uno de los destinos turísticos más atractivos de la costa almeriense. Además\, en pleno verano alcanza su máximo nivel de visitantes\, lo que garantiza una gran afluencia constante. \n\n\n\nSu paseo marítimo es una de las zonas más transitadas\, especialmente en horario de tarde y noche. \n\n\n\n\n\n\n\n \n\n\n\n\n\n\n\n🚗 Cómo llegar al Mercado Medieval y Zoco Artesano en San Juan de los Terreros 2026\n\n\n\n\nDesde Almería: aproximadamente 1h 30 min por la A-7\n\n\n\nDesde Murcia: unos 50 minutos\n\n\n\nFácil acceso por carretera y zonas cercanas de aparcamiento\n\n\n\n\n👉 Ubicación estratégica junto al mar\, con gran tránsito peatonal durante todo el evento. \n\n\n\n\n\n \n\n\n\nUn Mercado de verano \n\n\n\nSi eres artesano y buscas un evento de verano con alta afluencia turística\, el Mercado Medieval y Zoco Artesano en San Juan de los Terreros 2026 es\, sin duda\, una gran oportunidad. Además\, su ubicación en pleno paseo marítimo lo convierte en un escenario perfecto para maximizar ventas durante la temporada alta. \n\n\n\nEl evento se celebrará del 21 al 28 de julio de 2026 en la explanada del paseo marítimo de San Juan de los Terreros\, en el municipio de Pulpí (Almería). Durante estos días\, el mercado transformará esta zona costera en un espacio lleno de ambiente medieval y esencia artesanal\, atrayendo tanto a turistas como a público local. \n\n\n\nEste mercado combina la estética medieval con el concepto de zoco artesano\, ofreciendo una experiencia única donde los visitantes podrán encontrar productos hechos a mano\, piezas originales y propuestas gastronómicas. La afluencia de público en esta época del año es especialmente elevada\, lo que lo convierte en un evento muy interesante para expositores que buscan rentabilidad. \n\n\n\nSan Juan de los Terreros es uno de los destinos más visitados de la costa de Almería en verano\, conocido por sus playas y su ambiente familiar. Su paseo marítimo es un punto clave de tránsito\, lo que garantiza visibilidad constante para los puestos participantes. \n\n\n\nAdemás\, su fácil acceso y el flujo continuo de visitantes durante el mes de julio hacen que este mercado sea ideal tanto para artesanos consolidados como para aquellos que quieren probar nuevos puntos de venta en temporada alta. \n\n\n\nEste evento es especialmente recomendable para artesanía creativa\, productos de inspiración medieval o temática\, complementos\, decoración y propuestas gastronómicas adaptadas al entorno. \n\n\n\nEl Mercado Medieval y Zoco Artesano en San Juan de los Terreros 2026 se presenta como una oportunidad perfecta para formar parte de un evento con encanto\, gran afluencia y excelente ubicación junto al mar. \n\n\n\n \n\n\n\n \n\n\n\n \n\n\n\n🔗 Otros Mercados \n\n\n\n\n👉 Consulta más mercados en Almería\n\n\n\n👉 Más Mercados de Verano 👉 Descubre ferias en Julio 2026👉 Encuentra eventos para artesanos en España\n\n\n\n\n\n\n\n\n \n\n\n\nPróximos eventos en Almería \n\n\n\nEco Mercado de Lucainena de las Torres 2026 (Almeria) – Como participar8 mayo - 9 mayoMercado Barroco de Huércal-Overa 2026 (Almeria) 📜Fechas\, programa\, cartel 202620 mayo - 22 mayoMercado Medieval Morisco de Mojácar 2026 (Almeria)11 junio - 14 junio\n\n\n\n\n\n\n\n \n\n\n\nMercados Medievales 2026: Fechas y Localidades Confirmadas\n\n\n\n\n\n\n\nEspaña cuenta con una de las agendas de ferias temáticas más ricas del mundo\, combinando gastronomía tradicional\, artesanía de autor y espectáculos en vivo. Si buscas un plan diferente para el fin de semana o quieres conocer el patrimonio de una forma única\, esta es tu guía definitiva. Leer más \n\n\n\n \n\n\n\nPara más información puedes consultar :\n\n\n\n\nPuedes Consultar en esté enlace las  Ferias y Mercados en España\n\n\n\nHaz clic en ESTE enlace :  Conoce los Organizadores de Mercados y Ferias\n\n\n\n\n \n\n\n\n¿Te apuntas? Síguenos y no te pierdas de nada.\n\n\n\n\nTelegram\n\n\n\nNewsletter\n\n\n\nWhatsApp\n\n\n\nInstagram\n\n\n\nPor supuesto en Facebook\n\n\n\n\nEn Resumen
URL:https://demercadosmedievales.info/mercadomedieval/mercado-medieval-y-zoco-artesano-en-san-juan-de-los-terreros-2026/
LOCATION:San Juan de los Terreros (Almería) (***)\, San Juan de los Terreros\, Almería\, España
CATEGORIES:Almería,Andalucia,eventos 2026,Mercado Medieval
ATTACH;FMTTYPE=image/jpeg:https://demercadosmedievales.info/wp-content/uploads/2026/04/medieval_san_juan_terreros_2026_fb.jpg
ORGANIZER;CN="Eventos Moxacar":MAILTO:EVENTOSMOXACAR2013@HOTMAIL.COM
GEO:37.3591328;-1.6578519
END:VEVENT
BEGIN:VEVENT
DTSTART;TZID=Europe/Madrid:20260731T000000
DTEND;TZID=Europe/Madrid:20260802T235959
DTSTAMP:20260420T110329
CREATED:20250921T172018Z
LAST-MODIFIED:20250921T172019Z
UID:10002817-1785456000-1785715199@demercadosmedievales.info
SUMMARY:La Alvarada Medieval de Cañete 2026
DESCRIPTION:📜 Convocatoria Oficial\n\n\n\nLa Alvarada Medieval de Cañete 2026📅 31 de julio\, 1 y 2 de agosto de 2026📍 Huerto de Doña Julia (esplanada dentro de la muralla)\, Cañete (Cuenca) \n\n\n\nEl Ayuntamiento de Cañete y la Comisión de la Alvarada convocan a artesanos\, mercaderes y recreadores históricos a participar en La Alvarada Medieval de Cañete 2026\, una cita única que cada verano transforma la villa en un auténtico enclave medieval con mercado\, espectáculos y actividades culturales. \n\n\n\n\n\n\n\n🕒 Datos principales\n\n\n\n\nFechas: 31 de julio\, 1 y 2 de agosto de 2026\n\n\n\nHorario: de 10:00 a 23:00 h (cada puesto decide dentro de este horario)\n\n\n\nInauguración oficial: sábado 1 de agosto a las 11:00 h\n\n\n\nPlazo de inscripción: del 15 de mayo al 10 de julio de 2026\n\n\n\nLugar: Huerto de Doña Julia\, dentro de la muralla de Cañete (Cuenca)\n\n\n\nPeriodicidad: anual\n\n\n\n\n\n\n\n\n🛍️ Productos admitidos\n\n\n\nSe admite todo tipo de productos: \n\n\n\n\nArtesanía\n\n\n\nAlimentación y gastronomía\n\n\n\nTalleres y actividades\n\n\n\n\n\n\n\n\n📦 Montaje y desmontaje\n\n\n\n\nMontaje: viernes 31 de julio a las 9:00 h\n\n\n\nDesmontaje: domingo 2 de agosto a las 21:00 h\n\n\n\n\n\n\n\n\n🛠 Servicios a los participantes\n\n\n\n\nZona de aparcamiento para vehículos\n\n\n\nDuchas y aseos disponibles\n\n\n\n\n\n\n\n\n💶 Precio y condiciones\n\n\n\n\nPrecio por metro lineal:\n\n30 €/m (artesanía y otros productos)\n\n\n\n60 €/m (alimentación)\n\n\n\n\n\nRequisitos de participación:\n\nDNI\n\n\n\nAlta en Hacienda y Seguridad Social\n\n\n\nSeguro de responsabilidad civil\n\n\n\nCarnet de manipulador y nº de sanidad para puestos de alimentación\n\n\n\n\n\n\n\n\n\n\n📩 Información e inscripciones\n\n\n\n📧 Email: canete.isabel@gmail.com📱 Teléfono y WhatsApp: 624 532 181☎️ Teléfono adicional: 969 346 001🏛️ Dirigirse al Ayuntamiento de Cañete \n\n\n\n \n\n\n\nDescripción de la Fiesta La Alvarada Medieval\n\n\n\nLa Alvarada es una festividad cultural\, de carácter medieval\, que cada año se celebra en Cañete en honor a la figura histórica de don Álvaro de Luna\, personaje influyente de la Castilla del siglo XV que nació en esta villa serrana. No sólo eso; con La Alvarada\, Cañete también pretende memorar a otras diversas figuras históricas nacidas o acogidas entre su caserío\, evocar la presencia de su virgen patrona en las Cantigas de Santa María\, así como poner en valor el riquísimo pasado medieval de esta población\, que hoy queda patente en su valiosísimo patrimonio\, del que la plaza porticada\, sus murallas en forma de cremallera\, su castillo roquedo\, o sus puertas fortificadas y acodadas\, son una muestra singular. \n\n\n\nUn completo programa de actividades se desarrolla durante nueve días\, con propuestas tan significativas como la Feria de la Tapa Medieval\, las exposiciones sobre historia local y regional\, los campamentos y mercados medievales recreados\, el torneo medieval\, las batallas al pie de la muralla… Cada año\, el espíritu de Don Álvaro\, guerrero\, político y hombre de letras\, verdadero representante de su siglo\, vuelve a reinar en su villa natal. \n\n\n\n \n\n\n\nDescripción de la localidad\n\n\n\nCañete es un municipio español de la provincia de Cuenca\, perteneciente a la comunidad autónoma de Castilla-La Mancha. Está situado en la comarca de la Serranía Baja\, a unos 70 km de la capital provincial. \n\n\n\n\n\n \n\n\n\nPara más información puedes consultar :\n\n\n\n\nPuedes Consultar en esté enlace las Ferias y Mercados en España\n\n\n\nHaz clic en ESTE enlace :  Conoce los Organizadores de Mercados y Ferias\n\n\n\n\n\n\n\n\n¿Te apuntas? Dale follow y no te lo pierdas.\n\n\n\n\nTelegram: Recibe nuestras noticias y contenido exclusivo (clic aquí).\n\n\n\nNewsletter: Recibe un correos con nuestras últimas noticias (clic aquí).\n\n\n\nWhatsApp: Suscríbete para seguirnos en nuestro canal (clic aquí).\n\n\n\nInstagram: Síguenos en Instagram ( clic aquí )\n\n\n\n\nEn Resumen…
URL:https://demercadosmedievales.info/mercadomedieval/la-alvarada-medieval-de-canete-2026/
LOCATION:Cañete (Cuenca)\, Cañete\, Cuenca\, España
CATEGORIES:Castilla La Mancha,Cuenca,Mercado Medieval
ATTACH;FMTTYPE=image/jpeg:https://demercadosmedievales.info/wp-content/uploads/2025/09/f_alvarada_canete.jpg
ORGANIZER;CN="Ayuntamiento de Ca%C3%B1ete":MAILTO:canete.isabel@gmail.com
END:VEVENT
END:VCALENDAR