BEGIN:VCALENDAR
VERSION:2.0
PRODID:-//Mercados Medievales - ECPv6.15.20//NONSGML v1.0//EN
CALSCALE:GREGORIAN
METHOD:PUBLISH
X-ORIGINAL-URL:https://demercadosmedievales.info
X-WR-CALDESC:Eventos para Mercados Medievales
REFRESH-INTERVAL;VALUE=DURATION:PT1H
X-Robots-Tag:noindex
X-PUBLISHED-TTL:PT1H
BEGIN:VTIMEZONE
TZID:Europe/Madrid
BEGIN:DAYLIGHT
TZOFFSETFROM:+0100
TZOFFSETTO:+0200
TZNAME:CEST
DTSTART:20250330T010000
END:DAYLIGHT
BEGIN:STANDARD
TZOFFSETFROM:+0200
TZOFFSETTO:+0100
TZNAME:CET
DTSTART:20251026T010000
END:STANDARD
BEGIN:DAYLIGHT
TZOFFSETFROM:+0100
TZOFFSETTO:+0200
TZNAME:CEST
DTSTART:20260329T010000
END:DAYLIGHT
BEGIN:STANDARD
TZOFFSETFROM:+0200
TZOFFSETTO:+0100
TZNAME:CET
DTSTART:20261025T010000
END:STANDARD
BEGIN:DAYLIGHT
TZOFFSETFROM:+0100
TZOFFSETTO:+0200
TZNAME:CEST
DTSTART:20270328T010000
END:DAYLIGHT
BEGIN:STANDARD
TZOFFSETFROM:+0200
TZOFFSETTO:+0100
TZNAME:CET
DTSTART:20271031T010000
END:STANDARD
END:VTIMEZONE
BEGIN:VEVENT
DTSTART;TZID=Europe/Madrid:20260130T000000
DTEND;TZID=Europe/Madrid:20260201T235959
DTSTAMP:20260420T101736
CREATED:20260126T105829Z
LAST-MODIFIED:20260126T105831Z
UID:10003099-1769731200-1769990399@demercadosmedievales.info
SUMMARY:Mercado Medieval en Canet de Berenguer por San Antón 2026
DESCRIPTION:El Mercado Medieval en Canet de Berenguer se celebra del 30 de enero al 01 de febrero con motivo de las tradicionales Fiestas de San Antón \n\n\n\n\n\n\n\n \n\n\n\nRevive la Edad Media con el Mercado Medieval en Canet de Berenguer\n\n\n\nEl Mercado Medieval en Canet de Berenguer se celebrará del 30 de enero al 1 de febrero\, en el marco de las Fiestas de San Antón\, formando parte de la programación festiva anual del municipio. Durante estos días\, diferentes espacios de la localidad acogerán un mercado temático ambientado en la Edad Media\, dirigido a público de todas las edades. \n\n\n\nEl evento contará con una amplia presencia de puestos de artesanía\, alimentación y gastronomía\, donde se podrán encontrar productos elaborados de forma tradicional\, así como propuestas gastronómicas pensadas para el consumo directo. La oferta se complementará con actividades de animación\, creando un ambiente continuo a lo largo de la jornada. \n\n\n\n \n\n\n\nProgramación del Mercado Medieval en Canet de Berenguer por San Antón 2026\n\n\n\n\n\n\n\n \n\n\n\nInformación básica del Mercado Medieval en Canet de Berenguer\n\n\n\nEvento: Mercado Medieval en Canet de BerenguerFechas: Del 30 de enero al 01 de febrero del 2026Horario: Por confirmarUbicación: Canet de Berenguer ( VALENCIA )Montaje: Dia 30Desmontaje: Dia 01 de Febrero al finalizar el mercadoInauguración: El día 30 de EneroPeriodicidad: AnualProductos permitidos: Artesanía\, alimentación\, gastronomíaServicios incluidos: Animación\, seguridad\, luz\, publicidadOrganiza:  GUIELANDUS  Información e inscripciones: guielandus@hotmail.com \n\n\n\n \n\n\n\n\n\n\n\n\n\n\nCanet de Berenguer\, tradición y mar con historia\n\n\n\nCanet de Berenguer es un municipio de la Comunidad Valenciana\, España. Perteneciente a la provincia de Valencia\, en la comarca del Campo de Murviedro. \n\n\n\nEs una localidad costera de la provincia de VALENCIA\, conocida por sus playas\, su ambiente acogedor y su fuerte arraigo a las tradiciones populares. Gracias a su combinación de patrimonio cultural y entorno mediterráneo\, el municipio se convierte en un escenario ideal para la celebración de eventos temáticos como el Mercado Medieval\, que refuerzan su atractivo turístico y cultural durante todo el año. \n\n\n\n\n\n\n\n\n\n\n\n\n  \n\n\n\nMercados Medievales\n\n\n\n \n\n\n\nMercados Medievales 2026: Fechas y Localidades Confirmadas\n\n\n\nEspaña cuenta con una de las agendas de ferias temáticas más ricas del mundo\, combinando gastronomía tradicional\, artesanía de autor y espectáculos en vivo. Si buscas un plan diferente para el fin de semana o quieres conocer el patrimonio de una forma única\, esta es tu guía definitiva. Leer más \n\n\n\n \n\n\n\nPara más información puedes consultar :\n\n\n\n\nPuedes Consultar en esté enlace las  Ferias y Mercados en España\n\n\n\nHaz clic en ESTE enlace :  Conoce los Organizadores de Mercados y Ferias\n\n\n\n\n\n\n\n\n\n\n\n \n\n\n\n¿Te apuntas? Síguenos y no te pierdas de nada.\n\n\n\n\nTelegram\n\n\n\nNewsletter\n\n\n\nWhatsApp\n\n\n\nInstagram\n\n\n\nPor supuesto en Facebook\n\n\n\n\nEn Resumen..
URL:https://demercadosmedievales.info/mercadomedieval/mercado-medieval-en-canet-de-berenguer-por-san-anton-2026/
LOCATION:Navarre
CATEGORIES:Cartel,Comunidad valenciana,Mercado Medieval,Programación,Valencia
ATTACH;FMTTYPE=image/jpeg:https://demercadosmedievales.info/wp-content/uploads/2026/01/cartel-programa-cant-den-berenguer.jpg
ORGANIZER;CN="Guielandus Dagda":MAILTO:guielandus@hotmail.com
END:VEVENT
BEGIN:VEVENT
DTSTART;TZID=Europe/Madrid:20260130T000000
DTEND;TZID=Europe/Madrid:20260201T235959
DTSTAMP:20260420T101736
CREATED:20260126T121456Z
LAST-MODIFIED:20260126T121806Z
UID:10003059-1769731200-1769990399@demercadosmedievales.info
SUMMARY:¡Novedad! Mercado Medieval de Viana\, Navarra 2026
DESCRIPTION:Viana se prepara para viajar en el tiempo con uno de los eventos más esperados del invierno en Navarra. Con motivo de sus fiestas fundacionales\, la localidad acogerá el Mercado Medieval de Viana 2026\, una cita cargada de historia\, tradición y ambiente medieval que convertirá sus calles en un auténtico escenario del siglo XIII. \n\n\n\n\n\n\n\n \n\n\n\n“Mercado Medieval de Viana\, Fiesta Medieval de la Fundación ”\n\n\n\nEste Mercado Medieval de Viana no solo es una celebración festiva\, sino también un homenaje a la historia de Viana. Un hecho clave tuvo lugar el 14 de enero de 1219\, día de San Félix\, cuando comenzaron las obras de fundación de la ciudad. Poco después\, el 1 de febrero\, se colocó la primera piedra en un antiguo portal\, posteriormente destruido durante las guerras carlistas. \n\n\n\n \n\n\n\nProgramación del Mercado Medieval de Viana\n\n\n\nHorario del Mercado : \n\n\n\n\nViernes : 18 a 20 h\n\n\n\nSábado : 11 a 14h y de 16 a 20h\n\n\n\nDomingo : 11 a 14h \n\n\n\n\nUbicación Tidón\, Plaza Urra y Serapio Urra.  \n\n\n\n\n\n\n\n \n\n\n\n\n\n\n\n \n\n\n\n\n\n\n\n \n\n\n\n\n\n\n\n \n\n\n\nInformación del Mercado Medieval de Viana\n\n\n\n\nFecha: Del 30 de Enero al 01 de Febrero de  2026 \n\n\n\nLugar: en el centro de Viana\n\n\n\nPoblación: Viana\, NAVARRA / Viana es un municipio y una ciudad española de la Comunidad Foral de Navarra. Situada en la merindad de Estella\, en la comarca de Estella Occidental y a 81 km de la capital de la comunidad\, Pamplona. Su población en 2017 era de 4078 habitantes.\n\n\n\nPeriodicidad: Anual\n\n\n\nOferta a exponer:  Artesanía y relacionados\, Alimentación y gastronomía\n\n\n\nEntidad organizadora: Balconet Mervados Temáticos\, responsable de la gestión de inscripciones\, tarifas y requisitos de participación.\n\n\n\nPrecio : Consultar\n\n\n\n\nRequisitos de participación en el Mercado Medieval de Viana:\n\n\n\n\nProductos artesanales o relacionados.\n\n\n\nDecoración acorde al ambiente medieval en el puesto.\n\n\n\nCompromiso con las normas del evento.\n\n\n\nDocumentación al día .\n\n\n\n\nInscripción\, tarifas y requisitos específicos\, contacta a través del Correo electrónico:  balconetmedieval@gmail.com .   \n\n\n\n Cartel oficial del  Mercado Medieval de Viana\, La Fiesta Medieval de la Fundación\n\n\n\n\n\n\n\n \n\n\n\n“Viana\, cuna de historia viva en Navarra.”\n\n\n\nViana es una histórica localidad de Navarra situada junto al Camino de Santiago\, a pocos kilómetros de Logroño. Con un importante legado medieval\, murallas\, iglesias y plazas llenas de encanto\, es un lugar perfecto para celebrar eventos de recreación histórica. Su tradición cultural\, su patrimonio artístico y su ambiente acogedor convierten a Viana en un destino ideal tanto para visitantes como para expositores. \n\n\n\n\n\n\n\n\n\nSobre los Mercados Medievales\n\n\n\nLas ferias medievales son eventos que recrean la atmósfera de la Edad Media. Por lo general\, se llevan a cabo en pueblos o ciudades\, y presentan puestos de vendedores que venden artesanías\, alimentos y bebidas. También puede haber entretenimiento\, como justas\, música y baile. \n\n\n\nPara más información puedes consultar :\n\n\n\n\nConsulta las fechas de las próximas Ferias y Mercados en España\n\n\n\nHaz clic en ESTE enlace :  Conoce los Organizadores de Mercados y Ferias\n\n\n\n\nSi quieres seguirnos en las Redes Sociales\, aquí te dejamos los enlaces :\n\n\n\n\nTelegram\n\n\n\nNewsletter\n\n\n\nWhatsApp\n\n\n\nInstagram\n\n\n\nPor supuesto en Facebook\n\n\n\n\nEn Resumen…
URL:https://demercadosmedievales.info/mercadomedieval/mercado-medieval-de-viana-navarra-2026/
LOCATION:Viana (Navarra) (***)\, Viana\, Comunidad foral de Navarra\, 31230\, Spain
CATEGORIES:Cartel,Comunidad Foral de Navarra,Mercado Medieval,Navarra,Programación
ATTACH;FMTTYPE=image/jpeg:https://demercadosmedievales.info/wp-content/uploads/2025/12/medieval_viana_2026_fb.jpg
ORGANIZER;CN="Balconet Mercados Tem%C3%A1ticos":MAILTO:balconetmedieval@gmail.com
GEO:42.5154477;-2.372724
END:VEVENT
BEGIN:VEVENT
DTSTART;TZID=Europe/Madrid:20260130T000000
DTEND;TZID=Europe/Madrid:20260201T235959
DTSTAMP:20260420T101736
CREATED:20260128T121747Z
LAST-MODIFIED:20260130T165543Z
UID:10002984-1769731200-1769990399@demercadosmedievales.info
SUMMARY:Mercado Medieval de Orihuela 2026 (ALICANTE)
DESCRIPTION:El Mercado Medieval de Orihuela 2026  (Alicante) regresa para celebrar su XXII edición\, del 30 y 31 de enero al 1 de febrero\, en el corazón del Centro Histórico de la ciudad. \n\n\n\n\n\n\n\n \n\n\n\nActualización\n\n\n\n⚠️ 𝗔𝘃𝗶𝘀𝗼 𝗶𝗺𝗽𝗼𝗿𝘁𝗮𝗻𝘁𝗲 \n\n\n\nAnte la 𝗮𝗹𝗲𝗿𝘁𝗮 𝗻𝗶𝘃𝗲𝗹 𝗻𝗮𝗿𝗮𝗻𝗷𝗮 decretada por el Centro de Coordinación de Emergencias de la Generalitat\, el Ayuntamiento de Orihuela 𝘀𝘂𝘀𝗽𝗲𝗻𝗱𝗲 𝗱𝘂𝗿𝗮𝗻𝘁𝗲 𝗹𝗮 𝗺𝗮𝗻̃𝗮𝗻𝗮 𝗱𝗲𝗹 𝘀𝗮́𝗯𝗮𝗱𝗼 𝟯𝟭 𝗱𝗲 𝗲𝗻𝗲𝗿𝗼: \n\n\n\n🚫 𝗠𝗲𝗿𝗰𝗮𝗱𝗼 𝗠𝗲𝗱𝗶𝗲𝘃𝗮𝗹 (𝗵𝗮𝘀𝘁𝗮 𝗹𝗮𝘀 𝟭𝟯:𝟬𝟬 𝗵) \n\n\n\n🚫 𝗠𝗲𝗿𝗰𝗮𝗱𝗼𝘀 𝗮𝗺𝗯𝘂𝗹𝗮𝗻𝘁𝗲𝘀 \n\n\n\n🚫 𝗔𝗰𝘁𝗶𝘃𝗶𝗱𝗮𝗱𝗲𝘀 𝗱𝗲𝗽𝗼𝗿𝘁𝗶𝘃𝗮𝘀 𝘆 𝗮𝗹 𝗮𝗶𝗿𝗲 𝗹𝗶𝗯𝗿𝗲 (𝗽𝗼𝗿 𝗹𝗮 𝗺𝗮𝗻̃𝗮𝗻𝗮) \n\n\n\n👉 Las actividades deportivas y al aire libre podrán retomarse a partir de las 17:00 h\, si la evolución meteorológica lo permite. \n\n\n\n👮‍♀️🚒 Protección Civil\, Policía Local y Emergencias mantienen activo un dispositivo de seguimiento. \n\n\n\n⚠️ Recomendamos evitar desplazamientos innecesarios y extremar la precaución. \n\n\n\nℹ️ Las medidas podrán modificarse en función de la evolución del tiempo. Seguiremos informando. \n\n\n\n  \n\n\n\n“Orihuela\, un viaje a la Edad Media entre historia y tradición.”\n\n\n\nOrganizado por La Fragua de Vulcano\, este emblemático evento es uno de los más esperados del calendario nacional de ferias temáticas\, atrayendo cada año a miles de visitantes y a centenares de artesanos\, artistas y mercaderes de todo el país. \n\n\n\nDurante tres días\, las calles de Orihuela se transforman en un auténtico escenario medieval con puestos de artesanía\, gastronomía\, espectáculos de animación\, música\, cetrería\, teatro de calle y actividades familiares que envuelven al visitante en una experiencia única. \n\n\n\n⚠️ Importante: Debido a la alta demanda\, la inscripción para artesanos y mercaderes ya está abierta.Si deseas participar\, contacta cuanto antes para recibir toda la información sobre condiciones y requisitos. \n\n\n\n📧 Información e inscripciones:gestion@espectaculosamb.com \n\n\n\n \n\n\n\nProgramación del Mercado Medieval de Orihuela 2026 \n\n\n\n\n\n\n\n \n\n\n\n\n\n\n\n\n\n\n\n \n\n\n\n\n\n\n\n \n\n\n\n\n\n\n\n \n\n\n\n\n\n\n\n🕰️ Datos resumidos del Mercado Medieval de Orihuela 2026 \n\n\n\n📍 Ubicación: Centro Histórico de Orihuela (ALICANTE)📅 Fechas: Del 30 y 31 de enero al 1 de febrero de 2026🎪 Edición: XXII🎭 Temática: Mercado Medieval📧 Contacto: gestion@espectaculosamb.com🏗️ Organiza: La Fragua de Vulcano \n\n\n\n \n\n\n\nCartel oficial de la XXVI edición del Mercado Medieval de Orihuela 2026 \n\n\n\nMercado Medieval de Orihuela 2026 \n\n\n\nAdelantamiento de la programación del Mercado Medieval de Orihuela 2026 \n\n\n\n\nViernes\, 11.30: Pasacalles desde la puerta de la Olma en Santo Domingo hasta el ayuntamiento.\n\n\n\nSábado\, 11.00 horas: Pregón de la Armengola (pasacalles desde la Puerta de la Olma hasta el Ayuntamiento). Bienvenida y lectura del pregón desde el Balcón del Ayuntamiento.\n\n\n\nDomingo\, 20.00 horas: Cierre del Mercado Medieval con un gran desfile por todo el itinerario con grupos de animación\, música y teatro.\n\n\n\n\n \n\n\n\n🏙️ Descripción de la localidad\n\n\n\nOrihuela\, situada al sur de la provincia de Alicante\, es una ciudad monumental y llena de vida cultural. Con su impresionante casco histórico\, su catedral\, palacios y estrechas calles de trazado medieval\, Orihuela se convierte cada año en un escenario ideal para revivir su pasado a través de uno de los mercados medievales más grandes y reconocidos de España. \n\n\n\n\n\n \n\n\n\nMercados Medievales 2026: Fechas y Localidades Confirmadas\n\n\n\n\n\n\n\nEspaña cuenta con una de las agendas de ferias temáticas más ricas del mundo\, combinando gastronomía tradicional\, artesanía de autor y espectáculos en vivo. Si buscas un plan diferente para el fin de semana o quieres conocer el patrimonio de una forma única\, esta es tu guía definitiva. Leer más \n\n\n\nPara más información puedes consultar :\n\n\n\n\nPuedes Consultar en esté enlace las  Ferias y Mercados en España\n\n\n\nHaz clic en ESTE enlace :  Conoce los Organizadores de Mercados y Ferias\n\n\n\n\n¿Te apuntas? Síguenos y no te pierdas de nada.\n\n\n\n\nTelegram\n\n\n\nNewsletter\n\n\n\nWhatsApp\n\n\n\nInstagram\n\n\n\nPor supuesto en Facebook\n\n\n\n\nEn Resumen…
URL:https://demercadosmedievales.info/mercadomedieval/mercado-medieval-de-orihuela-2026-preinscripcion-abierta/
LOCATION:Orihuela (Alicante) (***)\, Orihuela\, Alicante\, Spain
CATEGORIES:Alicante,Cartel,Comunidad valenciana,Mercado Medieval,Programación
ATTACH;FMTTYPE=image/jpeg:https://demercadosmedievales.info/wp-content/uploads/2025/12/medieval_orihuela_2026_fb_1.jpg
ORGANIZER;CN="La Fragua de Vulcano":MAILTO:lafragua@espectaculosamb.com
GEO:38.0855352;-0.9480358
END:VEVENT
END:VCALENDAR