BEGIN:VCALENDAR
VERSION:2.0
PRODID:-//Mercados Medievales - ECPv6.15.20//NONSGML v1.0//EN
CALSCALE:GREGORIAN
METHOD:PUBLISH
X-WR-CALNAME:Mercados Medievales
X-ORIGINAL-URL:https://demercadosmedievales.info
X-WR-CALDESC:Eventos para Mercados Medievales
REFRESH-INTERVAL;VALUE=DURATION:PT1H
X-Robots-Tag:noindex
X-PUBLISHED-TTL:PT1H
BEGIN:VTIMEZONE
TZID:Europe/Madrid
BEGIN:DAYLIGHT
TZOFFSETFROM:+0100
TZOFFSETTO:+0200
TZNAME:CEST
DTSTART:20240331T010000
END:DAYLIGHT
BEGIN:STANDARD
TZOFFSETFROM:+0200
TZOFFSETTO:+0100
TZNAME:CET
DTSTART:20241027T010000
END:STANDARD
BEGIN:DAYLIGHT
TZOFFSETFROM:+0100
TZOFFSETTO:+0200
TZNAME:CEST
DTSTART:20250330T010000
END:DAYLIGHT
BEGIN:STANDARD
TZOFFSETFROM:+0200
TZOFFSETTO:+0100
TZNAME:CET
DTSTART:20251026T010000
END:STANDARD
BEGIN:DAYLIGHT
TZOFFSETFROM:+0100
TZOFFSETTO:+0200
TZNAME:CEST
DTSTART:20260329T010000
END:DAYLIGHT
BEGIN:STANDARD
TZOFFSETFROM:+0200
TZOFFSETTO:+0100
TZNAME:CET
DTSTART:20261025T010000
END:STANDARD
END:VTIMEZONE
BEGIN:VEVENT
DTSTART;TZID=Europe/Madrid:20251205T000000
DTEND;TZID=Europe/Madrid:20251208T235959
DTSTAMP:20260420T135710
CREATED:20251122T191013Z
LAST-MODIFIED:20251122T191014Z
UID:10002918-1764892800-1765238399@demercadosmedievales.info
SUMMARY:MERCADO MEDIEVAL DE MAZARRÓN (Murcia) 2025
DESCRIPTION:La magia de la Edad Media llega a Mazarrón (Murcia) con un espectacular Mercado Medieval que llenará sus calles de historia\, color y animación durante los días 5\, 6\, 7 y 8 de diciembre. \n\n\n\n\n\n\n\n \n\n\n\nMazarrón viaja al corazón de la Edad Media\n\n\n\nEl evento\, organizado por La Fragua de Vulcano\, transformará el centro urbano en un auténtico viaje al pasado\, con puestos de artesanía\, gastronomía tradicional\, exhibiciones\, teatro de calle\, pasacalles de gran formato\, rincón infantil\, atracciones y cetrería. \n\n\n\nUn fin de semana para disfrutar en familia y revivir la atmósfera medieval entre estandartes\, melodías y sabores de antaño. \n\n\n\n📩 Si eres artesano o mercader\, envía tu solicitud cuanto antes para tramitar tu participación y asegurar tu plaza en este gran evento histórico. \n\n\n\n \n\n\n\nInformación : \n\n\n\n📅 Fechas de celebración: 5\, 6\, 7 y 8 de diciembre🕘 Montaje: Pendiente de confirmar📍 Ubicación: Plaza Ramón y Cajal\, C/ Escultor Roque López\, C/ Francisca Ureña Sánchez y C/ Vicente Medina🏰 Organiza: La Fragua de Vulcano📧 Información e inscripciones: gestion@espectaculosamb.com \n\n\n\n \n\n\n\n\n\n\n\n \n\n\n\n🧭 DESCRIPCIÓN DE MAZARRÓN (MURCIA)\n\n\n\nMazarrón\, en la costa de la Región de Murcia\, es una localidad con historia milenaria\, rica en patrimonio minero\, tradiciones marineras y un entorno natural privilegiado entre el mar y la montaña. Su centro urbano\, animado y hospitalario\, acoge durante todo el año ferias\, mercados y celebraciones que llenan de vida sus calles.Durante el Mercado Medieval\, Mazarrón se transforma en un escenario histórico donde vecinos y visitantes disfrutan de la magia del pasado en un ambiente festivo único. \n\n\n\n\n\n \n\n\n\nPara más información puedes consultar :\n\n\n\n\nPuedes Consultar en esté enlace las Ferias y Mercados en España\n\n\n\nHaz clic en ESTE enlace :  Conoce los Organizadores de Mercados y Ferias\n\n\n\n\n\n\n\n\n¿Te apuntas? Dale follow y no te lo pierdas.\n\n\n\n\nTelegram: Recibe nuestras noticias y contenido exclusivo (clic aquí).\n\n\n\nNewsletter: Recibe un correos con nuestras últimas noticias (clic aquí).\n\n\n\nWhatsApp: Suscríbete para seguirnos en nuestro canal (clic aquí).\n\n\n\nInstagram: Síguenos en Instagram ( clic aquí )\n\n\n\n\nEn Resumen…\n\n\n\n⚔️ Mercado Medieval en #Mazarrón (Murcia) del 5 al 8 de diciembre🎭 Artesanía\, teatro\, cetrería y ambiente histórico📧 gestion@espectaculosamb.com \n\n\n\nMás información :  https://demercadosmedievales.info/mercadomedieval/mercado-medieval-de-mazarron-murcia-2025/
URL:https://demercadosmedievales.info/mercadomedieval/mercado-medieval-de-mazarron-murcia-2025/
LOCATION:Mazarron (Murcia)\, Mazarron\, Region de Murcia\, España
CATEGORIES:Cartel,Mercado Medieval,Region de Murcia
ATTACH;FMTTYPE=image/jpeg:https://demercadosmedievales.info/wp-content/uploads/2025/11/medieval_mazarron_facebook-1.jpg
ORGANIZER;CN="La Fragua de Vulcano":MAILTO:lafragua@espectaculosamb.com
END:VEVENT
BEGIN:VEVENT
DTSTART;TZID=Europe/Madrid:20251205T000000
DTEND;TZID=Europe/Madrid:20251208T235959
DTSTAMP:20260420T135710
CREATED:20251126T095359Z
LAST-MODIFIED:20251126T191154Z
UID:10002872-1764892800-1765238399@demercadosmedievales.info
SUMMARY:Vive la XXI Edición del Mercado Medieval de Caravaca de la Cruz 2025: tradición\, arte y magia en diciembre
DESCRIPTION:Disfruta del Mercado Medieval de Caravaca de la Cruz del 5 al 8 de diciembre con artesanía\, gastronomía\, atracciones y espectáculos únicos. Pasacalles inaugural y pregón de apertura el día Viernes 5 de Diciembre\, a las 18 horas. \n\n\n\n\n\n\n\n \n\n\n\nDurante el puente de diciembre (del 5 al 8 de diciembre de 2025)\, la histórica ciudad de Caravaca de la Cruz (Murcia) se transformará para celebrar la XXI edición del Mercado Medieval\, un evento que transporta a vecinos y visitantes al esplendor del Medievo. \n\n\n\nEl mercado se ubicará en el casco urbano y reunirá a artesanos\, mercaderes y artistas que ofrecerán una amplia variedad de productos de alimentación\, decoración y regalo\, muchos de ellos elaborados en directo. \n\n\n\nLos visitantes podrán disfrutar de demostraciones de oficios antiguos\, como forja\, panadería\, cerámica\, tallado en madera\, vidriería o hilado de seda. Los más pequeños podrán participar en talleres interactivos y actividades educativas. \n\n\n\nEl evento contará además con espectáculos gratuitos\, animación de calle y actuaciones de música y teatro medieval\, convirtiendo Caravaca de la Cruz en un punto de encuentro ideal para toda la familia. \n\n\n\n \n\n\n\nProgramación del Mercado Medieval \n\n\n\n\n\n\n\n \n\n\n\n\n\n\n\n \n\n\n\n\n\n\n\n \n\n\n\n\n\n\n\n \n\n\n\n\n\n\n\n \n\n\n\n \n\n\n\nDatos técnicos \n\n\n\n🛡️ Organiza: Rivendel Mercados Temáticos📞 Teléfono (horario de oficina): 613 32 44 81📧 Email: mercados@rivendelmercados.com🌐 Web: https://rivendelmercados.com \n\n\n\n \n\n\n\n\n\n\n\n \n\n\n\n\n\n\n\n🌍 Descripción de la localidad:\n\n\n\nCaravaca de la Cruz\, uno de los cinco lugares santos del cristianismo\, destaca por su impresionante patrimonio histórico y religioso. Sus calles empedradas\, iglesias y plazas ofrecen un escenario perfecto para este mercado medieval\, que se ha convertido en una de las citas más esperadas de la Región de Murcia. \n\n\n\n\n\n \n\n\n\n\n\n\n\n\nSíguenos en Telegram : \n\n\n\n\n\n\n\n\nPara más información puedes consultar :\n\n\n\n\nPuedes Consultar en esté enlace las Ferias y Mercados en España\n\n\n\nHaz clic en ESTE enlace :  Conoce los Organizadores de Mercados y Ferias\n\n\n\n\n\n\n\n\n¿Te apuntas? Dale follow y no te lo pierdas.\n\n\n\n\nTelegram: Recibe nuestras noticias y contenido exclusivo (clic aquí).\n\n\n\nNewsletter: Recibe un correos con nuestras últimas noticias (clic aquí).\n\n\n\nWhatsApp: Suscríbete para seguirnos en nuestro canal (clic aquí).\n\n\n\nInstagram: Síguenos en Instagram ( clic aquí )\n\n\n\n\nEn Resumen…\n\n\n\n✨ ¡Vuelve la magia medieval a Caravaca de la Cruz!📅 Del 5 al 8 de diciembre disfruta del XXI Mercado Medieval\, con artesanía\, talleres y espectáculos para toda la familia.📍 Casco urbano de Caravaca – Murcia🛡️ Organiza: Rivendel Mercados Temáticos📞 613 32 44 81 | ✉️ mercados@rivendelmercados.com🌐 rivendelmercados.com#CaravacaDeLaCruz #MercadoMedieval #Murcia #RivendelMercados
URL:https://demercadosmedievales.info/mercadomedieval/vive-la-xxi-edicion-del-mercado-medieval-de-caravaca-de-la-cruz-2025-tradicion-arte-y-magia-en-diciembre/
LOCATION:Caravaca de la Cruz (Murcia) (***)\, Caravaca de la Cruz\, Región de Murcia\, 30400\, Spain
CATEGORIES:Mercado Medieval,Murcia
ATTACH;FMTTYPE=image/jpeg:https://demercadosmedievales.info/wp-content/uploads/2025/11/Triptico-XXI-Mercadillo-Medieval-2025-RGB_page-0001.jpg
ORGANIZER;CN="Rivendel mercados tem%C3%A1ticos":MAILTO:mercados@rivendelmercados.com
GEO:38.1041892;-1.8609152
END:VEVENT
BEGIN:VEVENT
DTSTART;TZID=Europe/Madrid:20251205T000000
DTEND;TZID=Europe/Madrid:20251208T235959
DTSTAMP:20260420T135710
CREATED:20251203T193451Z
LAST-MODIFIED:20251203T193452Z
UID:10002900-1764892800-1765238399@demercadosmedievales.info
SUMMARY:MERCADO MEDIEVAL DE CASTELLÓ DE LA PLANA – 2025
DESCRIPTION:Macro Desfiles Con Un Sinfín De Participantes\, Antiguos Oficios\, Grupos De Animación De Calle\, Zancudos\, Juglares\, Bufones\, Trovadores\, Grupos De Música….. \n\n\n\n\n\n\n\n \n\n\n\n  \n\n\n\n_____________________________________________________________________________ \n\n\n\n¿QUÉ DEBO HACER PARA SOLICITAR PARTICIPAR EN ESTE EVENTO? \n\n\n\nPara tramitar y valorar vuestra solicitud\, debéis enviar un email a mercados@culthisme.com con la siguiente información (NO SE ATENDERÁN SOLICITUDES A LAS QUE LES FALTE CUALQUIERA DE ESTOS APARTADOS): \n\n\n\n\nA QUÉ FERIA(S) DESEA ASISTIR\n\n\n\n\n\nNOMBRE\, APELLIDOS Y TELÉFONO DE CONTACTO\n\n\n\n\n\nFOTOS DE LA PARADA (QUE SE VEA LA PARADA ENTERA Y EL PRODUCTO)\n\n\n\n\n\nBREVE DESCRIPCIÓN DE LOS PRODUCTOS QUE VENDÉIS\n\n\n\n\n\nCANTIDAD DE METROS QUE OCUPA LA PARADA (METROS LINEALES Y DE FONDO)\n\n\n\n\n \n\n\n\n\n\n\n\n \n\n\n\nMERCADO MEDIEVAL DE CASTELLÓ DE LA PLANA – CENTRO CIUDAD\n\n\n\nDEL 5 AL 8 DE DICIEMBRE 2025\n\n\n\n(3\,5 DÍAS)\n\n\n\nESTE AÑO NUESTRA EMPRESA PONDRÁ A DISPOSICIÓN DEL EVENTO: MACRO DESFILES CON UN SINFÍN DE PARTICIPANTES\, ANTIGUOS OFICIOS\, GRUPOS DE ANIMACIÓN DE CALLE\, ZANCUDOS\, JUGLARES\, BUFONES\, TROVADORES\, GRUPOS DE MÚSICA\, RINCÓN INFANTIL\, TITERES\, PARTICIPACIÓN DE ASOCIACIONES DE RECREACIÓN HISTÓRICA\, Y UN SINFÍN DE ATRACCIONES MÁS. \n\n\n\nCOMO EN TODOS NUESTROS EVENTOS\, ESTE MERCADO CONTARÁ CON UNA GRAN PUBLICIDAD A NIVEL DE CARTELERÍA\, FLYERS\, REDES SOCIALES\, MEDIOS DE COMUNICACIÓN\, RUEDA DE PRENSA\, ETC. ASÍ COMO SEGURIDAD PRIVADA DURANTE LAS HORAS DE NO FUNCIONAMIENTO DEL EVENTO. \n\n\n\nOs recordamos que nos comprometemos siempre a dar respuesta a todas las solicitudes\, tanto si podemos como si no podemos daros cabida. Recibimos muchas solicitudes a lo largo del año y a veces nos demoramos un poco en dar respuesta. Rogamos tengáis paciencia. Muchas gracias de antemano por vuestra comprensión. \n\n\n\nSin otro particular\, quedando a la espera de vuestras noticias\, un afectuoso saludo. \n\n\n\n\n\n\n\n \n\n\n\n🌆 Descripción de Castellón de la Plana (Castelló)\n\n\n\nCastellón de la Plana\, capital de la provincia de Castellón en la Comunidad Valenciana\, es una ciudad que combina historia\, modernidad y encanto mediterráneo. Situada entre el mar y la montaña\, ofrece una mezcla perfecta de cultura\, naturaleza y tradición. \n\n\n\nSu centro histórico conserva monumentos emblemáticos como la Concatedral de Santa María\, el Fadrí —la torre campanario símbolo de la ciudad— y el Ayuntamiento neoclásico\, rodeados de calles llenas de vida\, comercios y terrazas. \n\n\n\nCastellón es también una ciudad de fiestas y tradiciones\, destacando la Magdalena\, declarada Fiesta de Interés Turístico Internacional\, que conmemora los orígenes de la ciudad con desfiles\, música y fuegos artificiales. \n\n\n\nA pocos kilómetros del casco urbano se encuentra el Grao de Castellón\, su distrito marítimo\, con playas amplias\, puerto deportivo y una gran oferta gastronómica y cultural. \n\n\n\nDurante todo el año\, la ciudad acoge ferias\, mercados temáticos\, eventos culturales y festivales\, que atraen a visitantes de toda España. Su clima templado\, su ambiente acogedor y su riqueza patrimonial hacen de Castellón de la Plana un destino ideal para disfrutar del Mediterráneo con autenticidad. \n\n\n\n\n\n \n\n\n\nPara más información puedes consultar :\n\n\n\n\nPuedes Consultar en esté enlace las Ferias y Mercados en España\n\n\n\nHaz clic en ESTE enlace :  Conoce los Organizadores de Mercados y Ferias\n\n\n\n\n\n\n\n\n¿Te apuntas? Dale follow y no te lo pierdas.\n\n\n\n\nTelegram: Recibe nuestras noticias y contenido exclusivo (clic aquí).\n\n\n\nNewsletter: Recibe un correos con nuestras últimas noticias (clic aquí).\n\n\n\nWhatsApp: Suscríbete para seguirnos en nuestro canal (clic aquí).\n\n\n\nInstagram: Síguenos en Instagram ( clic aquí )\n\n\n\n\nEn Resumen…
URL:https://demercadosmedievales.info/mercadomedieval/mercado-medieval-de-castello-de-la-plana-2025/
LOCATION:Castellón de la Plana (***)\, Castellon de la plana\, Castellón\, España
CATEGORIES:Castellon,Comunidad valenciana,Mercado Medieval
ATTACH;FMTTYPE=image/jpeg:https://demercadosmedievales.info/wp-content/uploads/2025/10/medieval_castellon_cartel_2025-ig.jpg
ORGANIZER;CN="Culthisme":MAILTO:mercados@culthisme.com
GEO:40.0017505;-0.0559939
END:VEVENT
BEGIN:VEVENT
DTSTART;TZID=Europe/Madrid:20251206T000000
DTEND;TZID=Europe/Madrid:20251208T235959
DTSTAMP:20260420T135710
CREATED:20251010T083050Z
LAST-MODIFIED:20251010T085611Z
UID:10002188-1764979200-1765238399@demercadosmedievales.info
SUMMARY:Mercado Cervantino en Esquivias (Toledo) 2025
DESCRIPTION:Esquivias se viste como en el Siglo de Oro para el mes de Diciembre. Un año más vuelve el Mercado Cervantino  al centro de Esquivias. \n\n\n\n\n\n\n\nMercado Cervantino\n\n\n\n\n\n\n\nInformación del evento\n\n\n\n\nFecha:  06 al 08 de Diciembre de  2025 \n\n\n\nPlazo de inscripción : Hasta completar el número de paradas o el espacio asignado por el ayuntamiento\n\n\n\nLugar: Plaza de España.\n\n\n\nPoblación: Esquivias ( TOLEDO )\n\n\n\nOferta a exponer:    Alimentación\, Gastronomía\, Artesanía y complementos.\n\n\n\nSerá inaugurado  : \n\n\n\nRequisitos :\n\n\n\nServicios que proporcionara el organizador: Luz y Vigilancia Nocturna\n\n\n\nEntidad organizadora:  ERAGON EVENTOS\n\n\n\n\n \n\n\n\nDescripción del evento:  \n\n\n\nInscripcionesEl plazo para inscribirse como expositor en el mercado estará abierto hasta  \n\n\n\nInformación del organizador :\n\n\n\nLa organización y decoración de este evento están a cargo de ERAGON EVENTOS . Para más detalles sobre el proceso de inscripción\, tarifas y requisitos específicos\, contacta a través de: \n\n\n\n\nCorreo electrónico :  AGUSTINMBXXL@HOTMAIL.COM\n\n\n\nTeléfono / WhatsApp :  610 64 54 53 \n\n\n\nPersonas de contacto : Agustín\n\n\n\n\n \n\n\n\nDescubre las próximas ferias y mercados en su agenda:   ↓ clic ↓ \n\n\n\n\n\n\n\n\n\nInformación sobre la localidad \n\n\n\nAcerca de .. Esquivias \n\n\n\nEsquivias es un encantador municipio en la provincia de Toledo\, situado en la comarca de La Sagra\, a unos 42 km de Madrid y 38 km de Toledo. Conocido por su fuerte vínculo con Miguel de Cervantes\, este pueblo es un destino ideal para los amantes de la historia\, la literatura y la tradición castellana. \n\n\n\nConoce más de Esquivias  visitando la pagina web del Ayuntamiento :  https://www.esquivias.es/node/60 \n\n\n\nListado de eventos en está localidad :  ↓ clic ↓ \n\n\n\n\n\n \n\n\n\n\n\n\n\nOtros enlaces : \n\n\n\nPodría ser de tu interés : \n\n\n\n\nEventos de LA PROVINCIA DE TOLEDO\n\n\n\nCalendario de Mercados Medievales en Diciembre\n\n\n\nFerias y Mercados en España\n\n\n\nOrganizadores de Mercados y Ferias\n\n\n\n\n\nVisita nuestro Calendario de Eventos para obtener detalles de: Calendario 2025: Planifica con anticipación y no te pierdas ninguna cita.\n\n\n\n\n\nLas ferias medievales son auténticos viajes en el tiempo. Estos eventos recrean la atmósfera de la Edad Media. Leer más…\n\n\n\n\n\n\n\n\n \n\n\n\nSíguenos.\n\n\n\n\nTelegram: Recibe nuestras noticias y contenido exclusivo (clic aquí).\n\n\n\nNewsletter: Recibe un correos con nuestras últimas noticias (clic aquí).\n\n\n\nWhatsApp: Suscríbete para seguirnos en nuestro canal  (clic aquí).\n\n\n\nInstagram:  Síguenos en Instagram ( clic aquí )\n\n\n\n\n \n\n\n\n\n\n\n\n\n\n\n\nMercadosmedievales.net \n\n\n\nLas ferias medievales son auténticos viajes en el tiempo. Estos eventos recrean la atmósfera de la Edad Media….
URL:https://demercadosmedievales.info/mercadomedieval/12-2025-mercado-cervantino-en-esquivias-toledo/
LOCATION:Esquivias (Toledo) (***)\, en el centro\, Esquivias\, Toledo\, España
CATEGORIES:Castilla La Mancha,Mercado Medieval,Toledo
ATTACH;FMTTYPE=image/jpeg:https://demercadosmedievales.info/wp-content/uploads/2025/02/mercado-cervantino-esquivias-1.jpg
ORGANIZER;CN="Erag%C3%B3n eventos":MAILTO:AGUSTINMBXXL@HOTMAIL.COM
GEO:40.1033769;-3.7676359
X-APPLE-STRUCTURED-LOCATION;VALUE=URI;X-ADDRESS=Esquivias (Toledo) (***) en el centro Esquivias Toledo España;X-APPLE-RADIUS=500;X-TITLE=en el centro:geo:-3.7676359,40.1033769
END:VEVENT
END:VCALENDAR