BEGIN:VCALENDAR
VERSION:2.0
PRODID:-//Mercados Medievales - ECPv6.15.20//NONSGML v1.0//EN
CALSCALE:GREGORIAN
METHOD:PUBLISH
X-WR-CALNAME:Mercados Medievales
X-ORIGINAL-URL:https://demercadosmedievales.info
X-WR-CALDESC:Eventos para Mercados Medievales
REFRESH-INTERVAL;VALUE=DURATION:PT1H
X-Robots-Tag:noindex
X-PUBLISHED-TTL:PT1H
BEGIN:VTIMEZONE
TZID:Europe/Madrid
BEGIN:DAYLIGHT
TZOFFSETFROM:+0100
TZOFFSETTO:+0200
TZNAME:CEST
DTSTART:20250330T010000
END:DAYLIGHT
BEGIN:STANDARD
TZOFFSETFROM:+0200
TZOFFSETTO:+0100
TZNAME:CET
DTSTART:20251026T010000
END:STANDARD
BEGIN:DAYLIGHT
TZOFFSETFROM:+0100
TZOFFSETTO:+0200
TZNAME:CEST
DTSTART:20260329T010000
END:DAYLIGHT
BEGIN:STANDARD
TZOFFSETFROM:+0200
TZOFFSETTO:+0100
TZNAME:CET
DTSTART:20261025T010000
END:STANDARD
BEGIN:DAYLIGHT
TZOFFSETFROM:+0100
TZOFFSETTO:+0200
TZNAME:CEST
DTSTART:20270328T010000
END:DAYLIGHT
BEGIN:STANDARD
TZOFFSETFROM:+0200
TZOFFSETTO:+0100
TZNAME:CET
DTSTART:20271031T010000
END:STANDARD
END:VTIMEZONE
BEGIN:VEVENT
DTSTART;TZID=Europe/Madrid:20260821T000000
DTEND;TZID=Europe/Madrid:20260823T235959
DTSTAMP:20260420T110222
CREATED:20260307T103232Z
LAST-MODIFIED:20260308T112257Z
UID:10003287-1787270400-1787529599@demercadosmedievales.info
SUMMARY:Mercado Medieval – XX Jornadas Escocesas “Douglas Days” 2026 en Teba (Málaga)
DESCRIPTION:Del 21 al 23 de agosto de 2026\, el municipio de Teba celebrará una nueva edición del Mercado Medieval dentro de las XX Jornadas Escocesas “Douglas Days”. Durante estos días\, y coincidiendo con esta reconocida fiesta histórica\, el centro histórico del municipio se transformará en un auténtico escenario medieval lleno de artesanía\, recreaciones históricas y actividades para toda la familia. \n\n\n\n\n\n\n\n \n\n\n\nÍndiceXX Jornadas Escocesas “Douglas Days”Información para artesanos y mercaderesSobre Cómo llegar a las XX Jornadas Escocesas “Douglas Days”la localidad🏰 Teba: donde Escocia y Andalucía se encuentran en la historiaSe encuentra en la provincia de Málaga y cuenta con fácil acceso por carretera.Mercados Medievales 2026: Fechas y Localidades ConfirmadasPara más información puedes consultar :¿Te apuntas? Síguenos y no te pierdas de nada.En Resumen…\n\n\n\n \n\n\n\nXX Jornadas Escocesas “Douglas Days”\n\n\n\nMercado Medieval \n\n\n\nEl Mercado Medieval de las XX Jornadas Escocesas “Douglas Days” de Teba 2026 regresa para celebrar su vigésima edición\, consolidándose como uno de los eventos históricos más singulares de Andalucía. Durante tres días\, el centro histórico de la localidad se llenará de puestos de artesanía\, gastronomía tradicional\, animación medieval y actividades culturales que recrean la historia que une a Escocia con esta villa malagueña. \n\n\n\nLas jornadas recuerdan la heroica participación del caballero escocés Sir James Douglas\, quien luchó en la Battle of Teba junto al ejército de Alfonso XI of Castile\, portando el corazón del rey Robert the Bruce. \n\n\n\nAdemás\, estas jornadas han sido declaradas Fiesta de Singularidad Turística Provincial\, lo que convierte al evento en una cita imprescindible para amantes de la historia\, la cultura medieval y las recreaciones históricas. \n\n\n\n \n\n\n\nInformación para artesanos y mercaderes\n\n\n\n📍 Ubicación: Centro Histórico de Teba (MALAGA)📅 Fechas: 21\, 22 y 23 de agosto de 2026🔧 Montaje: Pendiente de confirmación \n\n\n\n\nOrganiza:  la fragua de vulcano\n\n\n\n📩 Información e inscripciones:  contratacion@espectaculosamb.com\n\n\n\n\n \n\n\n\nJornadas Escocesas “Douglas Days”\n\n\n\n \n\n\n\n \n\n\n\nSobre Cómo llegar a las XX Jornadas Escocesas “Douglas Days”la localidad\n\n\n\nTeba es una pintoresca localidad del interior de la provincia de Málaga\, situada a los pies del impresionante Castillo de la Estrella\, una fortaleza que domina el paisaje y que forma parte fundamental de la historia del municipio. \n\n\n\nSus calles blancas\, su patrimonio histórico y su fuerte vínculo con la historia medieval hacen de Teba un escenario perfecto para acoger este mercado y recreación histórica. \n\n\n\n🏰 Teba: donde Escocia y Andalucía se encuentran en la historia\n\n\n\nSe encuentra en la provincia de Málaga y cuenta con fácil acceso por carretera.\n\n\n\n🚗 Desde Málaga: aproximadamente 1 hora por la A-357.🚗 Desde Antequera: unos 40 minutos por carretera comarcal.🚗 Desde Ronda: alrededor de 50 minutos. \n\n\n\n\n\n \n\n\n\n \n\n\n\nMercados Medievales 2026: Fechas y Localidades Confirmadas\n\n\n\n\n\n\n\nEspaña cuenta con una de las agendas de ferias temáticas más ricas del mundo\, combinando gastronomía tradicional\, artesanía de autor y espectáculos en vivo. Si buscas un plan diferente para el fin de semana o quieres conocer el patrimonio de una forma única\, esta es tu guía definitiva. Leer más \n\n\n\nPara más información puedes consultar :\n\n\n\n\nPuedes Consultar en esté enlace las  Ferias y Mercados en España\n\n\n\nHaz clic en ESTE enlace :  Conoce los Organizadores de Mercados y Ferias\n\n\n\n\n¿Te apuntas? Síguenos y no te pierdas de nada.\n\n\n\n\nTelegram\n\n\n\nNewsletter\n\n\n\nWhatsApp\n\n\n\nInstagram\n\n\n\nPor supuesto en Facebook\n\n\n\n\nEn Resumen…
URL:https://demercadosmedievales.info/mercadomedieval/mercado-medieval-xx-jornadas-escocesas-douglas-days-2026-en-teba-malaga/
LOCATION:Teba (Málaga) (***)\, Teba\, Málaga\, 29327
CATEGORIES:Andalucia,Malaga,Mercado Medieval
ATTACH;FMTTYPE=image/jpeg:https://demercadosmedievales.info/wp-content/uploads/2026/03/medieval_teba_fb.jpg
ORGANIZER;CN="La Fragua de Vulcano":MAILTO:lafragua@espectaculosamb.com
GEO:36.9833293;-4.9188665
END:VEVENT
BEGIN:VEVENT
DTSTART;TZID=Europe/Madrid:20260822T000000
DTEND;TZID=Europe/Madrid:20260822T235959
DTSTAMP:20260420T110222
CREATED:20260310T102318Z
LAST-MODIFIED:20260310T102433Z
UID:10003293-1787356800-1787443199@demercadosmedievales.info
SUMMARY:Mercado Medieval de Torralba de Ribota 2026 (Zaragoza)
DESCRIPTION:El Mercado Medieval de Torralba de Ribota 2026 se celebrará el 22 de agosto en esta localidad de Torralba de Ribota. Durante la jornada\, el municipio se transformará en un pequeño escenario medieval lleno de artesanía\, ambientación histórica y animación para todos los públicos. \n\n\n\n\n\n\n\n \n\n\n\nÍndice Mercado Medieval de Torralba de RibotaInformación para artesanos y mercaderesComo llegar al Mercado Medieval de Torralba de Ribota🏰 Torralba de Ribota revive su pasado medievalCómo llegarMercados Medievales 2026: Fechas y Localidades ConfirmadasPara más información puedes consultar :¿Te apuntas? Síguenos y no te pierdas de nada.En Resumen\n\n\n\n \n\n\n\nMercado Medieval de Torralba de Ribota\n\n\n\nEl Mercado Medieval de Torralba de Ribota regresa con una nueva edición que promete llenar las calles de ambiente medieval. Artesanos\, mercaderes y visitantes se reunirán para disfrutar de un día especial donde la historia\, la artesanía y la tradición se dan la mano. \n\n\n\nAdemás\, el evento contará con la animación habitual de mercados medievales\, creando un ambiente festivo con personajes\, música y actividades que acompañarán a los puestos durante toda la jornada. \n\n\n\nUna oportunidad perfecta para que artesanos y creadores den a conocer sus productos en un mercado cercano\, familiar y con encanto. \n\n\n\n \n\n\n\nInformación para artesanos y mercaderes\n\n\n\n\n📅 Fecha: 22 de agosto de 2026📍 Lugar: Torralba de Ribota\, ZARAGOZA\n\n\n\n💰 Participación: Mercado gratuito\n\n\n\n🎭 Animación medieval durante el evento\n\n\n\n📩 Inscripciones:Enviar solicitud indicando:\n\nNombre y apellidos\n\n\n\nProducto que se vende\n\n\n\nTeléfono de contacto\n\n\n\n\n\n📧 Email: phartesanos@gmail.com\n\n\n\n🏰 Organiza: Michel – PROFESSIONAL HISTORY\n\n\n\n\n \n\n\n\nComo llegar al Mercado Medieval de Torralba de Ribota\n\n\n\nEl evento se celebra en Torralba de Ribota\, un pequeño municipio de la provincia de Zaragoza\, situado en la comarca de Calatayud. Su entorno rural y su patrimonio histórico lo convierten en un escenario ideal para eventos temáticos que recuperan el espíritu de la Edad Media. \n\n\n\n \n\n\n\n🏰 Torralba de Ribota revive su pasado medieval\n\n\n\nCómo llegar\n\n\n\n📍 Torralba de Ribota se encuentra cerca de Calatayud\, en la provincia de Zaragoza. \n\n\n\n🚗 Acceso por la A-2 Madrid–Zaragoza\, tomando la salida hacia Calatayud y continuando por carreteras locales.🚆 Estación de tren en Calatayud\, desde donde se puede llegar en coche en pocos minutos. \n\n\n\n\n\nTorralba de Ribota\n\n\n\n \n\n\n\n \n\n\n\nMercados Medievales 2026: Fechas y Localidades Confirmadas\n\n\n\n\n\n\n\nEspaña cuenta con una de las agendas de ferias temáticas más ricas del mundo\, combinando gastronomía tradicional\, artesanía de autor y espectáculos en vivo. Si buscas un plan diferente para el fin de semana o quieres conocer el patrimonio de una forma única\, esta es tu guía definitiva. Leer más \n\n\n\nPara más información puedes consultar :\n\n\n\n\nPuedes Consultar en esté enlace las  Ferias y Mercados en España\n\n\n\nHaz clic en ESTE enlace :  Conoce los Organizadores de Mercados y Ferias\n\n\n\n\n¿Te apuntas? Síguenos y no te pierdas de nada.\n\n\n\n\nTelegram\n\n\n\nNewsletter\n\n\n\nWhatsApp\n\n\n\nInstagram\n\n\n\nPor supuesto en Facebook\n\n\n\n\nEn Resumen
URL:https://demercadosmedievales.info/mercadomedieval/mercado-medieval-de-torralba-de-ribota-2026-zaragoza/
LOCATION:Torralba de Ribota (Zaragoza)\, Torralba de Ribota\, Zaragoza\, España
CATEGORIES:Aragon,Mercado Medieval,Zaragoza
ATTACH;FMTTYPE=image/jpeg:https://demercadosmedievales.info/wp-content/uploads/2026/03/medieval_torralba_ribota_1200.jpg
ORGANIZER;CN="Michel - Recreaciones hist%C3%B3ricas eventos y espect%C3%A1culos":MAILTO:phartesanos@gmail.com
END:VEVENT
END:VCALENDAR