BEGIN:VCALENDAR
VERSION:2.0
PRODID:-//Mercados Medievales - ECPv6.15.20//NONSGML v1.0//EN
CALSCALE:GREGORIAN
METHOD:PUBLISH
X-WR-CALNAME:Mercados Medievales
X-ORIGINAL-URL:https://demercadosmedievales.info
X-WR-CALDESC:Eventos para Mercados Medievales
REFRESH-INTERVAL;VALUE=DURATION:PT1H
X-Robots-Tag:noindex
X-PUBLISHED-TTL:PT1H
BEGIN:VTIMEZONE
TZID:Europe/Madrid
BEGIN:DAYLIGHT
TZOFFSETFROM:+0100
TZOFFSETTO:+0200
TZNAME:CEST
DTSTART:20250330T010000
END:DAYLIGHT
BEGIN:STANDARD
TZOFFSETFROM:+0200
TZOFFSETTO:+0100
TZNAME:CET
DTSTART:20251026T010000
END:STANDARD
BEGIN:DAYLIGHT
TZOFFSETFROM:+0100
TZOFFSETTO:+0200
TZNAME:CEST
DTSTART:20260329T010000
END:DAYLIGHT
BEGIN:STANDARD
TZOFFSETFROM:+0200
TZOFFSETTO:+0100
TZNAME:CET
DTSTART:20261025T010000
END:STANDARD
BEGIN:DAYLIGHT
TZOFFSETFROM:+0100
TZOFFSETTO:+0200
TZNAME:CEST
DTSTART:20270328T010000
END:DAYLIGHT
BEGIN:STANDARD
TZOFFSETFROM:+0200
TZOFFSETTO:+0100
TZNAME:CET
DTSTART:20271031T010000
END:STANDARD
END:VTIMEZONE
BEGIN:VEVENT
DTSTART;TZID=Europe/Madrid:20260710T000000
DTEND;TZID=Europe/Madrid:20260712T235959
DTSTAMP:20260420T085618
CREATED:20260202T193120Z
LAST-MODIFIED:20260202T193125Z
UID:10003194-1783641600-1783900799@demercadosmedievales.info
SUMMARY:Mercado Medieval Calatravo de Alcaudete (Jaén) 2026
DESCRIPTION:Del 10 al 12 de julio de 2026\, Alcaudete (Jaén) vuelve a vestirse de época para celebrar su famoso  Mercado Medieval Calatravo\, una cita que cada año atrae a miles de visitantes. Además\, este evento forma parte de las emblemáticas Fiestas Calatravas\, declaradas Acontecimiento de Interés Turístico de Andalucía. \n\n\n\n\n\n\n\n \n\n\n\nMercado Medieval Calatravo de Alcaudete\n\n\n\nDel 10 al 12 de julio de 2026\, Alcaudete (Jaén) viajará al pasado con la celebración del Mercado Medieval Calatravo\, un evento que llenará de vida\, historia y color la Plaza de Santa María y sus alrededores\, convirtiéndose en una cita imprescindible del verano. \n\n\n\nÍndice Mercado Medieval Calatravo de AlcaudeteMercado Medieval Calatravo de Alcaudete\, tierra calatrava donde revive el MedievoArtesanos y Mercaderes\, Información básicaDescripción de la localidad :Mercados Medievales 2026: Fechas y Localidades ConfirmadasPara más información puedes consultar :¿Te apuntas? Síguenos y no te pierdas de nada.En Resumen…\n\n\n\n \n\n\n\nMercado Medieval Calatravo de Alcaudete\, tierra calatrava donde revive el Medievo\n\n\n\nEl Mercado Medieval Calatravo de Alcaudete transformará el corazón del municipio en un auténtico escenario medieval. Durante tres días\, vecinos y visitantes podrán pasear entre puestos de artesanía\, productos tradicionales y ambientación histórica inspirada en la época calatrava\, tan ligada a la identidad local. \n\n\n\nEl mercado se desarrollará en la Plaza de Santa María y calles cercanas\, un enclave con gran valor patrimonial que aporta aún más autenticidad al evento. La propuesta está pensada para todos los públicos\, ideal para disfrutar en familia\, descubrir artículos únicos y dejarse llevar por la magia del Medievo. \n\n\n\nLa organización corre a cargo de La Fragua de Vulcano\, especializada en ferias y mercados temáticos\, garantizando una cuidada puesta en escena y una experiencia atractiva tanto para el público como para los artesanos participantes. \n\n\n\n \n\n\n\nArtesanos y Mercaderes\, Información básica\n\n\n\n\nEvento:  Mercado Medieval Calatravo\n\n\n\nFechas:  10 al 12 de Julio del 2026\n\n\n\nUbicación:  Plaza de Santa María y calles cercanas\n\n\n\nMontaje:  por confirmar\n\n\n\nInauguración:  En la tarde del 10 de Julio\n\n\n\nPeriodicidad: Anual\n\n\n\nProductos permitidos: artesanía\, mercaderías varias\, alimentación\, gastronomía\n\n\n\nServicios incluidos: agua\, electricidad\, vigilancia disuasoria\n\n\n\nPrecio :  por confirmar\n\n\n\nOrganiza : la fragua de vulcano\n\nEmail : lafragua@espectaculosamb.com\n\n\n\nTeléfono : 963400037\n\n\n\n\n\n\n\n\n\n\n \n\n\n\nDescripción de la localidad :\n\n\n\nAlcaudete se sitúa al suroeste de la provincia de Jaén\, a los pies de su imponente castillo calatravo. Se puede llegar fácilmente por carretera desde Jaén capital\, Córdoba o Granada\, lo que convierte el mercado en una excelente escapada cultural y turística. \n\n\n\n\n\n \n\n\n\n \n\n\n\nMercados Medievales 2026: Fechas y Localidades Confirmadas\n\n\n\n\n\n\n\nEspaña cuenta con una de las agendas de ferias temáticas más ricas del mundo\, combinando gastronomía tradicional\, artesanía de autor y espectáculos en vivo. Si buscas un plan diferente para el fin de semana o quieres conocer el patrimonio de una forma única\, esta es tu guía definitiva. Leer más \n\n\n\nPara más información puedes consultar :\n\n\n\n\nPuedes Consultar en esté enlace las  Ferias y Mercados en España\n\n\n\nHaz clic en ESTE enlace :  Conoce los Organizadores de Mercados y Ferias\n\n\n\n\n¿Te apuntas? Síguenos y no te pierdas de nada.\n\n\n\n\nTelegram\n\n\n\nNewsletter\n\n\n\nWhatsApp\n\n\n\nInstagram\n\n\n\nPor supuesto en Facebook\n\n\n\n\nEn Resumen…
URL:https://demercadosmedievales.info/mercadomedieval/mercado-medieval-calatravo-de-alcaudete-jaen-2026/
LOCATION:Alcaudete (Jaén) (***)\, Alcaudete\, Jaén\, España
CATEGORIES:Andalucia,Jaén,Mercado Medieval
ATTACH;FMTTYPE=image/jpeg:https://demercadosmedievales.info/wp-content/uploads/2026/02/MEDIEVAL_alcaudete_fb.jpg
ORGANIZER;CN="La Fragua de Vulcano":MAILTO:lafragua@espectaculosamb.com
GEO:37.5908541;-4.083601
END:VEVENT
END:VCALENDAR