BEGIN:VCALENDAR
VERSION:2.0
PRODID:-//Mercados Medievales - ECPv6.15.20//NONSGML v1.0//EN
CALSCALE:GREGORIAN
METHOD:PUBLISH
X-WR-CALNAME:Mercados Medievales
X-ORIGINAL-URL:https://demercadosmedievales.info
X-WR-CALDESC:Eventos para Mercados Medievales
REFRESH-INTERVAL;VALUE=DURATION:PT1H
X-Robots-Tag:noindex
X-PUBLISHED-TTL:PT1H
BEGIN:VTIMEZONE
TZID:Europe/Madrid
BEGIN:DAYLIGHT
TZOFFSETFROM:+0100
TZOFFSETTO:+0200
TZNAME:CEST
DTSTART:20250330T010000
END:DAYLIGHT
BEGIN:STANDARD
TZOFFSETFROM:+0200
TZOFFSETTO:+0100
TZNAME:CET
DTSTART:20251026T010000
END:STANDARD
BEGIN:DAYLIGHT
TZOFFSETFROM:+0100
TZOFFSETTO:+0200
TZNAME:CEST
DTSTART:20260329T010000
END:DAYLIGHT
BEGIN:STANDARD
TZOFFSETFROM:+0200
TZOFFSETTO:+0100
TZNAME:CET
DTSTART:20261025T010000
END:STANDARD
BEGIN:DAYLIGHT
TZOFFSETFROM:+0100
TZOFFSETTO:+0200
TZNAME:CEST
DTSTART:20270328T010000
END:DAYLIGHT
BEGIN:STANDARD
TZOFFSETFROM:+0200
TZOFFSETTO:+0100
TZNAME:CET
DTSTART:20271031T010000
END:STANDARD
END:VTIMEZONE
BEGIN:VEVENT
DTSTART;TZID=Europe/Madrid:20260626T000000
DTEND;TZID=Europe/Madrid:20260628T235959
DTSTAMP:20260420T073128
CREATED:20260121T190814Z
LAST-MODIFIED:20260416T115204Z
UID:10003153-1782432000-1782691199@demercadosmedievales.info
SUMMARY:Mercado Medieval de Nueva Jarilla 2026 (Cádiz)
DESCRIPTION:Durante tres días\, el Mercado Medieval de Nueva Jarilla ofrecerá artesanía\, gastronomía y animación en un ambiente familiar y festivo. \n\n\n\n\n\n\n\n \n\n\n\n \n\n\n\nMercado Medieval de Nueva Jarilla Nueva Jarilla viaja al MedievoInformación para artesanos / mercaderesNueva Jarilla\, tradición y convivencia en la campiña gaditanaPara más información puedes consultar :¿Te apuntas? Síguenos y no te pierdas de nada.\n\n\n\n \n\n\n\nNueva Jarilla viaja al Medievo\n\n\n\nEl Mercado Medieval de Nueva Jarilla regresa a finales de junio para convertir el bulevar de la calle Ronda del Trobal en un animado punto de encuentro lleno de historia y tradición. \n\n\n\nDurante los tres días de celebración\, vecinos y visitantes podrán recorrer puestos de artesanía\, disfrutar de productos gastronómicos. \n\n\n\n \n\n\n\nCartel Mercado Medieval de Nueva Jarilla 2026 \n\n\n\nMercado Medieval de Nueva Jarilla\n\n\n\n \n\n\n\nInformación para artesanos / mercaderes\n\n\n\n\nEvento: Mercado Medieval de Nueva Jarilla\n\n\n\nFechas: 26\, 27 y 28 de junio del 2026\n\n\n\nMontaje: 26 de junio a las 9:00 h\n\n\n\nUbicación: Bulevar de la Calle Ronda del Trobal\n\n\n\nLocalidad: Nueva Jarilla (CADIZ)\n\n\n\nOrganiza: LANCELOT MEDIEVAL\n\nContacto: Manuel\n\n\n\nTeléfono / WhatsApp: 607 677 701 \n\n\n\nCorreo: info@lancelotmedieval.com\n\n\n\n\n\nPeriodicidad: Anual\n\n\n\nRequisitos : Puestos con ambientación medieval (estructura de madera o decoración acorde). Documentación en regla (autónomos\, Seguridad Social y\, si aplica\, carné de manipulación de alimentos).\n\n\n\nServicios que proporcionara el organizador: LUZ\, AGUA\, PUBLICIDAD\, VIGILANCIA DISUASORIA\, ANIMACION Y ATRACCIONES.\n\n\n\n\n\n\n\n\n \n\n\n\nNueva Jarilla\, tradición y convivencia en la campiña gaditana\n\n\n\nNueva Jarilla es una pedanía de Jerez de la Frontera\, en la provincia de Cádiz\, conocida por su ambiente cercano\, sus fiestas populares y su carácter acogedor. Nueva Jarilla se encuentra bien comunicada por carretera desde Jerez de la Frontera\, con acceso sencillo desde la red viaria comarcal. \n\n\n\n\n\n \n\n\n\n \n\n\n\n \n\n\n\nMercados Medievales 2026: Fechas y Localidades Confirmadas\n\n\n\n\n\n\n\nEspaña cuenta con una de las agendas de ferias temáticas más ricas del mundo\, combinando gastronomía tradicional\, artesanía de autor y espectáculos en vivo. Si buscas un plan diferente para el fin de semana o quieres conocer el patrimonio de una forma única\, esta es tu guía definitiva. Leer más \n\n\n\nPara más información puedes consultar :\n\n\n\n\nPuedes Consultar en esté enlace las  Ferias y Mercados en España\n\n\n\nHaz clic en ESTE enlace :  Conoce los Organizadores de Mercados y Ferias\n\n\n\n\n¿Te apuntas? Síguenos y no te pierdas de nada.\n\n\n\n\nTelegram\n\n\n\nNewsletter\n\n\n\nWhatsApp\n\n\n\nInstagram\n\n\n\nPor supuesto en Facebook\n\n\n\n\nEn Resumen…
URL:https://demercadosmedievales.info/mercadomedieval/mercado-medieval-de-nueva-jarilla-2026-cadiz/
LOCATION:Nueva Jarilla (Cádiz) (***)\, Nueva Jarandilla\, Cádiz\, España
CATEGORIES:Andalucia,Cadiz,Mercado Medieval
ATTACH;FMTTYPE=image/jpeg:https://demercadosmedievales.info/wp-content/uploads/2026/01/medieval-nueva-jarilla-cadiz-2026-1200.jpg
ORGANIZER;CN="Lancelot medieval":MAILTO:info@lancelotmedieval.com
GEO:36.5210142;-6.2804565
END:VEVENT
BEGIN:VEVENT
DTSTART;TZID=Europe/Madrid:20260626T000000
DTEND;TZID=Europe/Madrid:20260628T235959
DTSTAMP:20260420T073128
CREATED:20260324T115612Z
LAST-MODIFIED:20260324T192912Z
UID:10003266-1782432000-1782691199@demercadosmedievales.info
SUMMARY:Mercado Medieval de Minglanilla (Cuenca) 26 al 28 de Junio del 2026
DESCRIPTION:El Mercado Medieval de Minglanilla (Cuenca) se celebrará del 26 al 28 de junio y\, además\, transformará las calles del municipio en un escenario lleno de historia\, música y fantasía medieval\, a las puertas de las Hoces del Cabriel. \n\n\n\n\n\n\n\n \n\n\n\nÍndice Mercado Medieval de MinglanillaQue encontrarás al visitarInformación para participar en el Mercado Medieval de MinglanillaCartel del Mercado Medieval de MinglanillaComo llegar al Mercado Medieval de MinglanillaMercados Medievales 2026: Fechas y Localidades ConfirmadasPara más información puedes consultar :¿Te apuntas? Síguenos y no te pierdas de nada.En Resumen\n\n\n\n \n\n\n\n \n\n\n\nMercado Medieval de Minglanilla\n\n\n\nMinglanilla se prepara para vivir un fin de semana diferente\, donde el sonido de la música medieval y el bullicio de los mercaderes llenarán sus calles de vida y color. Durante tres días\, el municipio se convertirá en un auténtico poblado medieval\, rodeado de un entorno natural privilegiado. \n\n\n\nEl mercado será el punto de encuentro entre vecinos y visitantes. Los puestos de artesanía de autor y productos únicos invitarán a descubrir piezas singulares\, mientras la gastronomía tradicional ofrecerá sabores auténticos de la zona. \n\n\n\nLa animación callejera y los espectáculos en vivo marcarán el ritmo del evento\, con actividades pensadas especialmente para los más pequeños\, creando un ambiente familiar\, participativo y lleno de fantasía. \n\n\n\n \n\n\n\nQue encontrarás al visitar \n\n\n\n​⚔️ Tres días de fiesta y magia donde podrás disfrutar de:​🎶 Espectáculos en vivo y música medieval para todos.​🛍️ Artesanía de autor y mercaderes con productos únicos.​🍖 Gastronomía tradicional con sabores auténticos de la zona.​🎭 Animación callejera y actividades para los más pequeños.​🏹 Un ambiente medieval lleno de color\, alegría y fantasía \n\n\n\n \n\n\n\nInformación para participar en el Mercado Medieval de Minglanilla\n\n\n\n\nEvento:  Mercado Medieval de Minglanilla\n\n\n\nFechas:  26 al 28 de Junio de 2026\n\n\n\nHorario:  Viernes en la tarde\, Sábado y Domingo todo el día\n\n\n\nUbicación:  en el centro\n\n\n\nMontaje y Desmontaje:  por confirmar\n\n\n\nInauguración:  Viernes en la tarde\, sobre las 18:30 aproximadamente\n\n\n\nPeriodicidad: Anual \n\n\n\nProductos permitidos: Artesanía\, alimentación\, gastronomía \n\n\n\nServicios incluidos: Animación\, seguridad\, luz\, publicidad \n\n\n\nOrganiza:  ARTESANOS REUNIDOS\n\nCorreo electrónico : artesanosreunidos@gmail.com\n\n\n\nTeléfono / WhatsApp : 633.323.561\n\n\n\nPersonas de contacto : Laly\n\n\n\n\n\n\n \n\n\n\nCartel del Mercado Medieval de Minglanilla\n\n\n\n\n\n\n\n \n\n\n\nComo llegar al Mercado Medieval de Minglanilla\n\n\n\nMinglanilla es un municipio situado al suroeste de la provincia de Cuenca\, conocido por ser la espectacular puerta de entrada a las Hoces del Cabriel. Rodeado de naturaleza y paisajes impresionantes\, combina historia\, tradición y turismo rural. \n\n\n\nSe encuentra muy bien comunicada por la A-3 (Madrid–Valencia). Desde Cuenca capital se accede cómodamente por carretera\, y el mercado se desarrolla en el núcleo urbano del municipio. \n\n\n\nCurioso nombre \n\n\n\nSu nombre deriva porque junto a una fuente había en ella un minglano o granado. No obstante la tradición popular fantasea una leyenda novelesca de una linda joven\, llamada Minga y por mote la Galanilla\, a la que galanteaban varios opulentos magnates y de ahí según la leyenda que el pueblo tomara el nombre de la Minglanilla \n\n\n\n\n\n \n\n\n\n \n\n\n\nMercados Medievales 2026: Fechas y Localidades Confirmadas\n\n\n\n\n\n\n\nEspaña cuenta con una de las agendas de ferias temáticas más ricas del mundo\, combinando gastronomía tradicional\, artesanía de autor y espectáculos en vivo. Si buscas un plan diferente para el fin de semana o quieres conocer el patrimonio de una forma única\, esta es tu guía definitiva. Leer más \n\n\n\nPara más información puedes consultar :\n\n\n\n\nPuedes Consultar en esté enlace las  Ferias y Mercados en España\n\n\n\nHaz clic en ESTE enlace :  Conoce los Organizadores de Mercados y Ferias\n\n\n\n\n¿Te apuntas? Síguenos y no te pierdas de nada.\n\n\n\n\nTelegram\n\n\n\nNewsletter\n\n\n\nWhatsApp\n\n\n\nInstagram\n\n\n\nPor supuesto en Facebook\n\n\n\n\nEn Resumen
URL:https://demercadosmedievales.info/mercadomedieval/medieval-de-minglanilla/
LOCATION:Minglanilla (Cuenca)\, Minglanilla\, Cuenca\, España
CATEGORIES:Castilla La Mancha,Cuenca,Mercado Medieval
ATTACH;FMTTYPE=image/jpeg:https://demercadosmedievales.info/wp-content/uploads/2026/02/medieval_minglanilla_2026_fb_1.jpg
ORGANIZER;CN="Artesanos reunidos":MAILTO:artesanosreunidos@gmail.com
END:VEVENT
BEGIN:VEVENT
DTSTART;TZID=Europe/Madrid:20260626T000000
DTEND;TZID=Europe/Madrid:20260628T235959
DTSTAMP:20260420T073128
CREATED:20260330T071858Z
LAST-MODIFIED:20260330T184919Z
UID:10003377-1782432000-1782691199@demercadosmedievales.info
SUMMARY:Mercado Medieval de Alcázar de San Juan 2026 (Ciudad Real)
DESCRIPTION:El Gran Mercado Medieval de Alcázar de San Juan vuelve a celebrarse en su ubicación habitual\, ofreciendo un entorno perfecto para recrear la época medieval. El evento va dirigido a artesanos y puestos de alimentación interesados en formar parte de un mercado de tradición y de temática medieval. \n\n\n\n\n\n\n\n \n\n\n\nContenido Mercado Medieval de Alcázar de San JuanInformación para expositoresDescripción de la localidad y cómo llegar🚗 Cómo llegarMercados Medievales 2026: Fechas y Localidades ConfirmadasPara más información puedes consultar :¿Te apuntas? Síguenos y no te pierdas de nada.En Resumen\n\n\n\n \n\n\n\nMercado Medieval de Alcázar de San Juan \n\n\n\nSi buscas un evento consolidado y con gran afluencia de público\, el Gran Mercado Medieval de Alcázar de San Juan 2026 es\, sin duda\, una excelente oportunidad. Además\, su ubicación habitual y su ambiente garantizan una gran visibilidad para los expositores. \n\n\n\nDurante dos dias y medio\, vecinos y visitantes podrán sumergirse en una experiencia única con puestos de artesanía\, gastronomía\, animación medieval\, música\, pasacalles y espectáculos para todas las edades. \n\n\n\nInformación para expositores\n\n\n\n\nFecha: 26 al 29 de Junio de  2026\n\n\n\nLugar: Parque Alces\n\n\n\nPoblación:  Alcázar de San Juan ( CIUDAD REAL )\n\n\n\nMontaje: Día 26 viernes a las 8 de la mañana.\n\n\n\nOferta a exponer:    Alimentación\, Gastronomía\, Artesanía y complementos.\n\n\n\nServicios que proporcionará el organizador: Luz y Vigilancia Nocturna\n\n\n\nOrganiza : Asociación Don Quijote y Dulcinea\n\nContacto para INFORMACIÓN e INSCRIPCIONES :  659 12 70 44\n\n\n\n\n\n\n \n\n\n\n\n\n\n\n \n\n\n\nDescripción de la localidad y cómo llegar\n\n\n\nAlcázar de San Juan\, en la provincia de Ciudad Real\, es una localidad con gran tradición cultural y excelente conexión. Además\, el Parque Alces es un espacio amplio y muy conocido\, ideal para eventos de gran formato. \n\n\n\nEl Quijote y Cervantes son inseparables de la identidad de Alcázar de San Juan. Conocida popularmente como el Corazón de La Mancha\, su historia\, arte\, cultura\, gastronomía y sus espacios naturales invitan a pasar unas apacibles\, reconfortantes y enriquecedoras jornadas.   \n\n\n\n🚗 Cómo llegar\n\n\n\n\nDesde Madrid: aproximadamente 1h 30 min por la A-4\n\n\n\nDesde Ciudad Real: unos 40 minutos\n\n\n\n\n\n\n \n\n\n\n \n\n\n\nMercados Medievales 2026: Fechas y Localidades Confirmadas\n\n\n\n\n\n\n\nEspaña cuenta con una de las agendas de ferias temáticas más ricas del mundo\, combinando gastronomía tradicional\, artesanía de autor y espectáculos en vivo. Si buscas un plan diferente para el fin de semana o quieres conocer el patrimonio de una forma única\, esta es tu guía definitiva. Leer más \n\n\n\n \n\n\n\n \n\n\n\nPara más información puedes consultar :\n\n\n\n\nPuedes Consultar en esté enlace las  Ferias y Mercados en España\n\n\n\nHaz clic en ESTE enlace :  Conoce los Organizadores de Mercados y Ferias\n\n\n\n\n \n\n\n\n¿Te apuntas? Síguenos y no te pierdas de nada.\n\n\n\n\nTelegram\n\n\n\nNewsletter\n\n\n\nWhatsApp\n\n\n\nInstagram\n\n\n\nPor supuesto en Facebook\n\n\n\n\nEn Resumen\n\n\n\n🏰 Mercado Medieval de Alcázar de San Juan📅 26-28 junio \n\n\n\nArtesanía y ambiente medieval ⚔️📍 Parque Alces \n\n\n\nMás información :  https://demercadosmedievales.info/mercadomedieval/mercado-medieval-de-alcazar-de-san-juan/ \n\n\n\n#MercadoMedieval #AlcázarDeSanJuan #Artesanía
URL:https://demercadosmedievales.info/mercadomedieval/mercado-medieval-de-alcazar-de-san-juan/
LOCATION:Alcázar de San Juan (Ciudad Real) (***)\, Alcázar de San Juan\, Ciudad Real\, 13600\, Spain
CATEGORIES:Castilla La Mancha,Ciudad Real,Mercado Medieval
ATTACH;FMTTYPE=image/jpeg:https://demercadosmedievales.info/wp-content/uploads/2026/03/medieval_alcazar_san_juan_fb.jpg
GEO:39.3900748;-3.2100984
END:VEVENT
BEGIN:VEVENT
DTSTART;TZID=Europe/Madrid:20260626T000000
DTEND;TZID=Europe/Madrid:20260628T235959
DTSTAMP:20260420T073128
CREATED:20260412T114118Z
LAST-MODIFIED:20260412T180846Z
UID:10003417-1782432000-1782691199@demercadosmedievales.info
SUMMARY:Mercado medieval de Montejicar 2026 (Granada)
DESCRIPTION:La Semana Cultural y Mercado Medieval de Montejícar 2026 se celebrará del 26 al 28 de junio de 2026 en la Montejícar. Este destacado evento combinará tradición\, cultura y entretenimiento\, convirtiendo la localidad en un auténtico escenario medieval. \n\n\n\n\n\n\n\n \n\n\n\n \n\n\n\n\n\n\n\n¿Eres artesano o amante de las ferias temáticas? > Descubre el mayor calendario de mercados medievales 2026. Síguenos en nuestro Instagram oficial o conecta con nosotros vía WhatsApp para recibir novedades sobre plazos de inscripción y fechas de eventos. No olvides suscribirte a nuestra Newsletter para no perderte ninguna publicación. \n\n\n\n\n\n\n\n \n\n\n\n \n\n\n\nℹ Información del evento\n\n\n\n\nEvento : Mercado Medieval de Montejicar\n\n\n\nMotivo : Semana cultural \n\n\n\nFechas : 26 al 28 de junio del 2026\n\n\n\nUbicación : Montejicar\, Granada\n\n\n\nHorario : De 10 a sin hora especificar\n\n\n\ninauguración :  Viernes 26 tarde-noche\n\n\n\nEntrada al público visitante : Gratuita\n\n\n\n\n \n\n\n\n🎭 Cartel y Programa \n\n\n\nPublicaremos el cartel y el programa de Mercado medieval de Montejicar cuando nos lo envíe el ayuntamiento. \n\n\n\n🧧Cartel (No disponible por el momento) \n\n\n\n \n\n\n\n🎭Programación (No disponible por el momento) \n\n\n\nAunque no tengamos el programa definitivo\, el Mercado Medieval de Montejicar ofrecerá una completa programación para todos los públicos: \n\n\n\n🛍️ Puestos de artesanía y mercaderías🍖 Gastronomía tradicional y productos típicos \n\n\n\n \n\n\n\nHasta el 05 de junio te puedes inscribir en el Mercado medieval de Montejicar \n\n\n\n \n\n\n\nℹ Información básica para participar\n\n\n\nInformación básica para participar como expositor\, artesano y/o mercader : \n\n\n\n\nEvento : Semana Cultural y Mercado Medieval de Montejicar 2026\n\n\n\nLa fecha de celebración será 26 al 28 de junio del 2026\n\n\n\nHorario de apertura y cierre al publico : De 10 a sin hora especificar\n\n\n\nPlazo de Inscripción :  Hasta 5 de junio\n\n\n\nUbicación  :  Plaza Constitución y calles laterales\n\n\n\nTemática del Mercado / Feria  : Mercado Medieval\n\n\n\nMunicipio y Provincia :  Montejicar\, Granada\n\n\n\nTipo de productos a exponer y vender: Artesanía\, alimentación\, talleres\, actividades\, etc.\n\n\n\nDias :\n\nMontaje 26 de junio por la mañanaDesmontaje Domingo 28 por la nocheinauguración Viernes 26 tarde-noche\n\n\n\n\n\nServicios que proporcionara el organizador :AguaElectricidadVigilancia disuasoria\n\n\n\nRequisitos de participación :  Puesto Medieval exclusivamente\n\n\n\nOrganiza :  Ayuntamiento. de Montejicar\n\nInformación e Inscripciones :Persona de contacto : José LuisWhatsApp : 609221604Teléfono :  609221604Email  :  Montejicarmedieval@gmail.com\n\n\n\n\n\nPrecio del metro lineal : Gratis ( 50€de fianza)\n\n\n\nSolicitud de participación : \n\n\n\n\nSolicitud-y-Normas-de-Participacion-montejicar-2026Descarga\n\n\n\n\n\n\n\n \n\n\n\n \n\n\n\n📍 Descripción de la localidad y como llegar \n\n\n\nMontejícar es un pintoresco municipio situado en la comarca de Los Montes Orientales de Granada. Rodeado de paisajes naturales y con un rico legado histórico\, destaca por su carácter acogedor y sus tradiciones culturales. Su entorno y su arquitectura tradicional lo convierten en el escenario perfecto para la celebración de un mercado medieval. \n\n\n\n🚗Como llegar al Mercado Medieval de Montejicar \n\n\n\n\nDesde Granada: 55 km por la A-92 y la A-308 (aprox. 50 minutos).\n\n\n\nDesde Jaén: 95 km por la A-44 y la A-308.\n\n\n\nDesde Guadix: 45 km por la A-92.\n\n\n\nDesde Málaga: aproximadamente 2 horas por la A-92.\n\n\n\n\n📍 Introduce en tu GPS: Plaza de la Constitución\, Montejícar (Granada). \n\n\n\n\n\n \n\n\n\n \n\n\n\n\n\n\n\n🗓 Eventos más próximos \n\n\n\nMercado Medieval de Dúrcal 2026 (Granada) Inscripciones abiertas29 mayo - 31 mayoNuevo! Mercado Medieval de Santa Cruz del Comercio 2026 (Granada) 30 de Mayo30 mayoMercado medieval de Montejicar 2026 (Granada)26 junio - 28 junio \n\n\n\n\n\n\n\n \n\n\n\nEvento : Mercado medieval de Montejicar ℹ Información del evento🎭 Cartel y Programa ℹ Información básica para participarMercados medievales y temáticos\n\n\n\n \n\n\n\n\n\n\n\nMercados medievales y temáticos\n\n\n\nAdemás de este evento\, la provincia acoge otras ferias de artesanía y mercados temáticos. A continuación\, destacamos tres opciones adicionales donde también puedes solicitar tu participación\, así optimizamos tu logística facilitándote el acceso a la información clave para el montaje y la solicitud de plazas: \n\n\n\n\nPróximas Ferias y Mercados en España: Consulta las localidades confirmadas y las fechas de los próximos eventos para planificar tu ruta anual.\n\n\n\nGuía de Organizadores de Mercados y Ferias: Accede al listado de empresas organizadoras para solicitar bases de participación\, precios de metros y condiciones de montaje.\n\n\n\n\n \n\n\n\nMercados Medievales 2026 Calendario de Ferias y Mercados : \n\n\n\nMercados Medievales en la RED\n\n\n\n¿Eres artesano o mercader y buscas nuevos eventos para exponer tus productos? España ofrece una de las agendas de ferias temáticas y mercados medievales más dinámicas de Europa. Estos eventos son el escaparate perfecto para la artesanía de autor\, combinando un gran flujo de visitantes con entornos de venta estratégicos. \n\n\n\nSi tu objetivo es ampliar tu ruta de mercados y asegurar tu participación en las mejores plazas\, esta es tu plataforma profesional de referencia. \n\n\n\n\n\n\n\n \n\n\n\nÚnete a la Red de Artesanos y Mercaderes \n\n\n\nLas plazas en los mejores mercados se agotan rápido. No te quedes fuera de las convocatorias más importantes del año. Únete a nuestros canales exclusivos para profesionales y recibe alertas sobre nuevas aperturas de plazos e inscripciones: \n\n\n\nComunidad y Visibilidad: Conecta con nosotros en Instagram\, Facebook y nuestra Newsletter profesional. \n\n\n\nAlertas Inmediatas: Únete a nuestro Telegram o WhatsApp para recibir avisos de última hora.
URL:https://demercadosmedievales.info/mercadomedieval/mercado-medieval-de-montejicar-2026/
LOCATION:Montejícar (Granada) (***)\, Montejícar\, Granada\, 18561\, España
CATEGORIES:Andalucia,eventos 2026,Granada,Mercado Medieval,Mercados tematicos
ATTACH;FMTTYPE=image/jpeg:https://demercadosmedievales.info/wp-content/uploads/2026/04/mercado-medieval-montejicar-2026-fb.jpg
ORGANIZER;CN="Ayuntamiento de Montej%C3%ADcar":MAILTO:Montejicarmedieval@gmail.com
GEO:37.5721931;-3.5041358
END:VEVENT
BEGIN:VEVENT
DTSTART;TZID=Europe/Madrid:20260626T000000
DTEND;TZID=Europe/Madrid:20260629T235959
DTSTAMP:20260420T073128
CREATED:20260210T194112Z
LAST-MODIFIED:20260323T121058Z
UID:10003181-1782432000-1782777599@demercadosmedievales.info
SUMMARY:Mercado Medieval de Tineo 2026 | Asturias
DESCRIPTION:Mercado Medieval de Tineo del 26 al 28 de junio de 2026 con artesanía\, gastronomía y ambiente histórico en Asturias. \n\n\n\n\n\n\n\n \n\n\n\n \n\n\n\n \n\n\n\nTineo regresa al Medievo entre historia y tradición\n\n\n\nEl Mercado Medieval de Tineo volverá a ser uno de los grandes atractivos del inicio del verano asturiano. Durante tres días\, el casco histórico acogerá una amplia variedad de puestos de artesanía\, mercaderías tradicionales\, alimentación y gastronomía\, creando un recorrido lleno de color\, aromas y sabores. \n\n\n\nLa inauguración está prevista para el viernes 26 de junio a las 17:00 horas\, dando comienzo a un fin de semana pensado para disfrutar en familia y con amigos. El evento cuenta con periodicidad anual\, consolidándose como una cita esperada tanto por el público local como por visitantes. \n\n\n\nLa organización corre a cargo de Lucus Events\, que ofrece a los participantes servicios incluidos como agua\, electricidad y vigilancia disuasoria\, garantizando un desarrollo cómodo y seguro del mercado. \n\n\n\n \n\n\n\n\nEvento:  Mercado Medieval de Tineo\n\n\n\nFechas:  26 al 29 de junio del 2026\n\n\n\nHorario: \n\n\n\nUbicación:  en el  centro histórico de Tineo\, ASTURIAS\n\n\n\nInauguración:  el día 26 de junio posiblemente a las 17h\n\n\n\nPeriodicidad: Anual\n\n\n\nProductos permitidos: artesanía\, mercaderías varias\, alimentación\, gastronomía\n\n\n\nServicios incluidos: agua\, electricidad\, vigilancia disuasoria\n\n\n\nEmpresa : LUCUS EVENTS \n\nInscripciones solo por email lucusevents@gmail.com \n\n\n\n671 58 36 95 ( Solo para consultas o dudas )\n\n\n\n\n\n\n \n\n\n\nCartel del Mercado Medieval de Tineo 2025\n\n\n\nTineo\, el oro de Asturias\n\n\n\nTineo\, situado en el occidente de Asturias\, destaca por su casco histórico y su entorno natural. Se puede llegar fácilmente por carretera desde Oviedo y otras localidades asturianas\, lo que convierte al municipio en un destino ideal para una escapada cultural y medieval. \n\n\n\n\n\n \n\n\n\n \n\n\n\nMercados Medievales 2026: Fechas y Localidades Confirmadas\n\n\n\n\n\n\n\nEspaña cuenta con una de las agendas de ferias temáticas más ricas del mundo\, combinando gastronomía tradicional\, artesanía de autor y espectáculos en vivo. Si buscas un plan diferente para el fin de semana o quieres conocer el patrimonio de una forma única\, esta es tu guía definitiva. Leer más \n\n\n\nPara más información puedes consultar :\n\n\n\n\nPuedes Consultar en esté enlace las  Ferias y Mercados en España\n\n\n\nHaz clic en ESTE enlace :  Conoce los Organizadores de Mercados y Ferias\n\n\n\n\n¿Te apuntas? Síguenos y no te pierdas de nada.\n\n\n\n\nTelegram\n\n\n\nNewsletter\n\n\n\nWhatsApp\n\n\n\nInstagram\n\n\n\nPor supuesto en Facebook\n\n\n\n\nEn Resumen…
URL:https://demercadosmedievales.info/mercadomedieval/mercado-medieval-de-tineo-2026-asturias/
LOCATION:Valladolid
CATEGORIES:Mercado Medieval,Principado de Asturias
ATTACH;FMTTYPE=image/jpeg:https://demercadosmedievales.info/wp-content/uploads/2026/01/medieval_tineo_2026_fb-1.jpg
ORGANIZER;CN="Lucus Events":MAILTO:lucusevents@gmail.com
END:VEVENT
END:VCALENDAR