BEGIN:VCALENDAR
VERSION:2.0
PRODID:-//Mercados Medievales - ECPv6.15.20//NONSGML v1.0//EN
CALSCALE:GREGORIAN
METHOD:PUBLISH
X-ORIGINAL-URL:https://demercadosmedievales.info
X-WR-CALDESC:Eventos para Mercados Medievales
REFRESH-INTERVAL;VALUE=DURATION:PT1H
X-Robots-Tag:noindex
X-PUBLISHED-TTL:PT1H
BEGIN:VTIMEZONE
TZID:Europe/Madrid
BEGIN:DAYLIGHT
TZOFFSETFROM:+0100
TZOFFSETTO:+0200
TZNAME:CEST
DTSTART:20250330T010000
END:DAYLIGHT
BEGIN:STANDARD
TZOFFSETFROM:+0200
TZOFFSETTO:+0100
TZNAME:CET
DTSTART:20251026T010000
END:STANDARD
BEGIN:DAYLIGHT
TZOFFSETFROM:+0100
TZOFFSETTO:+0200
TZNAME:CEST
DTSTART:20260329T010000
END:DAYLIGHT
BEGIN:STANDARD
TZOFFSETFROM:+0200
TZOFFSETTO:+0100
TZNAME:CET
DTSTART:20261025T010000
END:STANDARD
BEGIN:DAYLIGHT
TZOFFSETFROM:+0100
TZOFFSETTO:+0200
TZNAME:CEST
DTSTART:20270328T010000
END:DAYLIGHT
BEGIN:STANDARD
TZOFFSETFROM:+0200
TZOFFSETTO:+0100
TZNAME:CET
DTSTART:20271031T010000
END:STANDARD
END:VTIMEZONE
BEGIN:VEVENT
DTSTART;TZID=Europe/Madrid:20260604T000000
DTEND;TZID=Europe/Madrid:20260607T235959
DTSTAMP:20260420T073245
CREATED:20260210T192621Z
LAST-MODIFIED:20260323T115752Z
UID:10003180-1780531200-1780876799@demercadosmedievales.info
SUMMARY:Mercado Medieval de Behobia\, Irún (Guipúzcoa) 2026
DESCRIPTION:Del 4 al 7 de junio de 2026\, las calles de Behobia\, en Irún (Guipúzcoa)\, se transformarán en un gran escenario histórico con la celebración del Mercado Medieval de Behobia\, una cita anual que combina tradición\, artesanía y gastronomía en pleno ambiente medieval. \n\n\n\n\n\n\n\n \n\n\n\nÍndice Behobia revive la Edad Media entre historia y tradiciónArtesanos y Mercederes\, Información básicaOrganizador del Mercado Medieval de BehobiaSobre Behobia\, un barrio con alma y tradición en IrúnMercados Medievales 2026: Fechas y Localidades ConfirmadasPara más información puedes consultar :¿Te apuntas? Síguenos y no te pierdas de nada.En Resumen…\n\n\n\n \n\n\n\nBehobia revive la Edad Media entre historia y tradición\n\n\n\nEl Mercado Medieval de Behobia invita a vecinos y visitantes a disfrutar de tres días llenos de vida\, color y aromas tradicionales. Durante el evento\, las calles del barrio se llenarán de puestos de artesanía\, mercaderías diversas\, alimentación y gastronomía\, creando un recorrido perfecto para pasear y descubrir productos únicos. \n\n\n\nLa inauguración oficial tendrá lugar el viernes 5 de junio\, dando inicio a un fin de semana pensado para todos los públicos. Además\, la organización pone a disposición de los participantes\, artesanos y mercaderes\, servicios de agua\, electricidad y vigilancia disuasoria\, garantizando una experiencia cómoda y segura. \n\n\n\n \n\n\n\nArtesanos y Mercederes\, Información básica\n\n\n\n\nEvento:  Mercado Medieval de Behobia\n\n\n\nFechas:  04 al 07 de junio del 2026\n\n\n\nHorario: \n\n\n\nUbicación: Calles de Behobia \, Irún\, GUIPUZCOA\n\n\n\nInauguración:  el día 04 de junio\n\n\n\nPeriodicidad: Anual\n\n\n\nProductos permitidos: artesanía\, mercaderías varias\, alimentación\, gastronomía\n\n\n\nServicios incluidos: agua\, electricidad\, vigilancia disuasoria\n\n\n\n\n \n\n\n\nOrganizador del Mercado Medieval de Behobia\n\n\n\n\nEmpresa : LUCUS EVENTS \n\nInscripciones solo por email lucusevents@gmail.com\n\n\n\n671 58 36 95 ( Solo para consultas o dudas )\n\n\n\n\n\n\n \n\n\n\nMercado Medieval de Behobia\n\n\n\n \n\n\n\nSobre Behobia\, un barrio con alma y tradición en Irún\n\n\n\nBehobia es un barrio de Irún\, en la provincia de Guipúzcoa\, situado junto a la frontera con Francia. Se puede llegar fácilmente por la AP-8 o la N-1\, así como en transporte público desde el centro de Irún y localidades cercanas. \n\n\n\n\n\n \n\n\n\n \n\n\n\nMercados Medievales 2026: Fechas y Localidades Confirmadas\n\n\n\n\n\n\n\nEspaña cuenta con una de las agendas de ferias temáticas más ricas del mundo\, combinando gastronomía tradicional\, artesanía de autor y espectáculos en vivo. Si buscas un plan diferente para el fin de semana o quieres conocer el patrimonio de una forma única\, esta es tu guía definitiva. Leer más \n\n\n\nPara más información puedes consultar :\n\n\n\n\nPuedes Consultar en esté enlace las  Ferias y Mercados en España\n\n\n\nHaz clic en ESTE enlace :  Conoce los Organizadores de Mercados y Ferias\n\n\n\n\n¿Te apuntas? Síguenos y no te pierdas de nada.\n\n\n\n\nTelegram\n\n\n\nNewsletter\n\n\n\nWhatsApp\n\n\n\nInstagram\n\n\n\nPor supuesto en Facebook\n\n\n\n\nEn Resumen…\n\n\n\n🏰✨ Mercado Medieval de Behobia ✨🏰 \n\n\n\n📅 5 al 7 de junio de 2026 \n\n\n\n📍 Behobia · Irún (Guipúzcoa) \n\n\n\nArtesanía\, gastronomía y tradición medieval llenan las calles durante todo el fin de semana. \n\n\n\n👇👇👇 \n\n\n\n\nMercado Medieval de Behobia\, Irún (Guipúzcoa) 2026
URL:https://demercadosmedievales.info/mercadomedieval/mercado-medieval-de-behobia-irun-guipuzcoa-2026/
LOCATION:Behobia\, Irún  (Guipúzcoa) (***)\, Behobia\, Irun\, Guipuzcoa\, España
CATEGORIES:Euskadi / Pais Vasco,Guipuzcoa,Mercado Medieval
ATTACH;FMTTYPE=image/jpeg:https://demercadosmedievales.info/wp-content/uploads/2026/01/medieval_behobia_fb-1.jpg
ORGANIZER;CN="Lucus Events":MAILTO:lucusevents@gmail.com
GEO:43.343125;-1.762103
X-APPLE-STRUCTURED-LOCATION;VALUE=URI;X-ADDRESS=Behobia Irún  (Guipúzcoa) (***) Behobia Irun Guipuzcoa España;X-APPLE-RADIUS=500;X-TITLE=Behobia:geo:-1.762103,43.343125
END:VEVENT
BEGIN:VEVENT
DTSTART;TZID=Europe/Madrid:20260605T000000
DTEND;TZID=Europe/Madrid:20260607T235959
DTSTAMP:20260420T073245
CREATED:20260328T102535Z
LAST-MODIFIED:20260328T130118Z
UID:10003370-1780617600-1780876799@demercadosmedievales.info
SUMMARY:Mercado Medieval Vejer de la Frontera 2026 "El Hechizo de la villa "
DESCRIPTION:El Mercado Medieval Vejer de la Frontera\, El Hechizo de la Villa\, se celebrará en uno de los pueblos más bonitos de Andalucía\, transformando sus calles en un auténtico escenario medieval. \n\n\n\n\n\n\n\n \n\n\n\nContenido  Mercado Medieval Vejer de la FronteraInformación para expositoresDescripción de la localidad y cómo llegar🚗 Cómo llegarMercados Medievales 2026: Fechas y Localidades ConfirmadasPara más información puedes consultar :¿Te apuntas? Síguenos y no te pierdas de nada.En Resumen\n\n\n\n \n\n\n\n Mercado Medieval Vejer de la Frontera\n\n\n\nEL HECHIZO DE LA VILLA \n\n\n\n \n\n\n\nInformación para expositores\n\n\n\n\nEvento : Mercado Medieval Vejer de la Frontera\n\n\n\n📍 Ubicación:\n\nPaseo de La Muralla\n\n\n\nPlaza de España\n\n\n\nCasco Antiguo\n\n\n\n\n\nMunicipio : Vejer de la Frontera (CADIZ)\n\n\n\n📅 Fechas: 5\, 6 y 7 de junio de 2026\n\n\n\n🎭 Temática: Mercado Medieval\n\n\n\nProductos que se pueden vender : \n\n🧵 Artesanía \n\n\n\n🍽️ Alimentación \n\n\n\n🎪 Productos tematizados\n\n\n\n\n\nActividades previstas :\n\n🎭 Animación medieval \n\n\n\n🎶 Música ambiental \n\n\n\n🎉 Espectáculos itinerantes \n\n\n\n👨‍👩‍👧 Actividades para todos los públicos\n\n\n\n\n\n👥 Organiza: Malik Culture Eventos \n\nContacto / WhatsApp: 657 665 994 – 676 928 928\n\n\n\n\n\n\n \n\n\n\nDescripción de la localidad y cómo llegar\n\n\n\nVejer de la Frontera\, en la provincia de Cádiz\, es uno de los pueblos blancos más emblemáticos de Andalucía. Además\, su casco histórico amurallado y sus calles estrechas lo convierten en el escenario perfecto para un mercado medieval. \n\n\n\n🚗 Cómo llegar\n\n\n\n\nDesde Cádiz: aproximadamente 45 minutos\n\n\n\nDesde Sevilla: alrededor de 2 horas\n\n\n\n\n\n\n \n\n\n\n\n\n\n\n \n\n\n\nMercado Medieval Vejer de la Frontera 2026 «El Hechizo de la villa « \n\n\n\n \n\n\n\nMercados Medievales 2026: Fechas y Localidades Confirmadas\n\n\n\n\n\n\n\nEspaña cuenta con una de las agendas de ferias temáticas más ricas del mundo\, combinando gastronomía tradicional\, artesanía de autor y espectáculos en vivo. Si buscas un plan diferente para el fin de semana o quieres conocer el patrimonio de una forma única\, esta es tu guía definitiva. Leer más \n\n\n\n \n\n\n\n \n\n\n\nPara más información puedes consultar :\n\n\n\n\nPuedes Consultar en esté enlace las  Ferias y Mercados en España\n\n\n\nHaz clic en ESTE enlace :  Conoce los Organizadores de Mercados y Ferias\n\n\n\n\n \n\n\n\n¿Te apuntas? Síguenos y no te pierdas de nada.\n\n\n\n\nTelegram\n\n\n\nNewsletter\n\n\n\nWhatsApp\n\n\n\nInstagram\n\n\n\nPor supuesto en Facebook\n\n\n\n\nEn Resumen\n\n\n\n🏰 Mercado Medieval Vejer de la Frontera  \n\n\n\n«El Hechizo de la villa «📅 5-7 junio 2026 \n\n\n\n✨ Artesanía\, espectáculos y ambiente único📍 Casco histórico \n\n\n\nMás información : https://demercadosmedievales.info/mercadomedieval/mercado-medieval-vejer-de-la-frontera/
URL:https://demercadosmedievales.info/mercadomedieval/mercado-medieval-vejer-de-la-frontera/
LOCATION:Vejer de La Frontera (Cádiz)\, Vejer de La Frontera\, Cádiz\, España
CATEGORIES:Andalucia,Cadiz,Mercado Medieval
ATTACH;FMTTYPE=image/jpeg:https://demercadosmedievales.info/wp-content/uploads/2026/03/medieval_vejer_fb.jpg
END:VEVENT
BEGIN:VEVENT
DTSTART;TZID=Europe/Madrid:20260605T000000
DTEND;TZID=Europe/Madrid:20260607T235959
DTSTAMP:20260420T073245
CREATED:20260401T185605Z
LAST-MODIFIED:20260401T213315Z
UID:10003389-1780617600-1780876799@demercadosmedievales.info
SUMMARY:Mercado Medieval de El Puerto de Santa María 2026 (Cádiz) Información para artesanos
DESCRIPTION:El Mercado Medieval de El Puerto de Santa María 2026 se celebrará los días 5 (tarde)\, 6 y 7 de junio en la Plaza del Castillo y alrededores\, transformando el centro histórico en un auténtico escenario de época.  \n\n\n\n\n\n\n\n \n\n\n\nContenido Mercado Medieval de El Puerto de Santa María 2026Información para artesanos Requisitos (Consultar con el organizador):El Puerto de Santa María\, Cádiz🗺️ Cómo llegar al Mercado Medieval de El Puerto de Santa María 2026🔗 Otros Mercados Medievales y temáticosMercados Medievales 2026: Fechas y Localidades ConfirmadasPara más información puedes consultar :¿Te apuntas? Síguenos y no te pierdas de nada.\n\n\n\n \n\n\n\nMercado Medieval de El Puerto de Santa María 2026\n\n\n\nEl Mercado Medieval de El Puerto de Santa María 2026 se celebrará los días 5 (tarde)\, 6 y 7 de junio en la Plaza del Castillo y alrededores\, ofreciendo una excelente oportunidad para artesanos y puestos de alimentación en una de las localidades más turísticas de la provincia de Cádiz. \n\n\n\nInformación para artesanos \n\n\n\n\nEvento: Mercado Medieval de El Puerto de Santa María 2026\n\n\n\nFechas:   5 (tarde)\, 6 y 7 de junio del 2026\n\n\n\nHorario: Durante todo el día\n\n\n\nUbicación:  Plaza del Castillo y alrededores \n\n\n\nMunicipio y Provincia : El Puerto de Santa María \, Cádiz\n\n\n\nInauguración: 05 de junio por la tarde\n\n\n\nPeriodicidad: Anual\n\n\n\nProductos permitidos: Artesanía\, alimentación\, gastronomía\n\n\n\nServicios incluidos: Animación\, seguridad\, luz\, publicidad\n\n\n\nOrganiza:TEMPUS AEVUS\n\ntempusaevus@gmail.com \n\n\n\n 622 712 382\n\n\n\n\n\n\nPrecio del metro lineal : \n\n\n\n\n\nLas personas interesadas en participar deberán presentar su solicitud indicando los siguientes datos: \n\n\n\n\nMercado que le interesa : Mercado Medieval de El Puerto de Santa María 2026\n\n\n\nNombre y apellidos\n\n\n\nDirección completa\n\n\n\nDNI o CIF\n\n\n\nNúmero de móvil\n\n\n\nCorreo electrónico\n\n\n\nArtículo a la venta\n\n\n\nMetros del puesto (incluyendo fondo)\n\n\n\nPotencia de luz necesaria\n\n\n\nMatrícula del vehículo\n\n\n\nObservaciones\n\n\n\n\nRequisitos (Consultar con el organizador):\n\n\n\n\nParada de Madera o hierro y vestuario de temática medieval\n\n\n\nAlta en la Seguridad Social y último recibo.\n\n\n\nSeguro de responsabilidad civil último recibo.\n\n\n\nPara alimentación deberá contar con:\n\n– Carné de manipulador de alimentos.\n\n\n\n– Registro sanitario de los productos.\n\n\n\n\n\nPara productos cosméticos\, jabones\, cremas\, etc.:\n\n– Declaración responsable de actividades de fabricación de productos cosméticos.\n\n\n\n\n\n\n \n\n\n\n\n\n\n\n \n\n\n\nEl Puerto de Santa María\, Cádiz\n\n\n\nEl Puerto de Santa María es una de las localidades más emblemáticas de la provincia de Cádiz\, situada en plena Costa de la Luz y a orillas de la Bahía de Cádiz. Con una rica historia vinculada al comercio marítimo y al descubrimiento de América\, la ciudad destaca por su patrimonio histórico\, sus bodegas y su ambiente turístico durante todo el año. \n\n\n\nSu casco histórico\, con monumentos como el Castillo de San Marcos y sus plazas llenas de vida\, ofrece el escenario perfecto para la celebración de mercados medievales y eventos culturales. Además\, su cercanía al mar\, su gastronomía y su gran afluencia de visitantes la convierten en un destino ideal tanto para el público como para los expositores. \n\n\n\n \n\n\n\n🗺️ Cómo llegar al Mercado Medieval de El Puerto de Santa María 2026\n\n\n\nLlegar a El Puerto de Santa María es sencillo gracias a sus buenas conexiones: \n\n\n\n🚗 En coche:Se accede fácilmente por la autopista AP-4 (Sevilla–Cádiz) y la A-4\, además de la carretera N-IV\, que conecta con otras localidades de la provincia. \n\n\n\n👉 Su ubicación estratégica y su atractivo turístico hacen de esta localidad un lugar ideal para eventos con gran afluencia de público. \n\n\n\n\n\n \n\n\n\n\n🏰 Mercado Medieval de El Puerto de Santa María 2026 ( Cádiz )\n\n\n\n\n \n\n\n\n\n\n\n\n \n\n\n\n🔗 Otros Mercados Medievales y temáticos\n\n\n\n\n👉 Consulta más mercados en Cádiz\n\n\n\n👉 Descubre ferias en Junio 2026👉 Encuentra eventos para artesanos en España\n\n\n\n\n \n\n\n\n\n\n\n\nMercados Medievales 2026: Fechas y Localidades Confirmadas\n\n\n\n\n\n\n\nEspaña cuenta con una de las agendas de ferias temáticas más ricas del mundo\, combinando gastronomía tradicional\, artesanía de autor y espectáculos en vivo. Si buscas un plan diferente para el fin de semana o quieres conocer el patrimonio de una forma única\, esta es tu guía definitiva. Leer más \n\n\n\n \n\n\n\nPara más información puedes consultar :\n\n\n\n\nPuedes Consultar en esté enlace las  Ferias y Mercados en España\n\n\n\nHaz clic en ESTE enlace :  Conoce los Organizadores de Mercados y Ferias\n\n\n\n\n \n\n\n\n¿Te apuntas? Síguenos y no te pierdas de nada.\n\n\n\n\nTelegram\n\n\n\nNewsletter\n\n\n\nWhatsApp\n\n\n\nInstagram\n\n\n\nPor supuesto en Facebook
URL:https://demercadosmedievales.info/mercadomedieval/mercado-medieval-de-el-puerto-de-santa-maria-2026/
LOCATION:El Puerto de Santa María (Cádiz) (***)\, El Puerto de Santa María\, Cádiz\, 11500\, España
CATEGORIES:Andalucia,Cadiz,eventos 2026,Mercado Medieval
ATTACH;FMTTYPE=image/jpeg:https://demercadosmedievales.info/wp-content/uploads/2026/04/medieval_puerto_santa_maria_fb.jpg
ORGANIZER;CN="Tempus Aevus":MAILTO:tempusaevus@gmail.com
GEO:36.6393281;-6.2588369
END:VEVENT
BEGIN:VEVENT
DTSTART;TZID=Europe/Madrid:20260605T000000
DTEND;TZID=Europe/Madrid:20260607T235959
DTSTAMP:20260420T073245
CREATED:20260409T172635Z
LAST-MODIFIED:20260410T120519Z
UID:10003408-1780617600-1780876799@demercadosmedievales.info
SUMMARY:Mercado medieval en Yeles 2026 (Toledo) - Cartel\, Programación
DESCRIPTION:El Mercado Medieval en Yeles 2026 se celebrará del 5 al 7 de junio de 2026 en el corazón de Yeles. Este evento promete transportar a vecinos y visitantes a la Edad Media con una cuidada ambientación histórica. \n\n\n\nUbicado en la Plaza de España y la Calle Real\, el mercado ofrecerá una experiencia única llena de tradición\, cultura y entretenimiento para todas las edades. \n\n\n\n\n\n\n\n \n\n\n\n\n\n\n\n¿Eres artesano o amante de las ferias temáticas? > Descubre el mayor calendario de mercados medievales 2026. Síguenos en nuestro Instagram oficial o conecta con nosotros vía WhatsApp para recibir novedades sobre plazos de inscripción y fechas de eventos. No olvides suscribirte a nuestra Newsletter para no perderte ninguna publicación. \n\n\n\n\n\n\n\n \n\n\n\nContenidoMercado medieval en Yeles 2026Eventos más próximos Mercados Medievales 2026: Calendario de Fechas y LocalidadesInformación clave sobre Mercados medievales y temáticosÚnete a la Red de Artesanos y Mercaderes\n\n\n\n \n\n\n\nMercado medieval en Yeles 2026\n\n\n\nDurante tres días\, las principales calles de Yeles se transformarán en un auténtico escenario medieval\, donde la artesanía\, la gastronomía y la animación se unirán para recrear el encanto de los antiguos mercados. \n\n\n\nSerá una oportunidad perfecta para disfrutar en familia\, descubrir productos únicos y vivir un ambiente festivo inolvidable. \n\n\n\nCartel oficial del mercado medieval en Yeles 2026 (Toledo) \n\n\n\n \n\n\n\n🛍️ Programación \n\n\n\nLa programación del Mercado medieval en Yeles 2026\, estará disponible en breve pero contará con una amplia oferta de: \n\n\n\n\n🛠️ Artesanía tradicional\n\n\n\n🍖 Gastronomía y productos típicos\n\n\n\n🛍️ Mercaderías variadas\n\n\n\n🎭 Animación y espectáculos medievales\n\n\n\n\nUn evento cultural y de ocio pensado para todos los públicos. \n\n\n\n \n\n\n\nHorario del mercado medieval \n\n\n\n\n📌 Viernes\, 5 de junio: 17:30 – 22:00 \n\n\n\n📌 Sábado\, 6 de junio: 11:00 – 14:15 y 17:30 – 22:00 \n\n\n\n📌 Domingo\, 7 de junio: 11:00 – 14:15 y 17:30 – 20:30\n\n\n\n\n \n\n\n\nUbicación  \n\n\n\n\nFechas 05 (tarde)  al 07 de junio 2026\n\n\n\nLugar: Plaza de España y Calle Real \n\n\n\nMunicipio: Yeles \n\n\n\nProvincia: Toledo\n\n\n\n\n \n\n\n\nProgramación del Mercado Medieval en Yeles 2026 \n\n\n\nPróximamente publicaremos el programa del mercado medieval \n\n\n\n \n\n\n\n📍 Sobre Yeles \n\n\n\nYeles es un municipio situado en la comarca de La Sagra\, al norte de la provincia de Toledo. Gracias a su ubicación estratégica\, cercana a Madrid y Toledo\, se ha consolidado como una localidad dinámica y en constante crecimiento. \n\n\n\nYeles combina la tradición castellano-manchega con un entorno moderno y acogedor\, convirtiéndose en un lugar ideal para la celebración de eventos culturales y festivos como el Mercado Medieval. Su Plaza de España y la emblemática Calle Real son puntos neurálgicos de la vida social del municipio y escenarios perfectos para recreaciones históricas y encuentros populares. \n\n\n\n \n\n\n\n🚗 Cómo llegar al Mercado medieval en Yeles 2026 \n\n\n\nEn coche \n\n\n\n\nDesde Madrid:Acceso por la A-42 (Madrid-Toledo) y carreteras comarcales. Duración aproximada: 35 minutos.\n\n\n\nDesde Toledo:Por la A-42 en dirección Madrid. Trayecto de unos 30 minutos.\n\n\n\nDesde Illescas y la comarca de La Sagra:Fácil acceso a través de la red de carreteras locales y autonómicas.\n\n\n\n\n\n\nEl Mercado Medieval de Yeles 2026 se celebrará en la Plaza de España y la Calle Real\, zonas céntricas y fácilmente accesibles a pie desde cualquier punto del municipio. \n\n\n\n \n\n\n\nJardines de la Plaza de España ubicación del Mercado Medieval en Yeles 2026\n\n\n\n \n\n\n\nEventos más próximos \n\n\n\nFestival Steampunk de Illescas 2026 (Toledo) Nuevo! Cartel y Programa24 abril - 26 abrilFeria de Abril en Yeles 2026 música flamenco y gastronomía (Toledo)25 abrilMercado Medieval de Toledo 2026 — Paseo Recaredo30 abril - 3 mayo\n\n\n\n \n\n\n\nMercados Medievales 2026: Calendario de Fechas y Localidades\n\n\n\n \n\n\n\nMercados Medievales en la RED\n\n\n\n¿Eres artesano o mercader y buscas nuevos eventos para exponer tus productos? España ofrece una de las agendas de ferias temáticas y mercados medievales más dinámicas de Europa. Estos eventos son el escaparate perfecto para la artesanía de autor\, combinando un gran flujo de visitantes con entornos de venta estratégicos. \n\n\n\nSi tu objetivo es ampliar tu ruta de mercados y asegurar tu participación en las mejores plazas\, esta es tu plataforma profesional de referencia. \n\n\n\n \n\n\n\nInformación clave sobre Mercados medievales y temáticos\n\n\n\nOptimizamos tu logística facilitándote el acceso a la información clave para el montaje y la solicitud de plazas: \n\n\n\n\nPróximas Ferias y Mercados en España: Consulta las localidades confirmadas y las fechas de los próximos eventos para planificar tu ruta anual.\n\n\n\nGuía de Organizadores de Mercados y Ferias: Accede al listado de empresas organizadoras para solicitar bases de participación\, precios de metros y condiciones de montaje.\n\n\n\n\n\n\n\n\n \n\n\n\nÚnete a la Red de Artesanos y Mercaderes\n\n\n\nLas plazas en los mejores mercados se agotan rápido. No te quedes fuera de las convocatorias más importantes del año. Únete a nuestros canales exclusivos para profesionales y recibe alertas sobre nuevas aperturas de plazos e inscripciones: \n\n\n\nComunidad y Visibilidad: Conecta con nosotros en Instagram\, Facebook y nuestra Newsletter profesional. \n\n\n\nAlertas Inmediatas: Únete a nuestro Telegram o WhatsApp para recibir avisos de última hora.
URL:https://demercadosmedievales.info/mercadomedieval/mercado-medieval-en-yeles-2026/
LOCATION:Yeles (Toledo)\, Yeles\, Toledo\, España
CATEGORIES:Cartel,Castilla La Mancha,eventos 2026,Mercado Medieval,Mercados tematicos,Programación,Toledo
ATTACH;FMTTYPE=image/jpeg:https://demercadosmedievales.info/wp-content/uploads/2026/04/mercado-medieval-yeles-2026-destacado.jpg
ORGANIZER;CN="Eventos Bayarri":MAILTO:gerencia.eventosbayarri@gmail.com
END:VEVENT
END:VCALENDAR